Workbook

Sheet Rekapitulácia
A2: Rekapitulácia rozpočtu | F2: Sadzby DPH
F3: A | G3: B
A4: Stavba Výmena podlahovej krytiny v Základnej škole Čičava | F4: 0.2 | G4: 0
A6: Názov objektu | B6: ZRN | C6: VRN | D6: HZS | E6: Kompl.čin. | F6: Ost. náklady | G6: Cena
A7: Objekt: Výmena podlahovej krytiny - ZŠ Čičava | B7: ='SO 14212'!I58-Rekapitulácia!D7 -> 0 | C7: ='Kryci_list 14212'!J26 -> 0 | D7: 0 | E7: ='Kryci_list 14212'!J17 -> 0 | F7: 0 | G7: =B7+C7+D7+E7+F7 -> 0 | K7: ='SO 14212'!K58 -> 0 | Q7: 30.126
A8: Celkom bez DPH | B8: =SUM(B7:B7) -> 0 | C8: =SUM(C7:C7) -> 0 | D8: =SUM(D7:D7) -> 0 | E8: =SUM(E7:E7) -> 0 | F8: =SUM(F7:F7) -> 0 | G8: =SUM(G7:G7)-SUM(Z7:Z7) -> 0
A9: DPH 20% z | B9: =G8-SUM(Rekapitulácia!K7:'Rekapitulácia'!K7)*1 -> 0 | G9: =ROUND(((ROUND(B9,2)*20)/100),2)*1 -> 0
A10: DPH 0% z | B10: =(G8-B9) -> 0 | G10: =ROUND(((ROUND(B10,2)*0)/100),2) -> 0
A11: Celkom v EUR | G11: =SUM(G8:G10) -> 0

Sheet Krycí list stavby
F1: Krycí list stavby | W1: 30.126
B2: Stavba Výmena podlahovej krytiny v Základnej škole Čičava
I3: Miesto:
I4: Ks:
B5: Zákazka: | F5: Spracoval: ing. Ján Halgaš | I5: Dňa | J5: 16.07.2019
B6: Odberateľ: Obec Čičava
B7: IČO: | G7: DIČ:
B8: Projektant:
B9: IČO: | G9: DIČ:
B10: Dodávateľ:
B11: IČO: | G11: DIČ:
B15: A | C15: ZRN | D15: Montáž | E15: Materiál | F15: ZRN spolu | G15: B | H15: Ďalšie náklady
B16: 1 | C16: HSV | D16: ='Kryci_list 14212'!D16 -> 0 | E16: ='Kryci_list 14212'!E16 -> 0 | F16: ='Kryci_list 14212'!F16 -> 0 | G16: 6 | J16: =Rekapitulácia!F8 -> 0
B17: 2 | C17: PSV | D17: ='Kryci_list 14212'!D17 -> 0 | E17: ='Kryci_list 14212'!E17 -> 0 | F17: ='Kryci_list 14212'!F17 -> 0 | G17: 7 | H17: Kompletačná činnosť | J17: =Rekapitulácia!E8 -> 0
B18: 3 | C18: MONT | D18: ='Kryci_list 14212'!D18 -> 0 | E18: ='Kryci_list 14212'!E18 -> 0 | F18: ='Kryci_list 14212'!F18 -> 0 | G18: 8 | H18: HZS | J18: =Rekapitulácia!D8 -> 0
B19: 4 | G19: 9
B20: 5 | C20: Spolu | F20: =SUM(F16:F19) -> 0 | G20: 10 | H20: Spolu | J20: =SUM(J16:J19) -> 0
B21: C | C21: VRN | G21: D | H21: VRN
B22: 11 | C22: Zariadenie staveniska | F22: ='Kryci_list 14212'!F22 -> 0 | G22: 16 | H22: Mimoriadne sťaž.podmienky | J22: ='Kryci_list 14212'!J22 -> 0
B23: 12 | C23: Územie so sťaž. podmienk. | F23: ='Kryci_list 14212'!F23 -> 0 | G23: 17 | H23: Horské oblasti | J23: ='Kryci_list 14212'!J23 -> 0
B24: 13 | C24: Prevádzkové vplyvy | F24: ='Kryci_list 14212'!F24 -> 0 | G24: 18 | H24: Mimostavenisková doprava | J24: ='Kryci_list 14212'!J24 -> 0
B25: 14 | G25: 19
B26: 15 | G26: 20 | H26: Spolu | J26: =SUM(J22:J25)+SUM(F22:F25) -> 0
C27: Projektant,rozpočtár | G27: E | H27: Celkové náklady
G28: 21 | H28: Súčet riadkov 5,10,15,20 | J28: =F20+J20+F26+J26 -> 0
G29: 22 | H29: DPH 20% z | I29: =Rekapitulácia!B9 -> 0 | J29: =ROUND(((ROUND(I29,2)*20)/100),2)*1 -> 0
G30: 23 | H30: DPH 0% z | I30: =Rekapitulácia!B10 -> 0 | J30: =ROUND(((ROUND(I30,2)*0)/100),2) -> 0
G31: 24 | H31: Spolu v EUR | J31: =SUM(J28:J30) -> 0
G32: F
D33: Odberateľ | H33: Dodávateľ

Sheet Kryci_list 14212
F1: Krycí list rozpočtu | W1: 30.126
B2: Stavba Výmena podlahovej krytiny v Základnej škole Čičava
B3: Objekt Objekt: Výmena podlahovej krytiny - ZŠ Čičava | I3: Miesto:
I4: Ks:
B5: Zákazka: | F5: Spracoval: ing. Ján Halgaš | I5: Dňa | J5: 16.07.2019
B6: Odberateľ: Obec Čičava
B7: IČO: | G7: DIČ:
B8: Projektant:
B9: IČO: | G9: DIČ:
B10: Dodávateľ:
B11: IČO: | G11: DIČ:
B15: A | C15: ZRN | D15: Montáž | E15: Materiál | F15: ZRN spolu | G15: B | H15: Ďalšie náklady
B16: 1 | C16: HSV | D16: ='Rekap 14212'!B13 -> 0 | E16: ='Rekap 14212'!C13 -> 0 | F16: ='Rekap 14212'!D13 -> 0 | G16: 6 | J16: 0
B17: 2 | C17: PSV | D17: ='Rekap 14212'!B19 -> 0 | E17: ='Rekap 14212'!C19 -> 0 | F17: ='Rekap 14212'!D19 -> 0 | G17: 7 | H17: Kompletačná činnosť | J17: ='SO 14212'!Z58 -> 0
B18: 3 | C18: MONT | G18: 8 | H18: HZS | J18: 0
B19: 4 | G19: 9
B20: 5 | C20: Spolu | F20: =SUM(F16:F19) -> 0 | G20: 10 | H20: Spolu | J20: =SUM(J16:J19) -> 0
B21: C | C21: VRN | G21: D | H21: VRN
B22: 11 | C22: Zariadenie staveniska | E22: 0% z [H+P+M] | F22: =((F16*U22*0)+(F17*V22*0)+(F18*W22*0))/100 -> 0 | G22: 16 | H22: Mimoriadne sťaž.podmienky | I22: 0% z [H+P+M] | J22: =((F16*X22*0)+(F17*Y22*0)+(F18*Z22*0))/100 -> 0 | U22: 1 | V22: 1 | W22: 1 | X22: 1 | Y22: 1 | Z22: 1
B23: 12 | C23: Územie so sťaž. podmienk. | E23: 0% z [H+P] | F23: =((F16*U23*0)+(F17*V23*0)+(F18*W23*0))/100 -> 0 | G23: 17 | H23: Horské oblasti | I23: 0% z [H+P+M] | J23: =((F16*X23*0)+(F17*Y23*0)+(F18*Z23*0))/100 -> 0 | U23: 1 | V23: 1 | W23: 0 | X23: 1 | Y23: 1 | Z23: 1
B24: 13 | C24: Prevádzkové vplyvy | E24: 0% z [H+P+M] | F24: =((F16*U24*0)+(F17*V24*0)+(F18*W24*0))/100 -> 0 | G24: 18 | H24: Mimostavenisková doprava | I24: 0% z [H+P] | J24: =((F16*X24*0)+(F17*Y24*0)+(F18*Z24*0))/100 -> 0 | U24: 1 | V24: 1 | W24: 1 | X24: 1 | Y24: 1 | Z24: 0
B25: 14 | G25: 19
B26: 15 | G26: 20 | H26: Spolu | J26: =SUM(J22:J25)+SUM(F22:F25) -> 0
C27: Projektant,rozpočtár | G27: E | H27: Celkové náklady
G28: 21 | H28: Súčet riadkov 5,10,15,20 | J28: =F20+J20+F26+J26 -> 0
G29: 22 | H29: DPH 20% z | I29: =J28-SUM('SO 14212'!K9:'SO 14212'!K57) -> 0 | J29: =ROUND(((ROUND(I29,2)*20)*1/100),2) -> 0
G30: 23 | H30: DPH 0% z | I30: =SUM('SO 14212'!K9:'SO 14212'!K57) -> 0 | J30: =ROUND(((ROUND(I30,2)*0)/100),2) -> 0
G31: 24 | H31: Spolu v EUR | J31: =SUM(J28:J30) -> 0
G32: F
D33: Odberateľ | G33: 26 | H33: Dodávateľ

Sheet Rekap 14212
A1: Odberateľ: Obec Čičava | E1: Spracoval: ing. Ján Halgaš | W1: 30.126
A2: Projektant: | E2: Ks:
A3: Dodávateľ: | E3: Dátum: 16.07.2019
A4: Stavba Výmena podlahovej krytiny v Základnej škole Čičava
A5: Objekt Objekt: Výmena podlahovej krytiny - ZŠ Čičava
A8: Prehľad rozpočtových nákladov
A9: Oddiel | B9: Montáž | C9: Materiál | D9: Spolu | E9: Hmotnosť (T) | F9: Suť (T)
A10: Práce HSV
A11: POVRCHOVÉ ÚPRAVY | B11: ='SO 14212'!L17 -> 0 | C11: ='SO 14212'!M17 -> 0 | D11: ='SO 14212'!I17 -> 0 | E11: ='SO 14212'!P17 -> 0 | F11: ='SO 14212'!S17 -> 0
A12: OSTATNÉ PRÁCE | B12: ='SO 14212'!L24 -> 0 | C12: ='SO 14212'!M24 -> 0 | D12: ='SO 14212'!I24 -> 0 | E12: ='SO 14212'!P24 -> 0 | F12: ='SO 14212'!S24 -> 0
A13: Práce HSV | B13: ='SO 14212'!L26 -> 0 | C13: ='SO 14212'!M26 -> 0 | D13: ='SO 14212'!I26 -> 0 | E13: ='SO 14212'!P26 -> 0 | F13: ='SO 14212'!S26 -> 0
A15: Práce PSV
A16: IZOLÁCIE PROTI VODE A VLHKOSTI | B16: ='SO 14212'!L35 -> 0 | C16: ='SO 14212'!M35 -> 0 | D16: ='SO 14212'!I35 -> 0 | E16: ='SO 14212'!P35 -> 0 | F16: ='SO 14212'!S35 -> 0.03
A17: PODLAHY VLYSOVÉ A PARKETOVÉ | B17: ='SO 14212'!L42 -> 0 | C17: ='SO 14212'!M42 -> 0 | D17: ='SO 14212'!I42 -> 0 | E17: ='SO 14212'!P42 -> 0 | F17: ='SO 14212'!S42 -> 0
A18: PODLAHY POVLAKOVÉ | B18: ='SO 14212'!L55 -> 0 | C18: ='SO 14212'!M55 -> 0 | D18: ='SO 14212'!I55 -> 0 | E18: ='SO 14212'!P55 -> 0 | F18: ='SO 14212'!S55 -> 0.02
A19: Práce PSV | B19: ='SO 14212'!L57 -> 0 | C19: ='SO 14212'!M57 -> 0 | D19: ='SO 14212'!I57 -> 0 | E19: ='SO 14212'!S57 -> 0.05 | F19: ='SO 14212'!V57 -> 0
A21: Celkom v EUR | B21: ='SO 14212'!L58 -> 0 | C21: ='SO 14212'!M58 -> 0 | D21: ='SO 14212'!I58 -> 0 | E21: ='SO 14212'!S58 -> 0.05 | F21: ='SO 14212'!V58 -> 0

Sheet SO 14212
B1: Odberateľ: Obec Čičava | I1: Spracoval: ing. Ján Halgaš | W1: 30.126
B2: Projektant: | I2: Ks:
B3: Dodávateľ: | I3: Dátum: 16.07.2019
B4: Zákazka Výmena podlahovej krytiny v Základnej škole Čičava
B5: Objekt Objekt: Výmena podlahovej krytiny - ZŠ Čičava
B7: Prehľad rozpočtových nákladov
A8: Por.č. | B8: Cenník | C8: Kód položky | D8: Názov | E8: Mj | F8: Množstvo | G8: Cena/Mj | H8: Materiál | I8: Cena celkom | P8: Hmotnosť/Mj | S8: Hmotnosť | V8: Suť
D9: Práce HSV
D10: POVRCHOVÉ ÚPRAVY
B11: R/RE | C11: 585520001900 | D11: Penetračný náter na báze disperzie BAUMIT Grund alebo ekvivalent, pre samonivelizačné potery a sierky, 25 kg | E11: kg | F11: 8.069 | I11: =ROUND(F11*(G11+H11),2) -> 0 | J11: =ROUND(F11*(N11),2) -> 29.45 | K11: =ROUND(F11*(O11),2) -> 0 | L11: =ROUND(F11*(G11),2) -> 0 | N11: 3.65 | Z11: 0
B12: R/RE | C12: 585520002000 | D12: Penetračný náter s plnivom z kremičitého piesku BAUMIT SuperGrund alebo ekvivalent, pre samonivelizačné potery a sierky, 5 kg | E12: kg | F12: 8.069 | I12: =ROUND(F12*(G12+H12),2) -> 0 | J12: =ROUND(F12*(N12),2) -> 62.29 | K12: =ROUND(F12*(O12),2) -> 0 | L12: =ROUND(F12*(G12),2) -> 0 | N12: 7.72 | Z12: 0
B13: R/RE | C13: 632001051 | D13: Zhotovenie jednonásobného penetračného náteru pre potery a stierky | E13: m2 | F13: 52.225 | I13: =ROUND(F13*(G13+H13),2) -> 0 | J13: =ROUND(F13*(N13),2) -> 27.68 | K13: =ROUND(F13*(O13),2) -> 0 | L13: =ROUND(F13*(G13),2) -> 0 | N13: 0.53 | Z13: 0
B14: R/RE | C14: 632452213 | D14: Cementový poter, pevnosti v tlaku 20 MPa, hr. 20 mm | E14: m2 | F14: 52.225 | I14: =ROUND(F14*(G14+H14),2) -> 0 | J14: =ROUND(F14*(N14),2) -> 653.86 | K14: =ROUND(F14*(O14),2) -> 0 | L14: =ROUND(F14*(G14),2) -> 0 | N14: 12.52 | Z14: 0
B15: R/RE | C15: 632452219 | D15: Cementový poter, pevnosti v tlaku 20 MPa, hr. 50 mm | E15: m2 | F15: 52.225 | I15: =ROUND(F15*(G15+H15),2) -> 0 | J15: =ROUND(F15*(N15),2) -> 1280.03 | K15: =ROUND(F15*(O15),2) -> 0 | L15: =ROUND(F15*(G15),2) -> 0 | N15: 24.51 | Z15: 0
B16: R/RE | C16: 632452613 | D16: Cementová samonivelizačná stierka, pevnosti v tlaku 20 MPa, hr. 5 mm | E16: m2 | F16: 52.225 | I16: =ROUND(F16*(G16+H16),2) -> 0 | J16: =ROUND(F16*(N16),2) -> 589.1 | K16: =ROUND(F16*(O16),2) -> 0 | L16: =ROUND(F16*(G16),2) -> 0 | N16: 11.28 | Z16: 0
D17: POVRCHOVÉ ÚPRAVY | H17: =ROUND((SUM(M10:M16))/1,2) -> 0 | I17: =ROUND((SUM(I10:I16))/1,2) -> 0 | L17: =ROUND((SUM(L10:L16))/1,2) -> 0 | M17: =ROUND((SUM(M10:M16))/1,2) -> 0 | P17: =ROUND((SUM(P10:P16))/1,2) -> 0 | S17: =ROUND((SUM(S10:S16))/1,2) -> 0
D19: OSTATNÉ PRÁCE
B20: 13/B 1 | C20: 965043341 | D20: Búranie podkladov pod dlažby, liatych dlažieb a mazanín,betón s poterom,teracom hr.do 100 mm, plochy nad 4 m2 -2,20000t | E20: m3 | F20: 3.656 | I20: =ROUND(F20*(G20+H20),2) -> 0 | J20: =ROUND(F20*(N20),2) -> 283.3 | K20: =ROUND(F20*(O20),2) -> 0 | L20: =ROUND(F20*(G20),2) -> 0 | N20: 77.49 | Z20: 0
B21: 13/B 1 | C21: 979081111 | D21: Odvoz sutiny a vybúraných hmôt na skládku do 1 km | E21: t | F21: 9.691 | I21: =ROUND(F21*(G21+H21),2) -> 0 | J21: =ROUND(F21*(N21),2) -> 140.23 | K21: =ROUND(F21*(O21),2) -> 0 | L21: =ROUND(F21*(G21),2) -> 0 | N21: 14.47 | Z21: 0
B22: 13/B 1 | C22: 979081121 | D22: Odvoz sutiny a vybúraných hmôt na skládku za každý ďalší 1 km | E22: t | F22: 339.185 | I22: =ROUND(F22*(G22+H22),2) -> 0 | J22: =ROUND(F22*(N22),2) -> 169.59 | K22: =ROUND(F22*(O22),2) -> 0 | L22: =ROUND(F22*(G22),2) -> 0 | N22: 0.5 | Z22: 0
B23: 13/B 1 | C23: 979089012 | D23: Poplatok za skladovanie - betón, tehly, dlaždice (17 01 ), ostatné | E23: t | F23: 9.691 | I23: =ROUND(F23*(G23+H23),2) -> 0 | J23: =ROUND(F23*(N23),2) -> 234.52 | K23: =ROUND(F23*(O23),2) -> 0 | L23: =ROUND(F23*(G23),2) -> 0 | N23: 24.2 | Z23: 0
D24: OSTATNÉ PRÁCE | H24: =ROUND((SUM(M19:M23))/1,2) -> 0 | I24: =ROUND((SUM(I19:I23))/1,2) -> 0 | L24: =ROUND((SUM(L19:L23))/1,2) -> 0 | M24: =ROUND((SUM(M19:M23))/1,2) -> 0 | P24: =ROUND((SUM(P19:P23))/1,2) -> 0 | S24: =ROUND((SUM(S19:S23))/1,2) -> 0
D26: Práce HSV | H26: =ROUND((SUM(M9:M25))/2,2) -> 0 | I26: =ROUND((SUM(I9:I25))/2,2) -> 0 | L26: =ROUND((SUM(L9:L25))/2,2) -> 0 | M26: =ROUND((SUM(M9:M25))/2,2) -> 0 | P26: =ROUND((SUM(P9:P25))/2,2) -> 0 | S26: =ROUND((SUM(S9:S25))/2,2) -> 0
D28: Práce PSV
D29: IZOLÁCIE PROTI VODE A VLHKOSTI
B30: 711/A 1 | C30: 711111001 | D30: Zhotovenie izolácie proti zemnej vlhkosti vodorovná náterom penetračným za studena | E30: m2 | F30: 52.225 | I30: =ROUND(F30*(G30+H30),2) -> 0 | J30: =ROUND(F30*(N30),2) -> 11.49 | K30: =ROUND(F30*(O30),2) -> 0 | L30: =ROUND(F30*(G30),2) -> 0 | N30: 0.22 | Z30: 0
B31: 711/A 1 | C31: 711141559 | D31: Zhotovenie izolácie proti zemnej vlhkosti a tlakovej vode vodorovná NAIP pritavením | E31: m2 | F31: 52.225 | I31: =ROUND(F31*(G31+H31),2) -> 0 | J31: =ROUND(F31*(N31),2) -> 178.61 | K31: =ROUND(F31*(O31),2) -> 0 | L31: =ROUND(F31*(G31),2) -> 0 | N31: 3.42 | P31: 0.00054 | R31: 0.00054 | S31: =ROUND(F31*(R31),3) -> 0.028 | Z31: 0
B32: 711/A 1 | C32: 998711201 | D32: Presun hmôt pre izoláciu proti vode v objektoch výšky do 6 m | E32: % | F32: 0.03 | I32: =ROUND(F32*(G32+H32),2) -> 0 | J32: =ROUND(F32*(N32),2) -> 0.14 | K32: =ROUND(F32*(O32),2) -> 0 | L32: =ROUND(F32*(G32),2) -> 0 | N32: 4.7520001 | Z32: 0
B33: R/RE | C33: 246170000900 | D33: Lak asfaltový ALP-PENETRAL SN alebo ekvivalent v sudoch | E33: t | F33: 0.016 | I33: =ROUND(F33*(G33+H33),2) -> 0 | J33: =ROUND(F33*(N33),2) -> 34.11 | K33: =ROUND(F33*(O33),2) -> 0 | L33: =ROUND(F33*(G33),2) -> 0 | N33: 2132.14 | Z33: 0
B34: R/RE | C34: 628310001000 | D34: Pás asfaltový HYDROBIT V 60 S 35 pre spodné vrstvy hydroizolačných systémov, ICOPAL alebo ekvivalent | E34: m2 | F34: 60.059 | I34: =ROUND(F34*(G34+H34),2) -> 0 | J34: =ROUND(F34*(N34),2) -> 208.4 | K34: =ROUND(F34*(O34),2) -> 0 | L34: =ROUND(F34*(G34),2) -> 0 | N34: 3.47 | Z34: 0
D35: IZOLÁCIE PROTI VODE A VLHKOSTI | H35: =ROUND((SUM(M29:M34))/1,2) -> 0 | I35: =ROUND((SUM(I29:I34))/1,2) -> 0 | L35: =ROUND((SUM(L29:L34))/1,2) -> 0 | M35: =ROUND((SUM(M29:M34))/1,2) -> 0 | P35: =ROUND((SUM(P29:P34))/1,2) -> 0 | S35: =ROUND((SUM(S29:S34))/1,2) -> 0.03
D37: PODLAHY VLYSOVÉ A PARKETOVÉ
B38: 775/A 2 | C38: 775511800 | D38: Demontáž lepených drevených podláh parketových, vrátane líšt -0,0150t | E38: m2 | F38: 52.225 | I38: =ROUND(F38*(G38+H38),2) -> 0 | J38: =ROUND(F38*(N38),2) -> 130.04 | K38: =ROUND(F38*(O38),2) -> 0 | L38: =ROUND(F38*(G38),2) -> 0 | N38: 2.49 | Z38: 0
B39: 775/A 2 | C39: 775521800 | D39: Demontáž drevených podláh vlysových, mozaikových, parketových, pribíjaných, vrátane líšt -0,0150t | E39: m2 | F39: 52.225 | I39: =ROUND(F39*(G39+H39),2) -> 0 | J39: =ROUND(F39*(N39),2) -> 156.15 | K39: =ROUND(F39*(O39),2) -> 0 | L39: =ROUND(F39*(G39),2) -> 0 | N39: 2.99 | Z39: 0
B40: R/RE | C40: 611990001400 | D40: Lišta prechodová | E40: m | F40: 0.909 | I40: =ROUND(F40*(G40+H40),2) -> 0 | J40: =ROUND(F40*(N40),2) -> 4.09 | K40: =ROUND(F40*(O40),2) -> 0 | L40: =ROUND(F40*(G40),2) -> 0 | N40: 4.5 | Z40: 0
B41: R/RE | C41: 775413240 | D41: Montáž prechodovej lišty | E41: m | F41: 0.9 | I41: =ROUND(F41*(G41+H41),2) -> 0 | J41: =ROUND(F41*(N41),2) -> 3.82 | K41: =ROUND(F41*(O41),2) -> 0 | L41: =ROUND(F41*(G41),2) -> 0 | N41: 4.24 | Z41: 0
D42: PODLAHY VLYSOVÉ A PARKETOVÉ | H42: =ROUND((SUM(M37:M41))/1,2) -> 0 | I42: =ROUND((SUM(I37:I41))/1,2) -> 0 | L42: =ROUND((SUM(L37:L41))/1,2) -> 0 | M42: =ROUND((SUM(M37:M41))/1,2) -> 0 | P42: =ROUND((SUM(P37:P41))/1,2) -> 0 | S42: =ROUND((SUM(S37:S41))/1,2) -> 0
D44: PODLAHY POVLAKOVÉ
B45: 775/A 2 | C45: 776541100 | D45: Lepenie povlakových podláh PVC heterogénnych v pásoch | E45: m2 | F45: 52.225 | I45: =ROUND(F45*(G45+H45),2) -> 0 | J45: =ROUND(F45*(N45),2) -> 456.97 | K45: =ROUND(F45*(O45),2) -> 0 | L45: =ROUND(F45*(G45),2) -> 0 | N45: 8.75 | P45: 0.00039 | R45: 0.00039 | S45: =ROUND(F45*(R45),3) -> 0.02 | Z45: 0
B46: 775/A 2 | C46: 998776201 | D46: Presun hmôt pre podlahy povlakové v objektoch výšky do 6 m | E46: % | F46: 0.35 | I46: =ROUND(F46*(G46+H46),2) -> 0 | J46: =ROUND(F46*(N46),2) -> 7.59 | K46: =ROUND(F46*(O46),2) -> 0 | L46: =ROUND(F46*(G46),2) -> 0 | N46: 21.681 | Z46: 0
B47: 775/B 2 | C47: 776401800 | D47: Demontáž soklíkov alebo líšt | E47: m | F47: 28.9 | I47: =ROUND(F47*(G47+H47),2) -> 0 | J47: =ROUND(F47*(N47),2) -> 11.56 | K47: =ROUND(F47*(O47),2) -> 0 | L47: =ROUND(F47*(G47),2) -> 0 | N47: 0.4 | Z47: 0
B48: 775/B 2 | C48: 776511810 | D48: Odstránenie povlakových podláh z nášľapnej plochy lepených bez podložky, -0,00100t | E48: m2 | F48: 52.225 | I48: =ROUND(F48*(G48+H48),2) -> 0 | J48: =ROUND(F48*(N48),2) -> 112.28 | K48: =ROUND(F48*(O48),2) -> 0 | L48: =ROUND(F48*(G48),2) -> 0 | N48: 2.15 | Z48: 0
B49: R/RE | C49: 283410017900 | D49: Soklová PVC lišta | E49: m | F49: 29.478 | I49: =ROUND(F49*(G49+H49),2) -> 0 | J49: =ROUND(F49*(N49),2) -> 56.89 | K49: =ROUND(F49*(O49),2) -> 0 | L49: =ROUND(F49*(G49),2) -> 0 | N49: 1.93 | Z49: 0
B50: R/RE | C50: 284110000100 | D50: Podlaha PVC, hrúbka 2 mm, 0,8 mm nášlap, Topclean PUR alebo ekvivalent | E50: m2 | F50: 53.792 | I50: =ROUND(F50*(G50+H50),2) -> 0 | J50: =ROUND(F50*(N50),2) -> 946.74 | K50: =ROUND(F50*(O50),2) -> 0 | L50: =ROUND(F50*(G50),2) -> 0 | N50: 17.6 | Z50: 0
B51: R/RE | C51: 776420010 | D51: Lepenie podlahových soklov z PVC | E51: m | F51: 28.9 | I51: =ROUND(F51*(G51+H51),2) -> 0 | J51: =ROUND(F51*(N51),2) -> 63 | K51: =ROUND(F51*(O51),2) -> 0 | L51: =ROUND(F51*(G51),2) -> 0 | N51: 2.18 | Z51: 0
B52: R/RE | C52: 776990105 | D52: Vysávanie podkladu pred kladením povlakovýck podláh | E52: m2 | F52: 52.225 | I52: =ROUND(F52*(G52+H52),2) -> 0 | J52: =ROUND(F52*(N52),2) -> 55.36 | K52: =ROUND(F52*(O52),2) -> 0 | L52: =ROUND(F52*(G52),2) -> 0 | N52: 1.06 | Z52: 0
B53: R/RE | C53: 776990110 | D53: Penetrovanie podkladu pred kladením povlakových podláh | E53: m2 | F53: 52.225 | I53: =ROUND(F53*(G53+H53),2) -> 0 | J53: =ROUND(F53*(N53),2) -> 38.65 | K53: =ROUND(F53*(O53),2) -> 0 | L53: =ROUND(F53*(G53),2) -> 0 | N53: 0.74 | Z53: 0
B54: R/RE | C54: 776992200 | D54: Príprava podkladu prebrúsením strojne brúskou na betón | E54: m2 | F54: 52.225 | I54: =ROUND(F54*(G54+H54),2) -> 0 | J54: =ROUND(F54*(N54),2) -> 230.31 | K54: =ROUND(F54*(O54),2) -> 0 | L54: =ROUND(F54*(G54),2) -> 0 | N54: 4.41 | Z54: 0
D55: PODLAHY POVLAKOVÉ | I55: =ROUND((SUM(I44:I54))/1,2) -> 0 | L55: =ROUND((SUM(L44:L54))/1,2) -> 0 | M55: =ROUND((SUM(M44:M54))/1,2) -> 0 | S55: =ROUND((SUM(S44:S54))/1,2) -> 0.02 | V55: =ROUND((SUM(V44:V54))/1,2) -> 0
D57: Práce PSV | H57: =ROUND((SUM(M28:M56))/2,2) -> 0 | I57: =ROUND((SUM(I28:I56))/2,2) -> 0 | L57: =ROUND((SUM(L28:L56))/2,2) -> 0 | M57: =ROUND((SUM(M28:M56))/2,2) -> 0 | S57: =ROUND((SUM(S28:S56))/2,2) -> 0.05 | V57: =ROUND((SUM(V28:V56))/2,2) -> 0
D58: Celkom v EUR | H58: =ROUND((SUM(M9:M57))/3,2) -> 0 | I58: =ROUND((SUM(I9:I57))/3,2) -> 0 | K58: =ROUND((SUM(K9:K57))/3,2) -> 0 | L58: =ROUND((SUM(L9:L57))/3,2) -> 0 | M58: =ROUND((SUM(M9:M57))/3,2) -> 0 | S58: =ROUND((SUM(S9:S57))/3,2) -> 0.05 | V58: =ROUND((SUM(V9:V57))/3,2) -> 0 | Z58: =(SUM(Z9:Z57)) -> 0
