Workbook

Sheet Rekapitulácia
A2: Rekapitulácia rozpočtu | F2: Sadzby DPH
A3: Stavba Stojiska na separovanie odpadu v obci Čičava | F3: A | G3: B
F4: 0.2 | G4: 0
A6: Názov objektu | B6: ZRN | C6: VRN % | D6: HZS | E6: Kompl.čin. | F6: Ost. náklady | G6: Cena
A7: Stojisko č.1 | B7: ='SO 15314'!I186-Rekapitulácia!D7 -> 0 | C7: ='SO 15314'!P25 -> 0 | D7: 0 | E7: ='SO 15314'!P16 -> 0 | F7: 0 | G7: =B7+C7+D7+E7+F7 -> 0 | K7: ='SO 15314'!K186 -> 0 | Q7: 30.126
A8: Stojisko č.2 | B8: ='SO 15315'!I186-Rekapitulácia!D8 -> 0 | C8: ='SO 15315'!P25 -> 0 | D8: 0 | E8: ='SO 15315'!P16 -> 0 | F8: 0 | G8: =B8+C8+D8+E8+F8 -> 0 | K8: ='SO 15315'!K186 -> 0 | Q8: 30.126
A9: Stojisko č.3 | B9: ='SO 15316'!I186-Rekapitulácia!D9 -> 0 | C9: ='SO 15316'!P25 -> 0 | D9: 0 | E9: ='SO 15316'!P16 -> 0 | F9: 0 | G9: =B9+C9+D9+E9+F9 -> 0 | K9: ='SO 15316'!K186 -> 0 | Q9: 30.126
A10: Celkom bez DPH | B10: =SUM(B7:B9) -> 0 | C10: =SUM(C7:C9) -> 0 | D10: =SUM(D7:D9) -> 0 | E10: =SUM(E7:E9) -> 0 | F10: =SUM(F7:F9) -> 0 | G10: =SUM(G7:G9)-SUM(Z7:Z9) -> 0
A11: DPH 20% z | B11: =G10-SUM(Rekapitulácia!K7:'Rekapitulácia'!K9)*1 -> 0 | G11: =ROUND(((ROUND(B11,2)*20)/100),2)*1 -> 0
A12: DPH 0% z | B12: =(G10-B11) -> 0 | G12: =ROUND(((ROUND(B12,2)*0)/100),2) -> 0
A13: Celkom v EUR | G13: =SUM(G10:G12) -> 0

Sheet Krycí list stavby
W1: 30.126
B2: Krycí list stavby
B3: Stavba Stojiska na separovanie odpadu v obci Čičava
F4: Miesto:
F5: Ks:
B6: Zákazka: | D6: Spracoval: Ing. Ján Halgaš | F6: Dňa | G6: 12. 5. 2021
B7: Odberateľ: Obec Čičava
B8: IČO: | F8: DIČ:
B9: Projektant: D. D. - ARCH s. r. o.
B10: IČO: | F10: DIČ:
B11: Dodávateľ:
B12: IČO: | F12: DIČ:
B14: ZRN | C14: Montáž | D14: Materiál | E14: ZRN spolu | F14: Ďalšie náklady
B15: HSV | C15: ='SO 15314'!C15+'SO 15315'!C15+'SO 15316'!C15 -> 0 | D15: ='SO 15314'!D15+'SO 15315'!D15+'SO 15316'!D15 -> 0 | E15: ='SO 15314'!E15+'SO 15315'!E15+'SO 15316'!E15 -> 0 | F15: Ostatné náklady | I15: =Rekapitulácia!F10 -> 0
B16: PSV | C16: ='SO 15314'!C16+'SO 15315'!C16+'SO 15316'!C16 -> 0 | D16: ='SO 15314'!D16+'SO 15315'!D16+'SO 15316'!D16 -> 0 | E16: ='SO 15314'!E16+'SO 15315'!E16+'SO 15316'!E16 -> 0 | F16: Komplet. činnosť | I16: =Rekapitulácia!E10 -> 0
B17: MONT | C17: ='SO 15314'!C17+'SO 15315'!C17+'SO 15316'!C17 -> 0 | D17: ='SO 15314'!D17+'SO 15315'!D17+'SO 15316'!D17 -> 0 | E17: ='SO 15314'!E17+'SO 15315'!E17+'SO 15316'!E17 -> 0 | F17: HZS | I17: =Rekapitulácia!D10 -> 0
B18: VRN | C18: ='SO 15314'!C18+'SO 15315'!C18+'SO 15316'!C18 -> 0 | D18: ='SO 15314'!D18+'SO 15315'!D18+'SO 15316'!D18 -> 0 | E18: ='SO 15314'!E18+'SO 15315'!E18+'SO 15316'!E18 -> 0
B19: Spolu | E19: =SUM(E15:E18) -> 0 | F19: Spolu | I19: =SUM(I15:I18) -> 0
B20: VRN | F20: VRN
B21: Zariadenie staveniska | E21: ='SO 15314'!E21+'SO 15315'!E21+'SO 15316'!E21 -> 0 | F21: Mimoriadne sťaž.podmienky | I21: ='SO 15314'!P21+'SO 15315'!P21+'SO 15316'!P21 -> 0
B22: Územie so sťaž. podmienk. | E22: ='SO 15314'!E22+'SO 15315'!E22+'SO 15316'!E22 -> 0 | F22: Horské oblasti | I22: ='SO 15314'!P22+'SO 15315'!P22+'SO 15316'!P22 -> 0
B23: Prevádzkové vplyvy | E23: ='SO 15314'!E23+'SO 15315'!E23+'SO 15316'!E23 -> 0 | F23: Mimostavenisková doprava | I23: ='SO 15314'!P23+'SO 15315'!P23+'SO 15316'!P23 -> 0
F25: Spolu | I25: =SUM(E21:E24)+SUM(I21:I24) -> 0
B26: Projektant,rozpočtár | F26: Celkové náklady
F27: Celkové náklady bez DPH | I27: =E19+I19+I25 -> 0
F28: DPH 20% z | H28: =Rekapitulácia!B11 -> 0 | I28: =ROUND(((ROUND(H28,2)*20)/100),2)*1 -> 0
F29: DPH 0% z | H29: =Rekapitulácia!B12 -> 0 | I29: =ROUND(((ROUND(H29,2)*0)/100),2) -> 0
F30: Spolu v EUR | I30: =SUM(I27:I29) -> 0
B32: Odberateľ | E32: Dodávateľ

Sheet SO 15314
B1: Krycí list rozpočtu | E1: Rekapitulácia rozpočtu | H1: Rozpočet | W1: 30.126
B2: Krycí list rozpočtu
B3: Stavba Stojiska na separovanie odpadu v obci Čičava
B4: Objekt Stojisko č.1 | F4: Miesto:
F5: Ks:
B6: Zákazka: | D6: Spracoval: Ing. Ján Halgaš | F6: Dňa | G6: 12. 5. 2021
B7: Odberateľ: Obec Čičava
B8: IČO: | F8: DIČ:
B9: Projektant: D. D. - ARCH s. r. o.
B10: IČO: | F10: DIČ:
B11: Dodávateľ:
B12: IČO: | F12: DIČ:
B14: ZRN | C14: Montáž | D14: Materiál | E14: ZRN spolu | F14: Ďalšie náklady
B15: HSV | C15: ='SO 15314'!E61 -> 0 | D15: ='SO 15314'!F61 -> 0 | E15: ='SO 15314'!G61 -> 0 | P15: 0
B16: PSV | C16: ='SO 15314'!E69 -> 0 | D16: ='SO 15314'!F69 -> 0 | E16: ='SO 15314'!G69 -> 0 | F16: Komplet. činnosť | P16: =(SUM(Z86:Z185)) -> 0
B17: MONT | F17: HZS | P17: 0
B18: VRN
B19: Spolu | E19: =SUM(E15:E18) -> 0 | F19: Spolu | P19: =SUM(P15:P18) -> 0
B20: VRN | F20: VRN
B21: Zariadenie staveniska 0% | E21: =((E15*U22*0)+(E16*V22*0)+(E17*W22*0))/100 -> 0 | F21: Mimoriadne sťaž.podmienky 0% | P21: =((E15*X22*0)+(E16*Y22*0)+(E17*Z22*0))/100 -> 0
B22: Územie so sťaž. podmienk. 0% | E22: =((E15*U23*0)+(E16*V23*0)+(E17*W23*0))/100 -> 0 | F22: Horské oblasti 0% | P22: =((E15*X23*0)+(E16*Y23*0)+(E17*Z23*0))/100 -> 0 | U22: 1 | V22: 1 | W22: 1 | X22: 1 | Y22: 1 | Z22: 1
B23: Prevádzkové vplyvy 0% | E23: =((E15*U24*0)+(E16*V24*0)+(E17*W24*0))/100 -> 0 | F23: Mimostavenisková doprava 0% | P23: =((E15*X24*0)+(E16*Y24*0)+(E17*Z24*0))/100 -> 0 | U23: 1 | V23: 1 | W23: 0 | X23: 1 | Y23: 1 | Z23: 1
U24: 1 | V24: 1 | W24: 1 | X24: 1 | Y24: 1 | Z24: 0
F25: Spolu | P25: =SUM(E21:E24)+SUM(P21:P24) -> 0
B26: Projektant,rozpočtár | F26: Celkové náklady
F27: Celkové náklady bez DPH | P27: =E19+P19+E25+P25 -> 0
F28: DPH 20% z | H28: =P27-SUM('SO 15314'!K86:'SO 15314'!K185) -> 0 | P28: =ROUND(((ROUND(H28,2)*20)*1/100),2) -> 0
F29: DPH 0% z | H29: =SUM('SO 15314'!K86:'SO 15314'!K185) -> 0 | P29: =ROUND(((ROUND(H29,2)*0)/100),2) -> 0
F30: Spolu v EUR | P30: =SUM(P27:P29) -> 0
B32: Odberateľ | E32: Dodávateľ
B44: Rekapitulácia rozpočtu
B46: Odberateľ: Obec Čičava | F46: Spracoval: Ing. Ján Halgaš
B47: Projektant: D. D. - ARCH s. r. o. | F47: Ks:
B48: Dodávateľ: | F48: Dátum: 12. 5. 2021
B49: Stavba Stojiska na separovanie odpadu v obci Čičava
B50: Objekt Stojisko č.1
B53: Prehľad rozpočtových nákladov
B54: Oddiel | E54: Montáž | F54: Materiál | G54: Spolu | H54: Hmotnosť (T) | I54: Suť (T)
B55: Práce HSV
B56: ZEMNÉ PRÁCE | E56: ='SO 15314'!L97 -> 0 | F56: ='SO 15314'!M97 -> 0 | G56: ='SO 15314'!I97 -> 0 | H56: ='SO 15314'!S97 -> 0 | I56: ='SO 15314'!V97 -> 0
...

Sheet SO 15315
B1: Krycí list rozpočtu | E1: Rekapitulácia rozpočtu | H1: Rozpočet | W1: 30.126
B2: Krycí list rozpočtu
B3: Stavba Stojiska na separovanie odpadu v obci Čičava
B4: Objekt Stojisko č.2 | F4: Miesto:
F5: Ks:
B6: Zákazka: | D6: Spracoval: Ing. Ján Halgaš | F6: Dňa | G6: 12. 5. 2021
B7: Odberateľ: Obec Čičava
B8: IČO: | F8: DIČ:
B9: Projektant: D. D. - ARCH s. r. o.
B10: IČO: | F10: DIČ:
B11: Dodávateľ:
B12: IČO: | F12: DIČ:
B14: ZRN | C14: Montáž | D14: Materiál | E14: ZRN spolu | F14: Ďalšie náklady
B15: HSV | C15: ='SO 15315'!E61 -> 0 | D15: ='SO 15315'!F61 -> 0 | E15: ='SO 15315'!G61 -> 0 | P15: 0
B16: PSV | C16: ='SO 15315'!E69 -> 0 | D16: ='SO 15315'!F69 -> 0 | E16: ='SO 15315'!G69 -> 0 | F16: Komplet. činnosť | P16: =(SUM(Z86:Z185)) -> 0
B17: MONT | F17: HZS | P17: 0
B18: VRN
B19: Spolu | E19: =SUM(E15:E18) -> 0 | F19: Spolu | P19: =SUM(P15:P18) -> 0
B20: VRN | F20: VRN
B21: Zariadenie staveniska 0% | E21: =((E15*U22*0)+(E16*V22*0)+(E17*W22*0))/100 -> 0 | F21: Mimoriadne sťaž.podmienky 0% | P21: =((E15*X22*0)+(E16*Y22*0)+(E17*Z22*0))/100 -> 0
B22: Územie so sťaž. podmienk. 0% | E22: =((E15*U23*0)+(E16*V23*0)+(E17*W23*0))/100 -> 0 | F22: Horské oblasti 0% | P22: =((E15*X23*0)+(E16*Y23*0)+(E17*Z23*0))/100 -> 0 | U22: 1 | V22: 1 | W22: 1 | X22: 1 | Y22: 1 | Z22: 1
B23: Prevádzkové vplyvy 0% | E23: =((E15*U24*0)+(E16*V24*0)+(E17*W24*0))/100 -> 0 | F23: Mimostavenisková doprava 0% | P23: =((E15*X24*0)+(E16*Y24*0)+(E17*Z24*0))/100 -> 0 | U23: 1 | V23: 1 | W23: 0 | X23: 1 | Y23: 1 | Z23: 1
U24: 1 | V24: 1 | W24: 1 | X24: 1 | Y24: 1 | Z24: 0
F25: Spolu | P25: =SUM(E21:E24)+SUM(P21:P24) -> 0
B26: Projektant,rozpočtár | F26: Celkové náklady
F27: Celkové náklady bez DPH | P27: =E19+P19+E25+P25 -> 0
F28: DPH 20% z | H28: =P27-SUM('SO 15315'!K86:'SO 15315'!K185) -> 0 | P28: =ROUND(((ROUND(H28,2)*20)*1/100),2) -> 0
F29: DPH 0% z | H29: =SUM('SO 15315'!K86:'SO 15315'!K185) -> 0 | P29: =ROUND(((ROUND(H29,2)*0)/100),2) -> 0
F30: Spolu v EUR | P30: =SUM(P27:P29) -> 0
B32: Odberateľ | E32: Dodávateľ
B44: Rekapitulácia rozpočtu
B46: Odberateľ: Obec Čičava | F46: Spracoval: Ing. Ján Halgaš
B47: Projektant: D. D. - ARCH s. r. o. | F47: Ks:
B48: Dodávateľ: | F48: Dátum: 12. 5. 2021
B49: Stavba Stojiska na separovanie odpadu v obci Čičava
B50: Objekt Stojisko č.2
B53: Prehľad rozpočtových nákladov
B54: Oddiel | E54: Montáž | F54: Materiál | G54: Spolu | H54: Hmotnosť (T) | I54: Suť (T)
B55: Práce HSV
B56: ZEMNÉ PRÁCE | E56: ='SO 15315'!L97 -> 0 | F56: ='SO 15315'!M97 -> 0 | G56: ='SO 15315'!I97 -> 0 | H56: ='SO 15315'!S97 -> 0 | I56: ='SO 15315'!V97 -> 0
...

Sheet SO 15316
B1: Krycí list rozpočtu | E1: Rekapitulácia rozpočtu | H1: Rozpočet | W1: 30.126
B2: Krycí list rozpočtu
B3: Stavba Stojiska na separovanie odpadu v obci Čičava
B4: Objekt Stojisko č.3 | F4: Miesto:
F5: Ks:
B6: Zákazka: | D6: Spracoval: Ing. Ján Halgaš | F6: Dňa | G6: 12. 5. 2021
B7: Odberateľ: Obec Čičava
B8: IČO: | F8: DIČ:
B9: Projektant: D. D. - ARCH s. r. o.
B10: IČO: | F10: DIČ:
B11: Dodávateľ:
B12: IČO: | F12: DIČ:
B14: ZRN | C14: Montáž | D14: Materiál | E14: ZRN spolu | F14: Ďalšie náklady
B15: HSV | C15: ='SO 15316'!E61 -> 0 | D15: ='SO 15316'!F61 -> 0 | E15: ='SO 15316'!G61 -> 0 | P15: 0
B16: PSV | C16: ='SO 15316'!E69 -> 0 | D16: ='SO 15316'!F69 -> 0 | E16: ='SO 15316'!G69 -> 0 | F16: Komplet. činnosť | P16: =(SUM(Z86:Z185)) -> 0
B17: MONT | F17: HZS | P17: 0
B18: VRN
B19: Spolu | E19: =SUM(E15:E18) -> 0 | F19: Spolu | P19: =SUM(P15:P18) -> 0
B20: VRN | F20: VRN
B21: Zariadenie staveniska 0% | E21: =((E15*U22*0)+(E16*V22*0)+(E17*W22*0))/100 -> 0 | F21: Mimoriadne sťaž.podmienky 0% | P21: =((E15*X22*0)+(E16*Y22*0)+(E17*Z22*0))/100 -> 0
B22: Územie so sťaž. podmienk. 0% | E22: =((E15*U23*0)+(E16*V23*0)+(E17*W23*0))/100 -> 0 | F22: Horské oblasti 0% | P22: =((E15*X23*0)+(E16*Y23*0)+(E17*Z23*0))/100 -> 0 | U22: 1 | V22: 1 | W22: 1 | X22: 1 | Y22: 1 | Z22: 1
B23: Prevádzkové vplyvy 0% | E23: =((E15*U24*0)+(E16*V24*0)+(E17*W24*0))/100 -> 0 | F23: Mimostavenisková doprava 0% | P23: =((E15*X24*0)+(E16*Y24*0)+(E17*Z24*0))/100 -> 0 | U23: 1 | V23: 1 | W23: 0 | X23: 1 | Y23: 1 | Z23: 1
U24: 1 | V24: 1 | W24: 1 | X24: 1 | Y24: 1 | Z24: 0
F25: Spolu | P25: =SUM(E21:E24)+SUM(P21:P24) -> 0
B26: Projektant,rozpočtár | F26: Celkové náklady
F27: Celkové náklady bez DPH | P27: =E19+P19+E25+P25 -> 0
F28: DPH 20% z | H28: =P27-SUM('SO 15316'!K86:'SO 15316'!K185) -> 0 | P28: =ROUND(((ROUND(H28,2)*20)*1/100),2) -> 0
F29: DPH 0% z | H29: =SUM('SO 15316'!K86:'SO 15316'!K185) -> 0 | P29: =ROUND(((ROUND(H29,2)*0)/100),2) -> 0
F30: Spolu v EUR | P30: =SUM(P27:P29) -> 0
B32: Odberateľ | E32: Dodávateľ
B44: Rekapitulácia rozpočtu
B46: Odberateľ: Obec Čičava | F46: Spracoval: Ing. Ján Halgaš
B47: Projektant: D. D. - ARCH s. r. o. | F47: Ks:
B48: Dodávateľ: | F48: Dátum: 12. 5. 2021
B49: Stavba Stojiska na separovanie odpadu v obci Čičava
B50: Objekt Stojisko č.3
B53: Prehľad rozpočtových nákladov
B54: Oddiel | E54: Montáž | F54: Materiál | G54: Spolu | H54: Hmotnosť (T) | I54: Suť (T)
B55: Práce HSV
B56: ZEMNÉ PRÁCE | E56: ='SO 15316'!L97 -> 0 | F56: ='SO 15316'!M97 -> 0 | G56: ='SO 15316'!I97 -> 0 | H56: ='SO 15316'!S97 -> 0 | I56: ='SO 15316'!V97 -> 0
...
