Workbook

Sheet Rekapitulácia
A2: Rekapitulácia rozpočtu | F2: Sadzby DPH
A3: Stavba Stojiska na separovanie odpadu v obci Čičava | F3: A | G3: B
F4: 0.2 | G4: 0
A6: Názov objektu | B6: ZRN | C6: VRN % | D6: HZS | E6: Kompl.čin. | F6: Ost. náklady | G6: Cena
A7: Stojisko č.1 | B7: ='SO 15314'!I186-Rekapitulácia!D7 -> 0 | C7: ='SO 15314'!P25 -> 0 | D7: 0 | E7: ='SO 15314'!P16 -> 0 | F7: 0 | G7: =B7+C7+D7+E7+F7 -> 0 | K7: ='SO 15314'!K186 -> 0 | Q7: 30.126
A8: Stojisko č.2 | B8: ='SO 15315'!I186-Rekapitulácia!D8 -> 0 | C8: ='SO 15315'!P25 -> 0 | D8: 0 | E8: ='SO 15315'!P16 -> 0 | F8: 0 | G8: =B8+C8+D8+E8+F8 -> 0 | K8: ='SO 15315'!K186 -> 0 | Q8: 30.126
A9: Stojisko č.3 | B9: ='SO 15316'!I186-Rekapitulácia!D9 -> 0 | C9: ='SO 15316'!P25 -> 0 | D9: 0 | E9: ='SO 15316'!P16 -> 0 | F9: 0 | G9: =B9+C9+D9+E9+F9 -> 0 | K9: ='SO 15316'!K186 -> 0 | Q9: 30.126
A10: Celkom bez DPH | B10: =SUM(B7:B9) -> 0 | C10: =SUM(C7:C9) -> 0 | D10: =SUM(D7:D9) -> 0 | E10: =SUM(E7:E9) -> 0 | F10: =SUM(F7:F9) -> 0 | G10: =SUM(G7:G9)-SUM(Z7:Z9) -> 0
A11: DPH 20% z | B11: =G10-SUM(Rekapitulácia!K7:'Rekapitulácia'!K9)*1 -> 0 | G11: =ROUND(((ROUND(B11,2)*20)/100),2)*1 -> 0
A12: DPH 0% z | B12: =(G10-B11) -> 0 | G12: =ROUND(((ROUND(B12,2)*0)/100),2) -> 0
A13: Celkom v EUR | G13: =SUM(G10:G12) -> 0

Sheet Krycí list stavby
W1: 30.126
B2: Krycí list stavby
B3: Stavba Stojiska na separovanie odpadu v obci Čičava
F4: Miesto:
F5: Ks:
B6: Zákazka: | D6: Spracoval: Ing. Ján Halgaš | F6: Dňa | G6: 12. 5. 2021
B7: Odberateľ: Obec Čičava
B8: IČO: | F8: DIČ:
B9: Projektant: D. D. - ARCH s. r. o.
B10: IČO: | F10: DIČ:
B11: Dodávateľ:
B12: IČO: | F12: DIČ:
B14: ZRN | C14: Montáž | D14: Materiál | E14: ZRN spolu | F14: Ďalšie náklady
B15: HSV | C15: ='SO 15314'!C15+'SO 15315'!C15+'SO 15316'!C15 -> 0 | D15: ='SO 15314'!D15+'SO 15315'!D15+'SO 15316'!D15 -> 0 | E15: ='SO 15314'!E15+'SO 15315'!E15+'SO 15316'!E15 -> 0 | F15: Ostatné náklady | I15: =Rekapitulácia!F10 -> 0
B16: PSV | C16: ='SO 15314'!C16+'SO 15315'!C16+'SO 15316'!C16 -> 0 | D16: ='SO 15314'!D16+'SO 15315'!D16+'SO 15316'!D16 -> 0 | E16: ='SO 15314'!E16+'SO 15315'!E16+'SO 15316'!E16 -> 0 | F16: Komplet. činnosť | I16: =Rekapitulácia!E10 -> 0
B17: MONT | C17: ='SO 15314'!C17+'SO 15315'!C17+'SO 15316'!C17 -> 0 | D17: ='SO 15314'!D17+'SO 15315'!D17+'SO 15316'!D17 -> 0 | E17: ='SO 15314'!E17+'SO 15315'!E17+'SO 15316'!E17 -> 0 | F17: HZS | I17: =Rekapitulácia!D10 -> 0
B18: VRN | C18: ='SO 15314'!C18+'SO 15315'!C18+'SO 15316'!C18 -> 0 | D18: ='SO 15314'!D18+'SO 15315'!D18+'SO 15316'!D18 -> 0 | E18: ='SO 15314'!E18+'SO 15315'!E18+'SO 15316'!E18 -> 0
B19: Spolu | E19: =SUM(E15:E18) -> 0 | F19: Spolu | I19: =SUM(I15:I18) -> 0
B20: VRN | F20: VRN
B21: Zariadenie staveniska | E21: ='SO 15314'!E21+'SO 15315'!E21+'SO 15316'!E21 -> 0 | F21: Mimoriadne sťaž.podmienky | I21: ='SO 15314'!P21+'SO 15315'!P21+'SO 15316'!P21 -> 0
B22: Územie so sťaž. podmienk. | E22: ='SO 15314'!E22+'SO 15315'!E22+'SO 15316'!E22 -> 0 | F22: Horské oblasti | I22: ='SO 15314'!P22+'SO 15315'!P22+'SO 15316'!P22 -> 0
B23: Prevádzkové vplyvy | E23: ='SO 15314'!E23+'SO 15315'!E23+'SO 15316'!E23 -> 0 | F23: Mimostavenisková doprava | I23: ='SO 15314'!P23+'SO 15315'!P23+'SO 15316'!P23 -> 0
F25: Spolu | I25: =SUM(E21:E24)+SUM(I21:I24) -> 0
B26: Projektant,rozpočtár | F26: Celkové náklady
F27: Celkové náklady bez DPH | I27: =E19+I19+I25 -> 0
F28: DPH 20% z | H28: =Rekapitulácia!B11 -> 0 | I28: =ROUND(((ROUND(H28,2)*20)/100),2)*1 -> 0
F29: DPH 0% z | H29: =Rekapitulácia!B12 -> 0 | I29: =ROUND(((ROUND(H29,2)*0)/100),2) -> 0
F30: Spolu v EUR | I30: =SUM(I27:I29) -> 0
B32: Odberateľ | E32: Dodávateľ

Sheet SO 15314
B1: Krycí list rozpočtu | E1: Rekapitulácia rozpočtu | H1: Rozpočet | W1: 30.126
B2: Krycí list rozpočtu
B3: Stavba Stojiska na separovanie odpadu v obci Čičava
B4: Objekt Stojisko č.1 | F4: Miesto:
F5: Ks:
B6: Zákazka: | D6: Spracoval: Ing. Ján Halgaš | F6: Dňa | G6: 12. 5. 2021
B7: Odberateľ: Obec Čičava
B8: IČO: | F8: DIČ:
B9: Projektant: D. D. - ARCH s. r. o.
B10: IČO: | F10: DIČ:
B11: Dodávateľ:
B12: IČO: | F12: DIČ:
B14: ZRN | C14: Montáž | D14: Materiál | E14: ZRN spolu | F14: Ďalšie náklady
B15: HSV | C15: ='SO 15314'!E61 -> 0 | D15: ='SO 15314'!F61 -> 0 | E15: ='SO 15314'!G61 -> 0 | P15: 0
B16: PSV | C16: ='SO 15314'!E69 -> 0 | D16: ='SO 15314'!F69 -> 0 | E16: ='SO 15314'!G69 -> 0 | F16: Komplet. činnosť | P16: =(SUM(Z86:Z185)) -> 0
B17: MONT | F17: HZS | P17: 0
B18: VRN
B19: Spolu | E19: =SUM(E15:E18) -> 0 | F19: Spolu | P19: =SUM(P15:P18) -> 0
B20: VRN | F20: VRN
B21: Zariadenie staveniska 0% | E21: =((E15*U22*0)+(E16*V22*0)+(E17*W22*0))/100 -> 0 | F21: Mimoriadne sťaž.podmienky 0% | P21: =((E15*X22*0)+(E16*Y22*0)+(E17*Z22*0))/100 -> 0
B22: Územie so sťaž. podmienk. 0% | E22: =((E15*U23*0)+(E16*V23*0)+(E17*W23*0))/100 -> 0 | F22: Horské oblasti 0% | P22: =((E15*X23*0)+(E16*Y23*0)+(E17*Z23*0))/100 -> 0 | U22: 1 | V22: 1 | W22: 1 | X22: 1 | Y22: 1 | Z22: 1
B23: Prevádzkové vplyvy 0% | E23: =((E15*U24*0)+(E16*V24*0)+(E17*W24*0))/100 -> 0 | F23: Mimostavenisková doprava 0% | P23: =((E15*X24*0)+(E16*Y24*0)+(E17*Z24*0))/100 -> 0 | U23: 1 | V23: 1 | W23: 0 | X23: 1 | Y23: 1 | Z23: 1
U24: 1 | V24: 1 | W24: 1 | X24: 1 | Y24: 1 | Z24: 0
F25: Spolu | P25: =SUM(E21:E24)+SUM(P21:P24) -> 0
B26: Projektant,rozpočtár | F26: Celkové náklady
F27: Celkové náklady bez DPH | P27: =E19+P19+E25+P25 -> 0
F28: DPH 20% z | H28: =P27-SUM('SO 15314'!K86:'SO 15314'!K185) -> 0 | P28: =ROUND(((ROUND(H28,2)*20)*1/100),2) -> 0
F29: DPH 0% z | H29: =SUM('SO 15314'!K86:'SO 15314'!K185) -> 0 | P29: =ROUND(((ROUND(H29,2)*0)/100),2) -> 0
F30: Spolu v EUR | P30: =SUM(P27:P29) -> 0
B32: Odberateľ | E32: Dodávateľ
B44: Rekapitulácia rozpočtu
B46: Odberateľ: Obec Čičava | F46: Spracoval: Ing. Ján Halgaš
B47: Projektant: D. D. - ARCH s. r. o. | F47: Ks:
B48: Dodávateľ: | F48: Dátum: 12. 5. 2021
B49: Stavba Stojiska na separovanie odpadu v obci Čičava
B50: Objekt Stojisko č.1
B53: Prehľad rozpočtových nákladov
B54: Oddiel | E54: Montáž | F54: Materiál | G54: Spolu | H54: Hmotnosť (T) | I54: Suť (T)
B55: Práce HSV
B56: ZEMNÉ PRÁCE | E56: ='SO 15314'!L97 -> 0 | F56: ='SO 15314'!M97 -> 0 | G56: ='SO 15314'!I97 -> 0 | H56: ='SO 15314'!S97 -> 0 | I56: ='SO 15314'!V97 -> 0
B57: ZÁKLADY | E57: ='SO 15314'!L108 -> 0 | F57: ='SO 15314'!M108 -> 0 | G57: ='SO 15314'!I108 -> 0 | H57: ='SO 15314'!S108 -> 23.97 | I57: ='SO 15314'!V108 -> 0
B58: ZVISLÉ KONŠTRUKCIE | E58: ='SO 15314'!L114 -> 0 | F58: ='SO 15314'!M114 -> 0 | G58: ='SO 15314'!I114 -> 0 | H58: ='SO 15314'!S114 -> 0 | I58: ='SO 15314'!V114 -> 0
B59: OSTATNÉ PRÁCE | E59: ='SO 15314'!L118 -> 0 | F59: ='SO 15314'!M118 -> 0 | G59: ='SO 15314'!I118 -> 0 | H59: ='SO 15314'!S118 -> 0 | I59: ='SO 15314'!V118 -> 0
B60: PRESUNY HMÔT | E60: ='SO 15314'!L122 -> 0 | F60: ='SO 15314'!M122 -> 0 | G60: ='SO 15314'!I122 -> 0 | H60: ='SO 15314'!S122 -> 0 | I60: ='SO 15314'!V122 -> 0
B61: Práce HSV | E61: ='SO 15314'!L124 -> 0 | F61: ='SO 15314'!M124 -> 0 | G61: ='SO 15314'!I124 -> 0 | H61: ='SO 15314'!S124 -> 23.97 | I61: ='SO 15314'!V124 -> 0
B63: Práce PSV
B64: IZOLÁCIE PROTI VODE A VLHKOSTI | E64: ='SO 15314'!L131 -> 0 | F64: ='SO 15314'!M131 -> 0 | G64: ='SO 15314'!I131 -> 0 | H64: ='SO 15314'!S131 -> 0 | I64: ='SO 15314'!V131 -> 0
B65: KONŠTRUKCIE TESÁRSKE | E65: ='SO 15314'!L151 -> 0 | F65: ='SO 15314'!M151 -> 0 | G65: ='SO 15314'!I151 -> 0 | H65: ='SO 15314'!S151 -> 0.08 | I65: ='SO 15314'!V151 -> 0
B66: KONŠTRUKCIE KLAMPIARSKE | E66: ='SO 15314'!L166 -> 0 | F66: ='SO 15314'!M166 -> 0 | G66: ='SO 15314'!I166 -> 0 | H66: ='SO 15314'!S166 -> 0.03 | I66: ='SO 15314'!V166 -> 0
B67: KOVOVÉ DOPLNKOVÉ KONŠTRUKCIE | E67: ='SO 15314'!L175 -> 0 | F67: ='SO 15314'!M175 -> 0 | G67: ='SO 15314'!I175 -> 0 | H67: ='SO 15314'!S175 -> 0 | I67: ='SO 15314'!V175 -> 0
B68: NÁTERY | E68: ='SO 15314'!L183 -> 0 | F68: ='SO 15314'!M183 -> 0 | G68: ='SO 15314'!I183 -> 0 | H68: ='SO 15314'!S183 -> 0.03 | I68: ='SO 15314'!V183 -> 0
B69: Práce PSV | E69: ='SO 15314'!L185 -> 0 | F69: ='SO 15314'!M185 -> 0 | G69: ='SO 15314'!I185 -> 0 | H69: ='SO 15314'!S185 -> 0.14 | I69: ='SO 15314'!V185 -> 0
B71: Celkom v EUR | E71: ='SO 15314'!L186 -> 0 | F71: ='SO 15314'!M186 -> 0 | G71: ='SO 15314'!I186 -> 0 | H71: ='SO 15314'!S186 -> 24.11 | I71: ='SO 15314'!V186 -> 0
B75: Rozpočet
B77: Odberateľ: Obec Čičava | H77: Spracoval: | I77: Ing. Ján Halgaš
B78: Projektant: D. D. - ARCH s. r. o. | H78: Ks:
B79: Dodávateľ: | H79: Dátum: | I79: 12. 5. 2021
B80: Zákazka Stojiska na separovanie odpadu v obci Čičava
B81: Objekt Stojisko č.1
B84: Prehľad rozpočtových nákladov
B85: Por.č. | C85: Kód položky | D85: Názov | F85: Mj | G85: Množstvo | H85: Cena/Mj | I85: Cena celkom | P85: Hmotnosť/Mj | S85: Hmotnosť | V85: Suť
D86: Práce HSV
C87: 1 | D87: ZEMNÉ PRÁCE
B88: 1 | C88: 122201101.S | D88: Odkopávka a prekopávka nezapažená v hornine 3, do 100 m3 | F88: m3 | G88: 12.24 | I88: =ROUND(G88*(H88),2) -> 0 | J88: =ROUND(G88*(N88),2) -> 80.54 | K88: =ROUND(G88*(O88),2) -> 0 | M88: =ROUND(G88*(H88),2) -> 0 | N88: 6.58 | S88: =ROUND(G88*(P88),3) -> 0 | Z88: 0
B89: 2 | C89: 122201109.S | D89: Odkopávky a prekopávky nezapažené. Príplatok k cenám za lepivosť horniny 3 | F89: m3 | G89: 12.24 | I89: =ROUND(G89*(H89),2) -> 0 | J89: =ROUND(G89*(N89),2) -> 12.48 | K89: =ROUND(G89*(O89),2) -> 0 | M89: =ROUND(G89*(H89),2) -> 0 | N89: 1.02 | S89: =ROUND(G89*(P89),3) -> 0 | Z89: 0
B90: 3 | C90: 132201101.S | D90: Výkop ryhy do šírky 600 mm v horn.3 do 100 m3 | F90: m3 | G90: 5.508 | I90: =ROUND(G90*(H90),2) -> 0 | J90: =ROUND(G90*(N90),2) -> 171.08 | K90: =ROUND(G90*(O90),2) -> 0 | M90: =ROUND(G90*(H90),2) -> 0 | N90: 31.06 | S90: =ROUND(G90*(P90),3) -> 0 | Z90: 0
B91: 4 | C91: 132201109.S | D91: Príplatok k cene za lepivosť pri hĺbení rýh šírky do 600 mm zapažených i nezapažených s urovnaním dna v hornine 3 | F91: m3 | G91: 5.508 | I91: =ROUND(G91*(H91),2) -> 0 | J91: =ROUND(G91*(N91),2) -> 48.36 | K91: =ROUND(G91*(O91),2) -> 0 | M91: =ROUND(G91*(H91),2) -> 0 | N91: 8.78 | S91: =ROUND(G91*(P91),3) -> 0 | Z91: 0
B92: 5 | C92: 162501102.S | D92: Vodorovné premiestnenie výkopku po spevnenej ceste z horniny tr.1-4, do 100 m3 na vzdialenosť do 3000 m | F92: m3 | G92: 17.748 | I92: =ROUND(G92*(H92),2) -> 0 | J92: =ROUND(G92*(N92),2) -> 75.25 | K92: =ROUND(G92*(O92),2) -> 0 | M92: =ROUND(G92*(H92),2) -> 0 | N92: 4.24 | S92: =ROUND(G92*(P92),3) -> 0 | Z92: 0
B93: 6 | C93: 167101101.S | D93: Nakladanie neuľahnutého výkopku z hornín tr.1-4 do 100 m3 | F93: m3 | G93: 17.748 | I93: =ROUND(G93*(H93),2) -> 0 | J93: =ROUND(G93*(N93),2) -> 130.98 | K93: =ROUND(G93*(O93),2) -> 0 | M93: =ROUND(G93*(H93),2) -> 0 | N93: 7.38 | S93: =ROUND(G93*(P93),3) -> 0 | Z93: 0
B94: 7 | C94: 171201101.S | D94: Uloženie sypaniny do násypov s rozprestretím sypaniny vo vrstvách a s hrubým urovnaním nezhutnených | F94: m3 | G94: 17.748 | I94: =ROUND(G94*(H94),2) -> 0 | J94: =ROUND(G94*(N94),2) -> 17.04 | K94: =ROUND(G94*(O94),2) -> 0 | M94: =ROUND(G94*(H94),2) -> 0 | N94: 0.96 | S94: =ROUND(G94*(P94),3) -> 0 | Z94: 0
B95: 8 | C95: 181201101.S | D95: Úprava pláne v násypoch v hornine 1-4 bez zhutnenia | F95: m2 | G95: 32.4 | I95: =ROUND(G95*(H95),2) -> 0 | J95: =ROUND(G95*(N95),2) -> 7.78 | K95: =ROUND(G95*(O95),2) -> 0 | M95: =ROUND(G95*(H95),2) -> 0 | N95: 0.24 | S95: =ROUND(G95*(P95),3) -> 0 | Z95: 0
B96: 9 | C96: 181301103.S | D96: Rozprestretie ornice v rovine , plocha do 500 m2, hr.do 200 mm | F96: m2 | G96: 32.4 | I96: =ROUND(G96*(H96),2) -> 0 | J96: =ROUND(G96*(N96),2) -> 114.05 | K96: =ROUND(G96*(O96),2) -> 0 | M96: =ROUND(G96*(H96),2) -> 0 | N96: 3.52 | S96: =ROUND(G96*(P96),3) -> 0 | Z96: 0
C97: 1 | D97: ZEMNÉ PRÁCE | I97: =ROUND((SUM(I87:I96))/1,2) -> 0 | L97: =ROUND((SUM(L87:L96))/1,2) -> 0 | M97: =ROUND((SUM(M87:M96))/1,2) -> 0 | S97: =ROUND((SUM(S87:S96))/1,2) -> 0 | V97: =ROUND((SUM(V87:V96))/1,2) -> 0
C99: 2 | D99: ZÁKLADY
B100: 10 | C100: 271573001.S | D100: Násyp pod základové konštrukcie so zhutnením zo štrkopiesku fr.0-32 mm | F100: m3 | G100: 1.552 | I100: =ROUND(G100*(H100),2) -> 0 | J100: =ROUND(G100*(N100),2) -> 68.3 | K100: =ROUND(G100*(O100),2) -> 0 | M100: =ROUND(G100*(H100),2) -> 0 | N100: 44.01 | P100: 2.07 | R100: 2.07 | S100: =ROUND(G100*(P100),3) -> 3.213 | Z100: 0
B101: 11 | C101: 273321311.S | D101: Betón základových dosiek, železový (bez výstuže), tr. C 16/20 | F101: m3 | G101: 3.68 | I101: =ROUND(G101*(H101),2) -> 0 | J101: =ROUND(G101*(N101),2) -> 350.3 | K101: =ROUND(G101*(O101),2) -> 0 | M101: =ROUND(G101*(H101),2) -> 0 | N101: 95.19 | P101: 2.4172 | R101: 2.4172 | S101: =ROUND(G101*(P101),3) -> 8.895 | Z101: 0
B102: 12 | C102: 273351217.S | D102: Debnenie stien základových dosiek, zhotovenie-tradičné | F102: m2 | G102: 2.84 | I102: =ROUND(G102*(H102),2) -> 0 | J102: =ROUND(G102*(N102),2) -> 40.07 | K102: =ROUND(G102*(O102),2) -> 0 | M102: =ROUND(G102*(H102),2) -> 0 | N102: 14.11 | P102: 0.00407 | R102: 0.00407 | S102: =ROUND(G102*(P102),3) -> 0.012 | Z102: 0
B103: 13 | C103: 273351218.S | D103: Debnenie stien základových dosiek, odstránenie-tradičné | F103: m2 | G103: 2.84 | I103: =ROUND(G103*(H103),2) -> 0 | J103: =ROUND(G103*(N103),2) -> 13.72 | K103: =ROUND(G103*(O103),2) -> 0 | M103: =ROUND(G103*(H103),2) -> 0 | N103: 4.83 | S103: =ROUND(G103*(P103),3) -> 0 | Z103: 0
B104: 14 | C104: 273362421.S | D104: Výstuž základových dosiek zo zvár. sietí KARI, priemer drôtu 6/6 mm, veľkosť oka 100x100 mm | F104: m2 | G104: 32.8 | I104: =ROUND(G104*(H104),2) -> 0 | J104: =ROUND(G104*(N104),2) -> 169.25 | K104: =ROUND(G104*(O104),2) -> 0 | M104: =ROUND(G104*(H104),2) -> 0 | N104: 5.16 | P104: 0.00494 | R104: 0.00494 | S104: =ROUND(G104*(P104),3) -> 0.162 | Z104: 0
B105: 15 | C105: 274313521.S | D105: Betón základových pásov, prostý tr. C 12/15 | F105: m3 | G105: 4.896 | I105: =ROUND(G105*(H105),2) -> 0 | J105: =ROUND(G105*(N105),2) -> 421.84 | K105: =ROUND(G105*(O105),2) -> 0 | M105: =ROUND(G105*(H105),2) -> 0 | N105: 86.16 | P105: 2.3778966 | R105: 2.3778966 | S105: =ROUND(G105*(P105),3) -> 11.642 | Z105: 0
B106: 16 | C106: 274351217.S | D106: Debnenie stien základových pásov, zhotovenie-tradičné | F106: m2 | G106: 10.2 | I106: =ROUND(G106*(H106),2) -> 0 | J106: =ROUND(G106*(N106),2) -> 145.55 | K106: =ROUND(G106*(O106),2) -> 0 | M106: =ROUND(G106*(H106),2) -> 0 | N106: 14.27 | P106: 0.00407 | R106: 0.00407 | S106: =ROUND(G106*(P106),3) -> 0.042 | Z106: 0
B107: 17 | C107: 274351218.S | D107: Debnenie stien základových pásov, odstránenie-tradičné | F107: m2 | G107: 10.2 | I107: =ROUND(G107*(H107),2) -> 0 | J107: =ROUND(G107*(N107),2) -> 50.18 | K107: =ROUND(G107*(O107),2) -> 0 | M107: =ROUND(G107*(H107),2) -> 0 | N107: 4.92 | S107: =ROUND(G107*(P107),3) -> 0 | Z107: 0
C108: 2 | D108: ZÁKLADY | I108: =ROUND((SUM(I99:I107))/1,2) -> 0 | L108: =ROUND((SUM(L99:L107))/1,2) -> 0 | M108: =ROUND((SUM(M99:M107))/1,2) -> 0 | S108: =ROUND((SUM(S99:S107))/1,2) -> 23.97 | V108: =ROUND((SUM(V99:V107))/1,2) -> 0
C110: 3 | D110: ZVISLÉ KONŠTRUKCIE
B111: 18 | C111: 318271007.1 | D111: Murovanie z betónových tvárnic hr. 200 mm s betónovou výplňou | F111: m2 | G111: 39.6 | I111: =ROUND(G111*(H111),2) -> 0 | J111: =ROUND(G111*(N111),2) -> 775.37 | K111: =ROUND(G111*(O111),2) -> 0 | M111: =ROUND(G111*(H111),2) -> 0 | N111: 19.58 | S111: =ROUND(G111*(P111),3) -> 0 | Z111: 0
B112: 19 | C112: 592330008000 | D112: Plotová tvárnica z hladkého betónu, 400x200x200 mm, grafit | F112: ks | G112: 504.9 | I112: =ROUND(G112*(H112),2) -> 0 | J112: =ROUND(G112*(N112),2) -> 1888.33 | K112: =ROUND(G112*(O112),2) -> 0 | M112: =ROUND(G112*(H112),2) -> 0 | N112: 3.74 | S112: =ROUND(G112*(P112),3) -> 0 | Z112: 0
B113: 20 | C113: 318271071.S | D113: Výstuž pre oplotenie z betónových tvárnic s betónovou výplňou | F113: t | G113: 0.197 | I113: =ROUND(G113*(H113),2) -> 0 | J113: =ROUND(G113*(N113),2) -> 194.47 | K113: =ROUND(G113*(O113),2) -> 0 | M113: =ROUND(G113*(H113),2) -> 0 | N113: 987.17 | S113: =ROUND(G113*(P113),3) -> 0 | Z113: 0
C114: 3 | D114: ZVISLÉ KONŠTRUKCIE | I114: =ROUND((SUM(I110:I113))/1,2) -> 0 | L114: =ROUND((SUM(L110:L113))/1,2) -> 0 | M114: =ROUND((SUM(M110:M113))/1,2) -> 0 | S114: =ROUND((SUM(S110:S113))/1,2) -> 0 | V114: =ROUND((SUM(V110:V113))/1,2) -> 0
C116: 9 | D116: OSTATNÉ PRÁCE
B117: 21 | C117: 959941131.1 | D117: Chemická kotva s kotevným svorníkom tesnená chemickou ampulkou do betónu, ŽB, kameňa, s vyvŕtaním otvoru M14/20/165 mm | F117: ks | G117: 8 | I117: =ROUND(G117*(H117),2) -> 0 | J117: =ROUND(G117*(N117),2) -> 52.08 | K117: =ROUND(G117*(O117),2) -> 0 | M117: =ROUND(G117*(H117),2) -> 0 | N117: 6.51 | S117: =ROUND(G117*(P117),3) -> 0 | Z117: 0
C118: 9 | D118: OSTATNÉ PRÁCE | I118: =ROUND((SUM(I116:I117))/1,2) -> 0 | L118: =ROUND((SUM(L116:L117))/1,2) -> 0 | M118: =ROUND((SUM(M116:M117))/1,2) -> 0 | S118: =ROUND((SUM(S116:S117))/1,2) -> 0 | V118: =ROUND((SUM(V116:V117))/1,2) -> 0
C120: 99 | D120: PRESUNY HMÔT
B121: 22 | C121: 998011031.S | D121: Presun hmôt pre budovy (801, 803, 812), zvislá konštr. z blokov, výšky do 6 m | F121: t | G121: 42.287 | I121: =ROUND(G121*(H121),2) -> 0 | J121: =ROUND(G121*(N121),2) -> 462.62 | K121: =ROUND(G121*(O121),2) -> 0 | M121: =ROUND(G121*(H121),2) -> 0 | N121: 10.94 | S121: =ROUND(G121*(P121),3) -> 0 | Z121: 0
C122: 99 | D122: PRESUNY HMÔT | I122: =ROUND((SUM(I120:I121))/1,2) -> 0 | L122: =ROUND((SUM(L120:L121))/1,2) -> 0 | M122: =ROUND((SUM(M120:M121))/1,2) -> 0 | S122: =ROUND((SUM(S120:S121))/1,2) -> 0 | V122: =ROUND((SUM(V120:V121))/1,2) -> 0
D124: Práce HSV | I124: =ROUND((SUM(I86:I123))/2,2) -> 0 | L124: =ROUND((SUM(L86:L123))/2,2) -> 0 | M124: =ROUND((SUM(M86:M123))/2,2) -> 0 | S124: =ROUND((SUM(S86:S123))/2,2) -> 23.97 | V124: =ROUND((SUM(V86:V123))/2,2) -> 0
D126: Práce PSV
C127: 711 | D127: IZOLÁCIE PROTI VODE A VLHKOSTI
B128: 23 | C128: 711210200.S | D128: Zhotovenie dvojnásobnej izol. stierky balkónov a terás na ploche vodorovnej | F128: m2 | G128: 24.8 | I128: =ROUND(G128*(H128),2) -> 0 | J128: =ROUND(G128*(N128),2) -> 87.05 | K128: =ROUND(G128*(O128),2) -> 0 | M128: =ROUND(G128*(H128),2) -> 0 | N128: 3.51 | S128: =ROUND(G128*(P128),3) -> 0 | Z128: 0
B129: 24 | C129: 245650000400.S | D129: Stierka hydroizolačná na báze cementu | F129: kg | G129: 69.44 | I129: =ROUND(G129*(H129),2) -> 0 | J129: =ROUND(G129*(N129),2) -> 290.95 | K129: =ROUND(G129*(O129),2) -> 0 | M129: =ROUND(G129*(H129),2) -> 0 | N129: 4.19 | S129: =ROUND(G129*(P129),3) -> 0 | Z129: 0
B130: 25 | C130: 998711201.S | D130: Presun hmôt pre izoláciu proti vode v objektoch výšky do 6 m | F130: % | G130: 2.6 | I130: =ROUND(G130*(H130),2) -> 0 | J130: =ROUND(G130*(N130),2) -> 9.82 | K130: =ROUND(G130*(O130),2) -> 0 | M130: =ROUND(G130*(H130),2) -> 0 | N130: 3.7777499 | S130: =ROUND(G130*(P130),3) -> 0 | Z130: 0
...

Sheet SO 15315
B1: Krycí list rozpočtu | E1: Rekapitulácia rozpočtu | H1: Rozpočet | W1: 30.126
B2: Krycí list rozpočtu
B3: Stavba Stojiska na separovanie odpadu v obci Čičava
B4: Objekt Stojisko č.2 | F4: Miesto:
F5: Ks:
B6: Zákazka: | D6: Spracoval: Ing. Ján Halgaš | F6: Dňa | G6: 12. 5. 2021
B7: Odberateľ: Obec Čičava
B8: IČO: | F8: DIČ:
B9: Projektant: D. D. - ARCH s. r. o.
B10: IČO: | F10: DIČ:
B11: Dodávateľ:
B12: IČO: | F12: DIČ:
B14: ZRN | C14: Montáž | D14: Materiál | E14: ZRN spolu | F14: Ďalšie náklady
B15: HSV | C15: ='SO 15315'!E61 -> 0 | D15: ='SO 15315'!F61 -> 0 | E15: ='SO 15315'!G61 -> 0 | P15: 0
B16: PSV | C16: ='SO 15315'!E69 -> 0 | D16: ='SO 15315'!F69 -> 0 | E16: ='SO 15315'!G69 -> 0 | F16: Komplet. činnosť | P16: =(SUM(Z86:Z185)) -> 0
B17: MONT | F17: HZS | P17: 0
B18: VRN
B19: Spolu | E19: =SUM(E15:E18) -> 0 | F19: Spolu | P19: =SUM(P15:P18) -> 0
B20: VRN | F20: VRN
B21: Zariadenie staveniska 0% | E21: =((E15*U22*0)+(E16*V22*0)+(E17*W22*0))/100 -> 0 | F21: Mimoriadne sťaž.podmienky 0% | P21: =((E15*X22*0)+(E16*Y22*0)+(E17*Z22*0))/100 -> 0
B22: Územie so sťaž. podmienk. 0% | E22: =((E15*U23*0)+(E16*V23*0)+(E17*W23*0))/100 -> 0 | F22: Horské oblasti 0% | P22: =((E15*X23*0)+(E16*Y23*0)+(E17*Z23*0))/100 -> 0 | U22: 1 | V22: 1 | W22: 1 | X22: 1 | Y22: 1 | Z22: 1
B23: Prevádzkové vplyvy 0% | E23: =((E15*U24*0)+(E16*V24*0)+(E17*W24*0))/100 -> 0 | F23: Mimostavenisková doprava 0% | P23: =((E15*X24*0)+(E16*Y24*0)+(E17*Z24*0))/100 -> 0 | U23: 1 | V23: 1 | W23: 0 | X23: 1 | Y23: 1 | Z23: 1
U24: 1 | V24: 1 | W24: 1 | X24: 1 | Y24: 1 | Z24: 0
F25: Spolu | P25: =SUM(E21:E24)+SUM(P21:P24) -> 0
B26: Projektant,rozpočtár | F26: Celkové náklady
F27: Celkové náklady bez DPH | P27: =E19+P19+E25+P25 -> 0
F28: DPH 20% z | H28: =P27-SUM('SO 15315'!K86:'SO 15315'!K185) -> 0 | P28: =ROUND(((ROUND(H28,2)*20)*1/100),2) -> 0
F29: DPH 0% z | H29: =SUM('SO 15315'!K86:'SO 15315'!K185) -> 0 | P29: =ROUND(((ROUND(H29,2)*0)/100),2) -> 0
F30: Spolu v EUR | P30: =SUM(P27:P29) -> 0
B32: Odberateľ | E32: Dodávateľ
B44: Rekapitulácia rozpočtu
B46: Odberateľ: Obec Čičava | F46: Spracoval: Ing. Ján Halgaš
B47: Projektant: D. D. - ARCH s. r. o. | F47: Ks:
B48: Dodávateľ: | F48: Dátum: 12. 5. 2021
B49: Stavba Stojiska na separovanie odpadu v obci Čičava
B50: Objekt Stojisko č.2
B53: Prehľad rozpočtových nákladov
B54: Oddiel | E54: Montáž | F54: Materiál | G54: Spolu | H54: Hmotnosť (T) | I54: Suť (T)
B55: Práce HSV
B56: ZEMNÉ PRÁCE | E56: ='SO 15315'!L97 -> 0 | F56: ='SO 15315'!M97 -> 0 | G56: ='SO 15315'!I97 -> 0 | H56: ='SO 15315'!S97 -> 0 | I56: ='SO 15315'!V97 -> 0
B57: ZÁKLADY | E57: ='SO 15315'!L108 -> 0 | F57: ='SO 15315'!M108 -> 0 | G57: ='SO 15315'!I108 -> 0 | H57: ='SO 15315'!S108 -> 23.97 | I57: ='SO 15315'!V108 -> 0
B58: ZVISLÉ KONŠTRUKCIE | E58: ='SO 15315'!L114 -> 0 | F58: ='SO 15315'!M114 -> 0 | G58: ='SO 15315'!I114 -> 0 | H58: ='SO 15315'!S114 -> 0 | I58: ='SO 15315'!V114 -> 0
B59: OSTATNÉ PRÁCE | E59: ='SO 15315'!L118 -> 0 | F59: ='SO 15315'!M118 -> 0 | G59: ='SO 15315'!I118 -> 0 | H59: ='SO 15315'!S118 -> 0 | I59: ='SO 15315'!V118 -> 0
B60: PRESUNY HMÔT | E60: ='SO 15315'!L122 -> 0 | F60: ='SO 15315'!M122 -> 0 | G60: ='SO 15315'!I122 -> 0 | H60: ='SO 15315'!S122 -> 0 | I60: ='SO 15315'!V122 -> 0
B61: Práce HSV | E61: ='SO 15315'!L124 -> 0 | F61: ='SO 15315'!M124 -> 0 | G61: ='SO 15315'!I124 -> 0 | H61: ='SO 15315'!S124 -> 23.97 | I61: ='SO 15315'!V124 -> 0
B63: Práce PSV
B64: IZOLÁCIE PROTI VODE A VLHKOSTI | E64: ='SO 15315'!L131 -> 0 | F64: ='SO 15315'!M131 -> 0 | G64: ='SO 15315'!I131 -> 0 | H64: ='SO 15315'!S131 -> 0 | I64: ='SO 15315'!V131 -> 0
B65: KONŠTRUKCIE TESÁRSKE | E65: ='SO 15315'!L151 -> 0 | F65: ='SO 15315'!M151 -> 0 | G65: ='SO 15315'!I151 -> 0 | H65: ='SO 15315'!S151 -> 0.08 | I65: ='SO 15315'!V151 -> 0
B66: KONŠTRUKCIE KLAMPIARSKE | E66: ='SO 15315'!L166 -> 0 | F66: ='SO 15315'!M166 -> 0 | G66: ='SO 15315'!I166 -> 0 | H66: ='SO 15315'!S166 -> 0.03 | I66: ='SO 15315'!V166 -> 0
B67: KOVOVÉ DOPLNKOVÉ KONŠTRUKCIE | E67: ='SO 15315'!L175 -> 0 | F67: ='SO 15315'!M175 -> 0 | G67: ='SO 15315'!I175 -> 0 | H67: ='SO 15315'!S175 -> 0 | I67: ='SO 15315'!V175 -> 0
B68: NÁTERY | E68: ='SO 15315'!L183 -> 0 | F68: ='SO 15315'!M183 -> 0 | G68: ='SO 15315'!I183 -> 0 | H68: ='SO 15315'!S183 -> 0.03 | I68: ='SO 15315'!V183 -> 0
B69: Práce PSV | E69: ='SO 15315'!L185 -> 0 | F69: ='SO 15315'!M185 -> 0 | G69: ='SO 15315'!I185 -> 0 | H69: ='SO 15315'!S185 -> 0.14 | I69: ='SO 15315'!V185 -> 0
B71: Celkom v EUR | E71: ='SO 15315'!L186 -> 0 | F71: ='SO 15315'!M186 -> 0 | G71: ='SO 15315'!I186 -> 0 | H71: ='SO 15315'!S186 -> 24.11 | I71: ='SO 15315'!V186 -> 0
B75: Rozpočet
B77: Odberateľ: Obec Čičava | H77: Spracoval: | I77: Ing. Ján Halgaš
B78: Projektant: D. D. - ARCH s. r. o. | H78: Ks:
B79: Dodávateľ: | H79: Dátum: | I79: 12. 5. 2021
B80: Zákazka Stojiska na separovanie odpadu v obci Čičava
B81: Objekt Stojisko č.2
B84: Prehľad rozpočtových nákladov
B85: Por.č. | C85: Kód položky | D85: Názov | F85: Mj | G85: Množstvo | H85: Cena/Mj | I85: Cena celkom | P85: Hmotnosť/Mj | S85: Hmotnosť | V85: Suť
D86: Práce HSV
C87: 1 | D87: ZEMNÉ PRÁCE
B88: 1 | C88: 122201101.S | D88: Odkopávka a prekopávka nezapažená v hornine 3, do 100 m3 | F88: m3 | G88: 12.24 | I88: =ROUND(G88*(H88),2) -> 0 | J88: =ROUND(G88*(N88),2) -> 80.54 | K88: =ROUND(G88*(O88),2) -> 0 | M88: =ROUND(G88*(H88),2) -> 0 | N88: 6.58 | S88: =ROUND(G88*(P88),3) -> 0 | Z88: 0
B89: 2 | C89: 122201109.S | D89: Odkopávky a prekopávky nezapažené. Príplatok k cenám za lepivosť horniny 3 | F89: m3 | G89: 12.24 | I89: =ROUND(G89*(H89),2) -> 0 | J89: =ROUND(G89*(N89),2) -> 12.48 | K89: =ROUND(G89*(O89),2) -> 0 | M89: =ROUND(G89*(H89),2) -> 0 | N89: 1.02 | S89: =ROUND(G89*(P89),3) -> 0 | Z89: 0
B90: 3 | C90: 132201101.S | D90: Výkop ryhy do šírky 600 mm v horn.3 do 100 m3 | F90: m3 | G90: 5.508 | I90: =ROUND(G90*(H90),2) -> 0 | J90: =ROUND(G90*(N90),2) -> 171.08 | K90: =ROUND(G90*(O90),2) -> 0 | M90: =ROUND(G90*(H90),2) -> 0 | N90: 31.06 | S90: =ROUND(G90*(P90),3) -> 0 | Z90: 0
B91: 4 | C91: 132201109.S | D91: Príplatok k cene za lepivosť pri hĺbení rýh šírky do 600 mm zapažených i nezapažených s urovnaním dna v hornine 3 | F91: m3 | G91: 5.508 | I91: =ROUND(G91*(H91),2) -> 0 | J91: =ROUND(G91*(N91),2) -> 48.36 | K91: =ROUND(G91*(O91),2) -> 0 | M91: =ROUND(G91*(H91),2) -> 0 | N91: 8.78 | S91: =ROUND(G91*(P91),3) -> 0 | Z91: 0
B92: 5 | C92: 162501102.S | D92: Vodorovné premiestnenie výkopku po spevnenej ceste z horniny tr.1-4, do 100 m3 na vzdialenosť do 3000 m | F92: m3 | G92: 17.748 | I92: =ROUND(G92*(H92),2) -> 0 | J92: =ROUND(G92*(N92),2) -> 75.25 | K92: =ROUND(G92*(O92),2) -> 0 | M92: =ROUND(G92*(H92),2) -> 0 | N92: 4.24 | S92: =ROUND(G92*(P92),3) -> 0 | Z92: 0
B93: 6 | C93: 167101101.S | D93: Nakladanie neuľahnutého výkopku z hornín tr.1-4 do 100 m3 | F93: m3 | G93: 17.748 | I93: =ROUND(G93*(H93),2) -> 0 | J93: =ROUND(G93*(N93),2) -> 130.98 | K93: =ROUND(G93*(O93),2) -> 0 | M93: =ROUND(G93*(H93),2) -> 0 | N93: 7.38 | S93: =ROUND(G93*(P93),3) -> 0 | Z93: 0
B94: 7 | C94: 171201101.S | D94: Uloženie sypaniny do násypov s rozprestretím sypaniny vo vrstvách a s hrubým urovnaním nezhutnených | F94: m3 | G94: 17.748 | I94: =ROUND(G94*(H94),2) -> 0 | J94: =ROUND(G94*(N94),2) -> 17.04 | K94: =ROUND(G94*(O94),2) -> 0 | M94: =ROUND(G94*(H94),2) -> 0 | N94: 0.96 | S94: =ROUND(G94*(P94),3) -> 0 | Z94: 0
B95: 8 | C95: 181201101.S | D95: Úprava pláne v násypoch v hornine 1-4 bez zhutnenia | F95: m2 | G95: 32.4 | I95: =ROUND(G95*(H95),2) -> 0 | J95: =ROUND(G95*(N95),2) -> 7.78 | K95: =ROUND(G95*(O95),2) -> 0 | M95: =ROUND(G95*(H95),2) -> 0 | N95: 0.24 | S95: =ROUND(G95*(P95),3) -> 0 | Z95: 0
B96: 9 | C96: 181301103.S | D96: Rozprestretie ornice v rovine , plocha do 500 m2, hr.do 200 mm | F96: m2 | G96: 32.4 | I96: =ROUND(G96*(H96),2) -> 0 | J96: =ROUND(G96*(N96),2) -> 114.05 | K96: =ROUND(G96*(O96),2) -> 0 | M96: =ROUND(G96*(H96),2) -> 0 | N96: 3.52 | S96: =ROUND(G96*(P96),3) -> 0 | Z96: 0
C97: 1 | D97: ZEMNÉ PRÁCE | I97: =ROUND((SUM(I87:I96))/1,2) -> 0 | L97: =ROUND((SUM(L87:L96))/1,2) -> 0 | M97: =ROUND((SUM(M87:M96))/1,2) -> 0 | S97: =ROUND((SUM(S87:S96))/1,2) -> 0 | V97: =ROUND((SUM(V87:V96))/1,2) -> 0
C99: 2 | D99: ZÁKLADY
B100: 10 | C100: 271573001.S | D100: Násyp pod základové konštrukcie so zhutnením zo štrkopiesku fr.0-32 mm | F100: m3 | G100: 1.552 | I100: =ROUND(G100*(H100),2) -> 0 | J100: =ROUND(G100*(N100),2) -> 68.3 | K100: =ROUND(G100*(O100),2) -> 0 | M100: =ROUND(G100*(H100),2) -> 0 | N100: 44.01 | P100: 2.07 | R100: 2.07 | S100: =ROUND(G100*(P100),3) -> 3.213 | Z100: 0
B101: 11 | C101: 273321311.S | D101: Betón základových dosiek, železový (bez výstuže), tr. C 16/20 | F101: m3 | G101: 3.68 | I101: =ROUND(G101*(H101),2) -> 0 | J101: =ROUND(G101*(N101),2) -> 350.3 | K101: =ROUND(G101*(O101),2) -> 0 | M101: =ROUND(G101*(H101),2) -> 0 | N101: 95.19 | P101: 2.4172 | R101: 2.4172 | S101: =ROUND(G101*(P101),3) -> 8.895 | Z101: 0
B102: 12 | C102: 273351217.S | D102: Debnenie stien základových dosiek, zhotovenie-tradičné | F102: m2 | G102: 2.84 | I102: =ROUND(G102*(H102),2) -> 0 | J102: =ROUND(G102*(N102),2) -> 40.07 | K102: =ROUND(G102*(O102),2) -> 0 | M102: =ROUND(G102*(H102),2) -> 0 | N102: 14.11 | P102: 0.00407 | R102: 0.00407 | S102: =ROUND(G102*(P102),3) -> 0.012 | Z102: 0
B103: 13 | C103: 273351218.S | D103: Debnenie stien základových dosiek, odstránenie-tradičné | F103: m2 | G103: 2.84 | I103: =ROUND(G103*(H103),2) -> 0 | J103: =ROUND(G103*(N103),2) -> 13.72 | K103: =ROUND(G103*(O103),2) -> 0 | M103: =ROUND(G103*(H103),2) -> 0 | N103: 4.83 | S103: =ROUND(G103*(P103),3) -> 0 | Z103: 0
B104: 14 | C104: 273362421.S | D104: Výstuž základových dosiek zo zvár. sietí KARI, priemer drôtu 6/6 mm, veľkosť oka 100x100 mm | F104: m2 | G104: 32.8 | I104: =ROUND(G104*(H104),2) -> 0 | J104: =ROUND(G104*(N104),2) -> 169.25 | K104: =ROUND(G104*(O104),2) -> 0 | M104: =ROUND(G104*(H104),2) -> 0 | N104: 5.16 | P104: 0.00494 | R104: 0.00494 | S104: =ROUND(G104*(P104),3) -> 0.162 | Z104: 0
B105: 15 | C105: 274313521.S | D105: Betón základových pásov, prostý tr. C 12/15 | F105: m3 | G105: 4.896 | I105: =ROUND(G105*(H105),2) -> 0 | J105: =ROUND(G105*(N105),2) -> 421.84 | K105: =ROUND(G105*(O105),2) -> 0 | M105: =ROUND(G105*(H105),2) -> 0 | N105: 86.16 | P105: 2.3778966 | R105: 2.3778966 | S105: =ROUND(G105*(P105),3) -> 11.642 | Z105: 0
B106: 16 | C106: 274351217.S | D106: Debnenie stien základových pásov, zhotovenie-tradičné | F106: m2 | G106: 10.2 | I106: =ROUND(G106*(H106),2) -> 0 | J106: =ROUND(G106*(N106),2) -> 145.55 | K106: =ROUND(G106*(O106),2) -> 0 | M106: =ROUND(G106*(H106),2) -> 0 | N106: 14.27 | P106: 0.00407 | R106: 0.00407 | S106: =ROUND(G106*(P106),3) -> 0.042 | Z106: 0
B107: 17 | C107: 274351218.S | D107: Debnenie stien základových pásov, odstránenie-tradičné | F107: m2 | G107: 10.2 | I107: =ROUND(G107*(H107),2) -> 0 | J107: =ROUND(G107*(N107),2) -> 50.18 | K107: =ROUND(G107*(O107),2) -> 0 | M107: =ROUND(G107*(H107),2) -> 0 | N107: 4.92 | S107: =ROUND(G107*(P107),3) -> 0 | Z107: 0
C108: 2 | D108: ZÁKLADY | I108: =ROUND((SUM(I99:I107))/1,2) -> 0 | L108: =ROUND((SUM(L99:L107))/1,2) -> 0 | M108: =ROUND((SUM(M99:M107))/1,2) -> 0 | S108: =ROUND((SUM(S99:S107))/1,2) -> 23.97 | V108: =ROUND((SUM(V99:V107))/1,2) -> 0
C110: 3 | D110: ZVISLÉ KONŠTRUKCIE
B111: 18 | C111: 318271007.1 | D111: Murovanie z betónových tvárnic hr. 200 mm s betónovou výplňou | F111: m2 | G111: 39.6 | I111: =ROUND(G111*(H111),2) -> 0 | J111: =ROUND(G111*(N111),2) -> 775.37 | K111: =ROUND(G111*(O111),2) -> 0 | M111: =ROUND(G111*(H111),2) -> 0 | N111: 19.58 | S111: =ROUND(G111*(P111),3) -> 0 | Z111: 0
B112: 19 | C112: 592330008000 | D112: Plotová tvárnica z hladkého betónu, 400x200x200 mm, grafit | F112: ks | G112: 504.9 | I112: =ROUND(G112*(H112),2) -> 0 | J112: =ROUND(G112*(N112),2) -> 1888.33 | K112: =ROUND(G112*(O112),2) -> 0 | M112: =ROUND(G112*(H112),2) -> 0 | N112: 3.74 | S112: =ROUND(G112*(P112),3) -> 0 | Z112: 0
B113: 20 | C113: 318271071.S | D113: Výstuž pre oplotenie z betónových tvárnic s betónovou výplňou | F113: t | G113: 0.197 | I113: =ROUND(G113*(H113),2) -> 0 | J113: =ROUND(G113*(N113),2) -> 194.47 | K113: =ROUND(G113*(O113),2) -> 0 | M113: =ROUND(G113*(H113),2) -> 0 | N113: 987.17 | S113: =ROUND(G113*(P113),3) -> 0 | Z113: 0
C114: 3 | D114: ZVISLÉ KONŠTRUKCIE | I114: =ROUND((SUM(I110:I113))/1,2) -> 0 | L114: =ROUND((SUM(L110:L113))/1,2) -> 0 | M114: =ROUND((SUM(M110:M113))/1,2) -> 0 | S114: =ROUND((SUM(S110:S113))/1,2) -> 0 | V114: =ROUND((SUM(V110:V113))/1,2) -> 0
C116: 9 | D116: OSTATNÉ PRÁCE
B117: 21 | C117: 959941131.1 | D117: Chemická kotva s kotevným svorníkom tesnená chemickou ampulkou do betónu, ŽB, kameňa, s vyvŕtaním otvoru M14/20/165 mm | F117: ks | G117: 8 | I117: =ROUND(G117*(H117),2) -> 0 | J117: =ROUND(G117*(N117),2) -> 52.08 | K117: =ROUND(G117*(O117),2) -> 0 | M117: =ROUND(G117*(H117),2) -> 0 | N117: 6.51 | S117: =ROUND(G117*(P117),3) -> 0 | Z117: 0
C118: 9 | D118: OSTATNÉ PRÁCE | I118: =ROUND((SUM(I116:I117))/1,2) -> 0 | L118: =ROUND((SUM(L116:L117))/1,2) -> 0 | M118: =ROUND((SUM(M116:M117))/1,2) -> 0 | S118: =ROUND((SUM(S116:S117))/1,2) -> 0 | V118: =ROUND((SUM(V116:V117))/1,2) -> 0
C120: 99 | D120: PRESUNY HMÔT
B121: 22 | C121: 998011031.S | D121: Presun hmôt pre budovy (801, 803, 812), zvislá konštr. z blokov, výšky do 6 m | F121: t | G121: 42.287 | I121: =ROUND(G121*(H121),2) -> 0 | J121: =ROUND(G121*(N121),2) -> 462.62 | K121: =ROUND(G121*(O121),2) -> 0 | M121: =ROUND(G121*(H121),2) -> 0 | N121: 10.94 | S121: =ROUND(G121*(P121),3) -> 0 | Z121: 0
C122: 99 | D122: PRESUNY HMÔT | I122: =ROUND((SUM(I120:I121))/1,2) -> 0 | L122: =ROUND((SUM(L120:L121))/1,2) -> 0 | M122: =ROUND((SUM(M120:M121))/1,2) -> 0 | S122: =ROUND((SUM(S120:S121))/1,2) -> 0 | V122: =ROUND((SUM(V120:V121))/1,2) -> 0
D124: Práce HSV | I124: =ROUND((SUM(I86:I123))/2,2) -> 0 | L124: =ROUND((SUM(L86:L123))/2,2) -> 0 | M124: =ROUND((SUM(M86:M123))/2,2) -> 0 | S124: =ROUND((SUM(S86:S123))/2,2) -> 23.97 | V124: =ROUND((SUM(V86:V123))/2,2) -> 0
D126: Práce PSV
C127: 711 | D127: IZOLÁCIE PROTI VODE A VLHKOSTI
B128: 23 | C128: 711210200.S | D128: Zhotovenie dvojnásobnej izol. stierky balkónov a terás na ploche vodorovnej | F128: m2 | G128: 24.8 | I128: =ROUND(G128*(H128),2) -> 0 | J128: =ROUND(G128*(N128),2) -> 87.05 | K128: =ROUND(G128*(O128),2) -> 0 | M128: =ROUND(G128*(H128),2) -> 0 | N128: 3.51 | S128: =ROUND(G128*(P128),3) -> 0 | Z128: 0
B129: 24 | C129: 245650000400.S | D129: Stierka hydroizolačná na báze cementu | F129: kg | G129: 69.44 | I129: =ROUND(G129*(H129),2) -> 0 | J129: =ROUND(G129*(N129),2) -> 290.95 | K129: =ROUND(G129*(O129),2) -> 0 | M129: =ROUND(G129*(H129),2) -> 0 | N129: 4.19 | S129: =ROUND(G129*(P129),3) -> 0 | Z129: 0
B130: 25 | C130: 998711201.S | D130: Presun hmôt pre izoláciu proti vode v objektoch výšky do 6 m | F130: % | G130: 2.6 | I130: =ROUND(G130*(H130),2) -> 0 | J130: =ROUND(G130*(N130),2) -> 9.82 | K130: =ROUND(G130*(O130),2) -> 0 | M130: =ROUND(G130*(H130),2) -> 0 | N130: 3.7777499 | S130: =ROUND(G130*(P130),3) -> 0 | Z130: 0
...

Sheet SO 15316
B1: Krycí list rozpočtu | E1: Rekapitulácia rozpočtu | H1: Rozpočet | W1: 30.126
B2: Krycí list rozpočtu
B3: Stavba Stojiska na separovanie odpadu v obci Čičava
B4: Objekt Stojisko č.3 | F4: Miesto:
F5: Ks:
B6: Zákazka: | D6: Spracoval: Ing. Ján Halgaš | F6: Dňa | G6: 12. 5. 2021
B7: Odberateľ: Obec Čičava
B8: IČO: | F8: DIČ:
B9: Projektant: D. D. - ARCH s. r. o.
B10: IČO: | F10: DIČ:
B11: Dodávateľ:
B12: IČO: | F12: DIČ:
B14: ZRN | C14: Montáž | D14: Materiál | E14: ZRN spolu | F14: Ďalšie náklady
B15: HSV | C15: ='SO 15316'!E61 -> 0 | D15: ='SO 15316'!F61 -> 0 | E15: ='SO 15316'!G61 -> 0 | P15: 0
B16: PSV | C16: ='SO 15316'!E69 -> 0 | D16: ='SO 15316'!F69 -> 0 | E16: ='SO 15316'!G69 -> 0 | F16: Komplet. činnosť | P16: =(SUM(Z86:Z185)) -> 0
B17: MONT | F17: HZS | P17: 0
B18: VRN
B19: Spolu | E19: =SUM(E15:E18) -> 0 | F19: Spolu | P19: =SUM(P15:P18) -> 0
B20: VRN | F20: VRN
B21: Zariadenie staveniska 0% | E21: =((E15*U22*0)+(E16*V22*0)+(E17*W22*0))/100 -> 0 | F21: Mimoriadne sťaž.podmienky 0% | P21: =((E15*X22*0)+(E16*Y22*0)+(E17*Z22*0))/100 -> 0
B22: Územie so sťaž. podmienk. 0% | E22: =((E15*U23*0)+(E16*V23*0)+(E17*W23*0))/100 -> 0 | F22: Horské oblasti 0% | P22: =((E15*X23*0)+(E16*Y23*0)+(E17*Z23*0))/100 -> 0 | U22: 1 | V22: 1 | W22: 1 | X22: 1 | Y22: 1 | Z22: 1
B23: Prevádzkové vplyvy 0% | E23: =((E15*U24*0)+(E16*V24*0)+(E17*W24*0))/100 -> 0 | F23: Mimostavenisková doprava 0% | P23: =((E15*X24*0)+(E16*Y24*0)+(E17*Z24*0))/100 -> 0 | U23: 1 | V23: 1 | W23: 0 | X23: 1 | Y23: 1 | Z23: 1
U24: 1 | V24: 1 | W24: 1 | X24: 1 | Y24: 1 | Z24: 0
F25: Spolu | P25: =SUM(E21:E24)+SUM(P21:P24) -> 0
B26: Projektant,rozpočtár | F26: Celkové náklady
F27: Celkové náklady bez DPH | P27: =E19+P19+E25+P25 -> 0
F28: DPH 20% z | H28: =P27-SUM('SO 15316'!K86:'SO 15316'!K185) -> 0 | P28: =ROUND(((ROUND(H28,2)*20)*1/100),2) -> 0
F29: DPH 0% z | H29: =SUM('SO 15316'!K86:'SO 15316'!K185) -> 0 | P29: =ROUND(((ROUND(H29,2)*0)/100),2) -> 0
F30: Spolu v EUR | P30: =SUM(P27:P29) -> 0
B32: Odberateľ | E32: Dodávateľ
B44: Rekapitulácia rozpočtu
B46: Odberateľ: Obec Čičava | F46: Spracoval: Ing. Ján Halgaš
B47: Projektant: D. D. - ARCH s. r. o. | F47: Ks:
B48: Dodávateľ: | F48: Dátum: 12. 5. 2021
B49: Stavba Stojiska na separovanie odpadu v obci Čičava
B50: Objekt Stojisko č.3
B53: Prehľad rozpočtových nákladov
B54: Oddiel | E54: Montáž | F54: Materiál | G54: Spolu | H54: Hmotnosť (T) | I54: Suť (T)
B55: Práce HSV
B56: ZEMNÉ PRÁCE | E56: ='SO 15316'!L97 -> 0 | F56: ='SO 15316'!M97 -> 0 | G56: ='SO 15316'!I97 -> 0 | H56: ='SO 15316'!S97 -> 0 | I56: ='SO 15316'!V97 -> 0
B57: ZÁKLADY | E57: ='SO 15316'!L108 -> 0 | F57: ='SO 15316'!M108 -> 0 | G57: ='SO 15316'!I108 -> 0 | H57: ='SO 15316'!S108 -> 23.97 | I57: ='SO 15316'!V108 -> 0
B58: ZVISLÉ KONŠTRUKCIE | E58: ='SO 15316'!L114 -> 0 | F58: ='SO 15316'!M114 -> 0 | G58: ='SO 15316'!I114 -> 0 | H58: ='SO 15316'!S114 -> 0 | I58: ='SO 15316'!V114 -> 0
B59: OSTATNÉ PRÁCE | E59: ='SO 15316'!L118 -> 0 | F59: ='SO 15316'!M118 -> 0 | G59: ='SO 15316'!I118 -> 0 | H59: ='SO 15316'!S118 -> 0 | I59: ='SO 15316'!V118 -> 0
B60: PRESUNY HMÔT | E60: ='SO 15316'!L122 -> 0 | F60: ='SO 15316'!M122 -> 0 | G60: ='SO 15316'!I122 -> 0 | H60: ='SO 15316'!S122 -> 0 | I60: ='SO 15316'!V122 -> 0
B61: Práce HSV | E61: ='SO 15316'!L124 -> 0 | F61: ='SO 15316'!M124 -> 0 | G61: ='SO 15316'!I124 -> 0 | H61: ='SO 15316'!S124 -> 23.97 | I61: ='SO 15316'!V124 -> 0
B63: Práce PSV
B64: IZOLÁCIE PROTI VODE A VLHKOSTI | E64: ='SO 15316'!L131 -> 0 | F64: ='SO 15316'!M131 -> 0 | G64: ='SO 15316'!I131 -> 0 | H64: ='SO 15316'!S131 -> 0 | I64: ='SO 15316'!V131 -> 0
B65: KONŠTRUKCIE TESÁRSKE | E65: ='SO 15316'!L151 -> 0 | F65: ='SO 15316'!M151 -> 0 | G65: ='SO 15316'!I151 -> 0 | H65: ='SO 15316'!S151 -> 0.08 | I65: ='SO 15316'!V151 -> 0
B66: KONŠTRUKCIE KLAMPIARSKE | E66: ='SO 15316'!L166 -> 0 | F66: ='SO 15316'!M166 -> 0 | G66: ='SO 15316'!I166 -> 0 | H66: ='SO 15316'!S166 -> 0.03 | I66: ='SO 15316'!V166 -> 0
B67: KOVOVÉ DOPLNKOVÉ KONŠTRUKCIE | E67: ='SO 15316'!L175 -> 0 | F67: ='SO 15316'!M175 -> 0 | G67: ='SO 15316'!I175 -> 0 | H67: ='SO 15316'!S175 -> 0 | I67: ='SO 15316'!V175 -> 0
B68: NÁTERY | E68: ='SO 15316'!L183 -> 0 | F68: ='SO 15316'!M183 -> 0 | G68: ='SO 15316'!I183 -> 0 | H68: ='SO 15316'!S183 -> 0.03 | I68: ='SO 15316'!V183 -> 0
B69: Práce PSV | E69: ='SO 15316'!L185 -> 0 | F69: ='SO 15316'!M185 -> 0 | G69: ='SO 15316'!I185 -> 0 | H69: ='SO 15316'!S185 -> 0.14 | I69: ='SO 15316'!V185 -> 0
B71: Celkom v EUR | E71: ='SO 15316'!L186 -> 0 | F71: ='SO 15316'!M186 -> 0 | G71: ='SO 15316'!I186 -> 0 | H71: ='SO 15316'!S186 -> 24.11 | I71: ='SO 15316'!V186 -> 0
B75: Rozpočet
B77: Odberateľ: Obec Čičava | H77: Spracoval: | I77: Ing. Ján Halgaš
B78: Projektant: D. D. - ARCH s. r. o. | H78: Ks:
B79: Dodávateľ: | H79: Dátum: | I79: 12. 5. 2021
B80: Zákazka Stojiska na separovanie odpadu v obci Čičava
B81: Objekt Stojisko č.3
B84: Prehľad rozpočtových nákladov
B85: Por.č. | C85: Kód položky | D85: Názov | F85: Mj | G85: Množstvo | H85: Cena/Mj | I85: Cena celkom | P85: Hmotnosť/Mj | S85: Hmotnosť | V85: Suť
D86: Práce HSV
C87: 1 | D87: ZEMNÉ PRÁCE
B88: 1 | C88: 122201101.S | D88: Odkopávka a prekopávka nezapažená v hornine 3, do 100 m3 | F88: m3 | G88: 12.24 | I88: =ROUND(G88*(H88),2) -> 0 | J88: =ROUND(G88*(N88),2) -> 80.54 | K88: =ROUND(G88*(O88),2) -> 0 | M88: =ROUND(G88*(H88),2) -> 0 | N88: 6.58 | S88: =ROUND(G88*(P88),3) -> 0 | Z88: 0
B89: 2 | C89: 122201109.S | D89: Odkopávky a prekopávky nezapažené. Príplatok k cenám za lepivosť horniny 3 | F89: m3 | G89: 12.24 | I89: =ROUND(G89*(H89),2) -> 0 | J89: =ROUND(G89*(N89),2) -> 12.48 | K89: =ROUND(G89*(O89),2) -> 0 | M89: =ROUND(G89*(H89),2) -> 0 | N89: 1.02 | S89: =ROUND(G89*(P89),3) -> 0 | Z89: 0
B90: 3 | C90: 132201101.S | D90: Výkop ryhy do šírky 600 mm v horn.3 do 100 m3 | F90: m3 | G90: 5.508 | I90: =ROUND(G90*(H90),2) -> 0 | J90: =ROUND(G90*(N90),2) -> 171.08 | K90: =ROUND(G90*(O90),2) -> 0 | M90: =ROUND(G90*(H90),2) -> 0 | N90: 31.06 | S90: =ROUND(G90*(P90),3) -> 0 | Z90: 0
B91: 4 | C91: 132201109.S | D91: Príplatok k cene za lepivosť pri hĺbení rýh šírky do 600 mm zapažených i nezapažených s urovnaním dna v hornine 3 | F91: m3 | G91: 5.508 | I91: =ROUND(G91*(H91),2) -> 0 | J91: =ROUND(G91*(N91),2) -> 48.36 | K91: =ROUND(G91*(O91),2) -> 0 | M91: =ROUND(G91*(H91),2) -> 0 | N91: 8.78 | S91: =ROUND(G91*(P91),3) -> 0 | Z91: 0
B92: 5 | C92: 162501102.S | D92: Vodorovné premiestnenie výkopku po spevnenej ceste z horniny tr.1-4, do 100 m3 na vzdialenosť do 3000 m | F92: m3 | G92: 17.748 | I92: =ROUND(G92*(H92),2) -> 0 | J92: =ROUND(G92*(N92),2) -> 75.25 | K92: =ROUND(G92*(O92),2) -> 0 | M92: =ROUND(G92*(H92),2) -> 0 | N92: 4.24 | S92: =ROUND(G92*(P92),3) -> 0 | Z92: 0
B93: 6 | C93: 167101101.S | D93: Nakladanie neuľahnutého výkopku z hornín tr.1-4 do 100 m3 | F93: m3 | G93: 17.748 | I93: =ROUND(G93*(H93),2) -> 0 | J93: =ROUND(G93*(N93),2) -> 130.98 | K93: =ROUND(G93*(O93),2) -> 0 | M93: =ROUND(G93*(H93),2) -> 0 | N93: 7.38 | S93: =ROUND(G93*(P93),3) -> 0 | Z93: 0
B94: 7 | C94: 171201101.S | D94: Uloženie sypaniny do násypov s rozprestretím sypaniny vo vrstvách a s hrubým urovnaním nezhutnených | F94: m3 | G94: 17.748 | I94: =ROUND(G94*(H94),2) -> 0 | J94: =ROUND(G94*(N94),2) -> 17.04 | K94: =ROUND(G94*(O94),2) -> 0 | M94: =ROUND(G94*(H94),2) -> 0 | N94: 0.96 | S94: =ROUND(G94*(P94),3) -> 0 | Z94: 0
B95: 8 | C95: 181201101.S | D95: Úprava pláne v násypoch v hornine 1-4 bez zhutnenia | F95: m2 | G95: 32.4 | I95: =ROUND(G95*(H95),2) -> 0 | J95: =ROUND(G95*(N95),2) -> 7.78 | K95: =ROUND(G95*(O95),2) -> 0 | M95: =ROUND(G95*(H95),2) -> 0 | N95: 0.24 | S95: =ROUND(G95*(P95),3) -> 0 | Z95: 0
B96: 9 | C96: 181301103.S | D96: Rozprestretie ornice v rovine , plocha do 500 m2, hr.do 200 mm | F96: m2 | G96: 32.4 | I96: =ROUND(G96*(H96),2) -> 0 | J96: =ROUND(G96*(N96),2) -> 114.05 | K96: =ROUND(G96*(O96),2) -> 0 | M96: =ROUND(G96*(H96),2) -> 0 | N96: 3.52 | S96: =ROUND(G96*(P96),3) -> 0 | Z96: 0
C97: 1 | D97: ZEMNÉ PRÁCE | I97: =ROUND((SUM(I87:I96))/1,2) -> 0 | L97: =ROUND((SUM(L87:L96))/1,2) -> 0 | M97: =ROUND((SUM(M87:M96))/1,2) -> 0 | S97: =ROUND((SUM(S87:S96))/1,2) -> 0 | V97: =ROUND((SUM(V87:V96))/1,2) -> 0
C99: 2 | D99: ZÁKLADY
B100: 10 | C100: 271573001.S | D100: Násyp pod základové konštrukcie so zhutnením zo štrkopiesku fr.0-32 mm | F100: m3 | G100: 1.552 | I100: =ROUND(G100*(H100),2) -> 0 | J100: =ROUND(G100*(N100),2) -> 68.3 | K100: =ROUND(G100*(O100),2) -> 0 | M100: =ROUND(G100*(H100),2) -> 0 | N100: 44.01 | P100: 2.07 | R100: 2.07 | S100: =ROUND(G100*(P100),3) -> 3.213 | Z100: 0
B101: 11 | C101: 273321311.S | D101: Betón základových dosiek, železový (bez výstuže), tr. C 16/20 | F101: m3 | G101: 3.68 | I101: =ROUND(G101*(H101),2) -> 0 | J101: =ROUND(G101*(N101),2) -> 350.3 | K101: =ROUND(G101*(O101),2) -> 0 | M101: =ROUND(G101*(H101),2) -> 0 | N101: 95.19 | P101: 2.4172 | R101: 2.4172 | S101: =ROUND(G101*(P101),3) -> 8.895 | Z101: 0
B102: 12 | C102: 273351217.S | D102: Debnenie stien základových dosiek, zhotovenie-tradičné | F102: m2 | G102: 2.84 | I102: =ROUND(G102*(H102),2) -> 0 | J102: =ROUND(G102*(N102),2) -> 40.07 | K102: =ROUND(G102*(O102),2) -> 0 | M102: =ROUND(G102*(H102),2) -> 0 | N102: 14.11 | P102: 0.00407 | R102: 0.00407 | S102: =ROUND(G102*(P102),3) -> 0.012 | Z102: 0
B103: 13 | C103: 273351218.S | D103: Debnenie stien základových dosiek, odstránenie-tradičné | F103: m2 | G103: 2.84 | I103: =ROUND(G103*(H103),2) -> 0 | J103: =ROUND(G103*(N103),2) -> 13.72 | K103: =ROUND(G103*(O103),2) -> 0 | M103: =ROUND(G103*(H103),2) -> 0 | N103: 4.83 | S103: =ROUND(G103*(P103),3) -> 0 | Z103: 0
B104: 14 | C104: 273362421.S | D104: Výstuž základových dosiek zo zvár. sietí KARI, priemer drôtu 6/6 mm, veľkosť oka 100x100 mm | F104: m2 | G104: 32.8 | I104: =ROUND(G104*(H104),2) -> 0 | J104: =ROUND(G104*(N104),2) -> 169.25 | K104: =ROUND(G104*(O104),2) -> 0 | M104: =ROUND(G104*(H104),2) -> 0 | N104: 5.16 | P104: 0.00494 | R104: 0.00494 | S104: =ROUND(G104*(P104),3) -> 0.162 | Z104: 0
B105: 15 | C105: 274313521.S | D105: Betón základových pásov, prostý tr. C 12/15 | F105: m3 | G105: 4.896 | I105: =ROUND(G105*(H105),2) -> 0 | J105: =ROUND(G105*(N105),2) -> 421.84 | K105: =ROUND(G105*(O105),2) -> 0 | M105: =ROUND(G105*(H105),2) -> 0 | N105: 86.16 | P105: 2.3778966 | R105: 2.3778966 | S105: =ROUND(G105*(P105),3) -> 11.642 | Z105: 0
B106: 16 | C106: 274351217.S | D106: Debnenie stien základových pásov, zhotovenie-tradičné | F106: m2 | G106: 10.2 | I106: =ROUND(G106*(H106),2) -> 0 | J106: =ROUND(G106*(N106),2) -> 145.55 | K106: =ROUND(G106*(O106),2) -> 0 | M106: =ROUND(G106*(H106),2) -> 0 | N106: 14.27 | P106: 0.00407 | R106: 0.00407 | S106: =ROUND(G106*(P106),3) -> 0.042 | Z106: 0
B107: 17 | C107: 274351218.S | D107: Debnenie stien základových pásov, odstránenie-tradičné | F107: m2 | G107: 10.2 | I107: =ROUND(G107*(H107),2) -> 0 | J107: =ROUND(G107*(N107),2) -> 50.18 | K107: =ROUND(G107*(O107),2) -> 0 | M107: =ROUND(G107*(H107),2) -> 0 | N107: 4.92 | S107: =ROUND(G107*(P107),3) -> 0 | Z107: 0
C108: 2 | D108: ZÁKLADY | I108: =ROUND((SUM(I99:I107))/1,2) -> 0 | L108: =ROUND((SUM(L99:L107))/1,2) -> 0 | M108: =ROUND((SUM(M99:M107))/1,2) -> 0 | S108: =ROUND((SUM(S99:S107))/1,2) -> 23.97 | V108: =ROUND((SUM(V99:V107))/1,2) -> 0
C110: 3 | D110: ZVISLÉ KONŠTRUKCIE
B111: 18 | C111: 318271007.1 | D111: Murovanie z betónových tvárnic hr. 200 mm s betónovou výplňou | F111: m2 | G111: 39.6 | I111: =ROUND(G111*(H111),2) -> 0 | J111: =ROUND(G111*(N111),2) -> 775.37 | K111: =ROUND(G111*(O111),2) -> 0 | M111: =ROUND(G111*(H111),2) -> 0 | N111: 19.58 | S111: =ROUND(G111*(P111),3) -> 0 | Z111: 0
B112: 19 | C112: 592330008000 | D112: Plotová tvárnica z hladkého betónu, 400x200x200 mm, grafit | F112: ks | G112: 504.9 | I112: =ROUND(G112*(H112),2) -> 0 | J112: =ROUND(G112*(N112),2) -> 1888.33 | K112: =ROUND(G112*(O112),2) -> 0 | M112: =ROUND(G112*(H112),2) -> 0 | N112: 3.74 | S112: =ROUND(G112*(P112),3) -> 0 | Z112: 0
B113: 20 | C113: 318271071.S | D113: Výstuž pre oplotenie z betónových tvárnic s betónovou výplňou | F113: t | G113: 0.197 | I113: =ROUND(G113*(H113),2) -> 0 | J113: =ROUND(G113*(N113),2) -> 194.47 | K113: =ROUND(G113*(O113),2) -> 0 | M113: =ROUND(G113*(H113),2) -> 0 | N113: 987.17 | S113: =ROUND(G113*(P113),3) -> 0 | Z113: 0
C114: 3 | D114: ZVISLÉ KONŠTRUKCIE | I114: =ROUND((SUM(I110:I113))/1,2) -> 0 | L114: =ROUND((SUM(L110:L113))/1,2) -> 0 | M114: =ROUND((SUM(M110:M113))/1,2) -> 0 | S114: =ROUND((SUM(S110:S113))/1,2) -> 0 | V114: =ROUND((SUM(V110:V113))/1,2) -> 0
C116: 9 | D116: OSTATNÉ PRÁCE
B117: 21 | C117: 959941131.1 | D117: Chemická kotva s kotevným svorníkom tesnená chemickou ampulkou do betónu, ŽB, kameňa, s vyvŕtaním otvoru M14/20/165 mm | F117: ks | G117: 8 | I117: =ROUND(G117*(H117),2) -> 0 | J117: =ROUND(G117*(N117),2) -> 52.08 | K117: =ROUND(G117*(O117),2) -> 0 | M117: =ROUND(G117*(H117),2) -> 0 | N117: 6.51 | S117: =ROUND(G117*(P117),3) -> 0 | Z117: 0
C118: 9 | D118: OSTATNÉ PRÁCE | I118: =ROUND((SUM(I116:I117))/1,2) -> 0 | L118: =ROUND((SUM(L116:L117))/1,2) -> 0 | M118: =ROUND((SUM(M116:M117))/1,2) -> 0 | S118: =ROUND((SUM(S116:S117))/1,2) -> 0 | V118: =ROUND((SUM(V116:V117))/1,2) -> 0
C120: 99 | D120: PRESUNY HMÔT
B121: 22 | C121: 998011031.S | D121: Presun hmôt pre budovy (801, 803, 812), zvislá konštr. z blokov, výšky do 6 m | F121: t | G121: 42.287 | I121: =ROUND(G121*(H121),2) -> 0 | J121: =ROUND(G121*(N121),2) -> 462.62 | K121: =ROUND(G121*(O121),2) -> 0 | M121: =ROUND(G121*(H121),2) -> 0 | N121: 10.94 | S121: =ROUND(G121*(P121),3) -> 0 | Z121: 0
C122: 99 | D122: PRESUNY HMÔT | I122: =ROUND((SUM(I120:I121))/1,2) -> 0 | L122: =ROUND((SUM(L120:L121))/1,2) -> 0 | M122: =ROUND((SUM(M120:M121))/1,2) -> 0 | S122: =ROUND((SUM(S120:S121))/1,2) -> 0 | V122: =ROUND((SUM(V120:V121))/1,2) -> 0
D124: Práce HSV | I124: =ROUND((SUM(I86:I123))/2,2) -> 0 | L124: =ROUND((SUM(L86:L123))/2,2) -> 0 | M124: =ROUND((SUM(M86:M123))/2,2) -> 0 | S124: =ROUND((SUM(S86:S123))/2,2) -> 23.97 | V124: =ROUND((SUM(V86:V123))/2,2) -> 0
D126: Práce PSV
C127: 711 | D127: IZOLÁCIE PROTI VODE A VLHKOSTI
B128: 23 | C128: 711210200.S | D128: Zhotovenie dvojnásobnej izol. stierky balkónov a terás na ploche vodorovnej | F128: m2 | G128: 24.8 | I128: =ROUND(G128*(H128),2) -> 0 | J128: =ROUND(G128*(N128),2) -> 87.05 | K128: =ROUND(G128*(O128),2) -> 0 | M128: =ROUND(G128*(H128),2) -> 0 | N128: 3.51 | S128: =ROUND(G128*(P128),3) -> 0 | Z128: 0
B129: 24 | C129: 245650000400.S | D129: Stierka hydroizolačná na báze cementu | F129: kg | G129: 69.44 | I129: =ROUND(G129*(H129),2) -> 0 | J129: =ROUND(G129*(N129),2) -> 290.95 | K129: =ROUND(G129*(O129),2) -> 0 | M129: =ROUND(G129*(H129),2) -> 0 | N129: 4.19 | S129: =ROUND(G129*(P129),3) -> 0 | Z129: 0
B130: 25 | C130: 998711201.S | D130: Presun hmôt pre izoláciu proti vode v objektoch výšky do 6 m | F130: % | G130: 2.6 | I130: =ROUND(G130*(H130),2) -> 0 | J130: =ROUND(G130*(N130),2) -> 9.82 | K130: =ROUND(G130*(O130),2) -> 0 | M130: =ROUND(G130*(H130),2) -> 0 | N130: 3.7777499 | S130: =ROUND(G130*(P130),3) -> 0 | Z130: 0
...
