Workbook

Sheet Rekapitulácia
A2: Rekapitulácia rozpočtu | F2: Sadzby DPH
F3: A | G3: B
A4: Stavba Prístavba kuchyne ku kultúrnemu domu - Čičava | F4: 0.2 | G4: 0
A6: Názov objektu | B6: ZRN | C6: VRN | D6: HZS | E6: Kompl.čin. | F6: Ost. náklady | G6: Cena
A7: SO 01 - Hlavný objekt - ASR | B7: ='SO 12918'!I236-Rekapitulácia!D7 -> 0 | C7: ='Kryci_list 12918'!J26 -> 0 | D7: 0 | E7: ='Kryci_list 12918'!J17 -> 0 | F7: 0 | G7: =B7+C7+D7+E7+F7 -> 0 | K7: ='SO 12918'!K236 -> 0 | Q7: 30.126
A8: SO 01 - Hlavný objekt - ÚK | B8: ='SO 12919'!I62-Rekapitulácia!D8 -> 0 | C8: ='Kryci_list 12919'!J26 -> 0 | D8: 0 | E8: ='Kryci_list 12919'!J17 -> 0 | F8: 0 | G8: =B8+C8+D8+E8+F8 -> 0 | K8: ='SO 12919'!K62 -> 0 | Q8: 30.126
A9: SO 01 - Hlavný objekt - ZTI | B9: ='SO 12920'!I80-Rekapitulácia!D9 -> 0 | C9: ='Kryci_list 12920'!J26 -> 0 | D9: 0 | E9: ='Kryci_list 12920'!J17 -> 0 | F9: 0 | G9: =B9+C9+D9+E9+F9 -> 0 | K9: ='SO 12920'!K80 -> 0 | Q9: 30.126
A10: SO 01 - Hlavný objekt - ASR - ELI | B10: ='SO 12921'!I74-Rekapitulácia!D10 -> 0 | C10: ='Kryci_list 12921'!J26 -> 0 | D10: 0 | E10: ='Kryci_list 12921'!J17 -> 0 | F10: 0 | G10: =B10+C10+D10+E10+F10 -> 0 | K10: ='SO 12921'!K74 -> 0 | Q10: 30.126
A11: SO 01 - Hlavný objekt - Bleskozvod | B11: ='SO 12922'!I52-Rekapitulácia!D11 -> 0 | C11: ='Kryci_list 12922'!J26 -> 0 | D11: 0 | E11: ='Kryci_list 12922'!J17 -> 0 | F11: 0 | G11: =B11+C11+D11+E11+F11 -> 0 | K11: ='SO 12922'!K52 -> 0 | Q11: 30.126
A12: Celkom bez DPH | B12: =SUM(B7:B11) -> 0 | C12: =SUM(C7:C11) -> 0 | D12: =SUM(D7:D11) -> 0 | E12: =SUM(E7:E11) -> 0 | F12: =SUM(F7:F11) -> 0 | G12: =SUM(G7:G11)-SUM(Z7:Z11) -> 0
A13: DPH 20% z | B13: =G12-SUM(Rekapitulácia!K7:'Rekapitulácia'!K11)*1 -> 0 | G13: =ROUND(((ROUND(B13,2)*20)/100),2)*1 -> 0
A14: DPH 0% z | B14: =(G12-B13) -> 0 | G14: =ROUND(((ROUND(B14,2)*0)/100),2) -> 0
A15: Celkom v EUR | G15: =SUM(G12:G14) -> 0

Sheet Krycí list stavby
F1: Krycí list stavby | W1: 30.126
B2: Stavba Prístavba kuchyne ku kultúrnemu domu - Čičava | G2: Miesto:
G3: Ks:
B5: Zákazka: | F5: Spracoval: Ing. Ján Halgaš | I5: Dňa | J5: 05.06.2018
B6: Odberateľ: Obec Čičava | G6: IČO:
G7: DIČ:
B8: Dodávateľ: | G8: IČO:
G9: DIČ:
B10: Projektant: D. D. - ARCH s. r. o. | G10: IČO:
G11: DIČ:
B15: A | C15: ZRN | D15: Montáž | E15: Materiál | F15: ZRN spolu | G15: B | H15: Ďalšie náklady
B16: 1 | C16: HSV | D16: ='Kryci_list 12918'!D16+'Kryci_list 12919'!D16+'Kryci_list 12920'!D16+'Kryci_list 12921'!D16+'Kryci_list 12922'!D16 -> 0 | E16: ='Kryci_list 12918'!E16+'Kryci_list 12919'!E16+'Kryci_list 12920'!E16+'Kryci_list 12921'!E16+'Kryci_list 12922'!E16 -> 0 | F16: ='Kryci_list 12918'!F16+'Kryci_list 12919'!F16+'Kryci_list 12920'!F16+'Kryci_list 12921'!F16+'Kryci_list 12922'!F16 -> 0 | G16: 6 | H16: Ostatné náklady | J16: =Rekapitulácia!F12 -> 0
B17: 2 | C17: PSV | D17: ='Kryci_list 12918'!D17+'Kryci_list 12919'!D17+'Kryci_list 12920'!D17+'Kryci_list 12921'!D17+'Kryci_list 12922'!D17 -> 0 | E17: ='Kryci_list 12918'!E17+'Kryci_list 12919'!E17+'Kryci_list 12920'!E17+'Kryci_list 12921'!E17+'Kryci_list 12922'!E17 -> 0 | F17: ='Kryci_list 12918'!F17+'Kryci_list 12919'!F17+'Kryci_list 12920'!F17+'Kryci_list 12921'!F17+'Kryci_list 12922'!F17 -> 0 | G17: 7 | H17: Kompletačná činnosť | J17: =Rekapitulácia!E12 -> 0
B18: 3 | C18: MONT | D18: ='Kryci_list 12918'!D18+'Kryci_list 12919'!D18+'Kryci_list 12920'!D18+'Kryci_list 12921'!D18+'Kryci_list 12922'!D18 -> 0 | E18: ='Kryci_list 12918'!E18+'Kryci_list 12919'!E18+'Kryci_list 12920'!E18+'Kryci_list 12921'!E18+'Kryci_list 12922'!E18 -> 0 | F18: ='Kryci_list 12918'!F18+'Kryci_list 12919'!F18+'Kryci_list 12920'!F18+'Kryci_list 12921'!F18+'Kryci_list 12922'!F18 -> 0 | G18: 8 | H18: HZS | J18: =Rekapitulácia!D12 -> 0
B19: 4 | G19: 9
B20: 5 | C20: Spolu | F20: =SUM(F16:F19) -> 0 | G20: 10 | H20: Spolu | J20: =SUM(J16:J19) -> 0
B21: C | C21: VRN | G21: D | H21: VRN
B22: 11 | C22: Zariadenie staveniska | F22: ='Kryci_list 12918'!F22+'Kryci_list 12919'!F22+'Kryci_list 12920'!F22+'Kryci_list 12921'!F22+'Kryci_list 12922'!F22 -> 0 | G22: 16 | H22: Sťažené podmienky dopravy | J22: ='Kryci_list 12918'!J22+'Kryci_list 12919'!J22+'Kryci_list 12920'!J22+'Kryci_list 12921'!J22+'Kryci_list 12922'!J22 -> 0
B23: 12 | C23: Sťažené výrobné podmienky | F23: ='Kryci_list 12918'!F23+'Kryci_list 12919'!F23+'Kryci_list 12920'!F23+'Kryci_list 12921'!F23+'Kryci_list 12922'!F23 -> 0 | G23: 17 | H23: Horské oblasti | J23: ='Kryci_list 12918'!J23+'Kryci_list 12919'!J23+'Kryci_list 12920'!J23+'Kryci_list 12921'!J23+'Kryci_list 12922'!J23 -> 0
B24: 13 | C24: Prevádzkové vplyvy | F24: ='Kryci_list 12918'!F24+'Kryci_list 12919'!F24+'Kryci_list 12920'!F24+'Kryci_list 12921'!F24+'Kryci_list 12922'!F24 -> 0 | G24: 18 | H24: Mimostavenisková doprava | J24: ='Kryci_list 12918'!J24+'Kryci_list 12919'!J24+'Kryci_list 12920'!J24+'Kryci_list 12921'!J24+'Kryci_list 12922'!J24 -> 0
B25: 14 | G25: 19
B26: 15 | G26: 20 | H26: Spolu | J26: =SUM(J22:J25)+SUM(F22:F25) -> 0
C27: Projektant,rozpočtár | G27: E | H27: Celkové náklady
G28: 21 | H28: Súčet riadkov 5,10,15,20 | J28: =F20+J20+F26+J26 -> 0
G29: 22 | H29: DPH 20% z | I29: =Rekapitulácia!B13 -> 0 | J29: =ROUND(((ROUND(I29,2)*20)/100),2)*1 -> 0
G30: 23 | H30: DPH 0% z | I30: =Rekapitulácia!B14 -> 0 | J30: =ROUND(((ROUND(I30,2)*0)/100),2) -> 0
G31: 24 | H31: Spolu v EUR | J31: =SUM(J28:J30) -> 0
G32: F
D33: Odberateľ | H33: Dodávateľ

Sheet Kryci_list 12918
F1: Krycí list rozpočtu | W1: 30.126
B2: Stavba Prístavba kuchyne ku kultúrnemu domu - Čičava | G2: Miesto:
B3: Objekt SO 01 - Hlavný objekt - ASR
I4: Ks:
B5: Zákazka: | F5: Spracoval: Ing. Ján Halgaš | I5: Dňa | J5: 05.06.2018
B6: Odberateľ: Obec Čičava | G6: IČO:
G7: DIČ:
B8: Dodávateľ: | G8: IČO:
G9: DIČ:
B10: Projektant: D. D. - ARCH s. r. o. | G10: IČO:
G11: DIČ:
B15: A | C15: ZRN | D15: Montáž | E15: Materiál | F15: ZRN spolu | G15: B | H15: Ďalšie náklady
B16: 1 | C16: HSV | D16: ='Rekap 12918'!B19 -> 0 | E16: ='Rekap 12918'!C19 -> 0 | F16: ='Rekap 12918'!D19 -> 0 | G16: 6 | H16: Ostatné náklady | J16: 0
B17: 2 | C17: PSV | D17: ='Rekap 12918'!B34 -> 0 | E17: ='Rekap 12918'!C34 -> 0 | F17: ='Rekap 12918'!D34 -> 0 | G17: 7 | H17: Kompletačná činnosť | J17: ='SO 12918'!Z236 -> 0
B18: 3 | C18: MONT | G18: 8 | H18: HZS | J18: 0
B19: 4 | G19: 9
B20: 5 | C20: Spolu | F20: =SUM(F16:F19) -> 0 | G20: 10 | H20: Spolu | J20: =SUM(J16:J19) -> 0
B21: C | C21: VRN | G21: D | H21: VRN
B22: 11 | C22: Zariadenie staveniska | E22: 0% z [H+P+M] | F22: =((F16*U22*0)+(F17*V22*0)+(F18*W22*0))/100 -> 0 | G22: 16 | H22: Sťažené podmienky dopravy | I22: 0% z [H+P+M] | J22: =((F16*X22*0)+(F17*Y22*0)+(F18*Z22*0))/100 -> 0 | U22: 1 | V22: 1 | W22: 1 | X22: 1 | Y22: 1 | Z22: 1
B23: 12 | C23: Sťažené výrobné podmienky | E23: 0% z [H+P] | F23: =((F16*U23*0)+(F17*V23*0)+(F18*W23*0))/100 -> 0 | G23: 17 | H23: Horské oblasti | I23: 0% z [H+P+M] | J23: =((F16*X23*0)+(F17*Y23*0)+(F18*Z23*0))/100 -> 0 | U23: 1 | V23: 1 | W23: 0 | X23: 1 | Y23: 1 | Z23: 1
B24: 13 | C24: Prevádzkové vplyvy | E24: 0% z [H+P+M] | F24: =((F16*U24*0)+(F17*V24*0)+(F18*W24*0))/100 -> 0 | G24: 18 | H24: Mimostavenisková doprava | I24: 0% z [H+P] | J24: =((F16*X24*0)+(F17*Y24*0)+(F18*Z24*0))/100 -> 0 | U24: 1 | V24: 1 | W24: 1 | X24: 1 | Y24: 1 | Z24: 0
B25: 14 | G25: 19
B26: 15 | G26: 20 | H26: Spolu | J26: =SUM(J22:J25)+SUM(F22:F25) -> 0
C27: Projektant,rozpočtár | G27: E | H27: Celkové náklady
G28: 21 | H28: Súčet riadkov 5,10,15,20 | J28: =F20+J20+F26+J26 -> 0
G29: 22 | H29: DPH 20% z | I29: =J28-SUM('SO 12918'!K9:'SO 12918'!K235) -> 0 | J29: =ROUND(((ROUND(I29,2)*20)*1/100),2) -> 0
G30: 23 | H30: DPH 0% z | I30: =SUM('SO 12918'!K9:'SO 12918'!K235) -> 0 | J30: =ROUND(((ROUND(I30,2)*0)/100),2) -> 0
G31: 24 | H31: Spolu v EUR | J31: =SUM(J28:J30) -> 0
G32: F
D33: Odberateľ | G33: 26 | H33: Dodávateľ

Sheet Rekap 12918
A1: Odberateľ: Obec Čičava | D1: Spracoval: Ing. Ján Halgaš | W1: 30.126
A2: Projektant: D. D. - ARCH s. r. o. | D2: Ks:
A3: Dodávateľ: | D3: Dátum: 05.06.2018
A4: Stavba Prístavba kuchyne ku kultúrnemu domu - Čičava
A5: Objekt SO 01 - Hlavný objekt - ASR
A8: Prehľad rozpočtových nákladov
A9: Oddiel | B9: Montáž | C9: Materiál | D9: Spolu | E9: Hmotnosť (T) | F9: Suť (T)
A10: Práce HSV
A11: ZEMNÉ PRÁCE | B11: ='SO 12918'!L18 -> 0 | C11: ='SO 12918'!M18 -> 0 | D11: ='SO 12918'!I18 -> 0 | E11: ='SO 12918'!P18 -> 0 | F11: ='SO 12918'!S18 -> 0
A12: ZÁKLADY | B12: ='SO 12918'!L31 -> 0 | C12: ='SO 12918'!M31 -> 0 | D12: ='SO 12918'!I31 -> 0 | E12: ='SO 12918'!P31 -> 66.93 | F12: ='SO 12918'!S31 -> 0
A13: ZVISLÉ KONŠTRUKCIE | B13: ='SO 12918'!L41 -> 0 | C13: ='SO 12918'!M41 -> 0 | D13: ='SO 12918'!I41 -> 0 | E13: ='SO 12918'!P41 -> 7.85 | F13: ='SO 12918'!S41 -> 0
A14: VODOROVNÉ KONŠTRUKCIE | B14: ='SO 12918'!L48 -> 0 | C14: ='SO 12918'!M48 -> 0 | D14: ='SO 12918'!I48 -> 0 | E14: ='SO 12918'!P48 -> 7.4 | F14: ='SO 12918'!S48 -> 0
A15: SPEVNENÉ PLOCHY | B15: ='SO 12918'!L56 -> 0 | C15: ='SO 12918'!M56 -> 0 | D15: ='SO 12918'!I56 -> 0 | E15: ='SO 12918'!P56 -> 14.64 | F15: ='SO 12918'!S56 -> 0
A16: POVRCHOVÉ ÚPRAVY | B16: ='SO 12918'!L78 -> 0 | C16: ='SO 12918'!M78 -> 0 | D16: ='SO 12918'!I78 -> 0 | E16: ='SO 12918'!P78 -> 1.62 | F16: ='SO 12918'!S78 -> 0
A17: OSTATNÉ PRÁCE | B17: ='SO 12918'!L93 -> 0 | C17: ='SO 12918'!M93 -> 0 | D17: ='SO 12918'!I93 -> 0 | E17: ='SO 12918'!P93 -> 2.71 | F17: ='SO 12918'!S93 -> 0
A18: PRESUNY HMÔT | B18: ='SO 12918'!L97 -> 0 | C18: ='SO 12918'!M97 -> 0 | D18: ='SO 12918'!I97 -> 0 | E18: ='SO 12918'!P97 -> 0 | F18: ='SO 12918'!S97 -> 0
A19: Práce HSV | B19: ='SO 12918'!L99 -> 0 | C19: ='SO 12918'!M99 -> 0 | D19: ='SO 12918'!I99 -> 0 | E19: ='SO 12918'!P99 -> 101.15 | F19: ='SO 12918'!S99 -> 0
A21: Práce PSV
A22: IZOLÁCIE PROTI VODE A VLHKOSTI | B22: ='SO 12918'!L110 -> 0 | C22: ='SO 12918'!M110 -> 0 | D22: ='SO 12918'!I110 -> 0 | E22: ='SO 12918'!P110 -> 0.99 | F22: ='SO 12918'!S110 -> 0
A23: POVLAKOVÉ KRYTINY | B23: ='SO 12918'!L139 -> 0 | C23: ='SO 12918'!M139 -> 0 | D23: ='SO 12918'!I139 -> 0 | E23: ='SO 12918'!P139 -> 0.42 | F23: ='SO 12918'!S139 -> 0
A24: IZOLÁCIE TEPELNÉ BEŽNÝCH STAVEB. KONŠTRUKCIÍ | B24: ='SO 12918'!L148 -> 0 | C24: ='SO 12918'!M148 -> 0 | D24: ='SO 12918'!I148 -> 0 | E24: ='SO 12918'!P148 -> 1.21 | F24: ='SO 12918'!S148 -> 0
A25: KONŠTRUKCIE TESÁRSKE | B25: ='SO 12918'!L161 -> 0 | C25: ='SO 12918'!M161 -> 0 | D25: ='SO 12918'!I161 -> 0 | E25: ='SO 12918'!P161 -> 21.31 | F25: ='SO 12918'!S161 -> 0
A26: DREVOSTAVBY | B26: ='SO 12918'!L166 -> 0 | C26: ='SO 12918'!M166 -> 0 | D26: ='SO 12918'!I166 -> 0 | E26: ='SO 12918'!P166 -> 0 | F26: ='SO 12918'!S166 -> 0
A27: KONŠTRUKCIE KLAMPIARSKE | B27: ='SO 12918'!L178 -> 0 | C27: ='SO 12918'!M178 -> 0 | D27: ='SO 12918'!I178 -> 0 | E27: ='SO 12918'!P178 -> 0.11 | F27: ='SO 12918'!S178 -> 0
A28: KONŠTRUKCIE STOLÁRSKE | B28: ='SO 12918'!L198 -> 0 | C28: ='SO 12918'!M198 -> 0 | D28: ='SO 12918'!I198 -> 0 | E28: ='SO 12918'!P198 -> 0.16 | F28: ='SO 12918'!S198 -> 0
A29: KOVOVÉ DOPLNKOVÉ KONŠTRUKCIE | B29: ='SO 12918'!L206 -> 0 | C29: ='SO 12918'!M206 -> 0 | D29: ='SO 12918'!I206 -> 0 | E29: ='SO 12918'!P206 -> 0.03 | F29: ='SO 12918'!S206 -> 0
A30: PODLAHY A OBKLADY KERAMICKÉ-DLAŽBY | B30: ='SO 12918'!L216 -> 0 | C30: ='SO 12918'!M216 -> 0 | D30: ='SO 12918'!I216 -> 0 | E30: ='SO 12918'!P216 -> 0.7 | F30: ='SO 12918'!S216 -> 0
A31: PODLAHY A OBKLADY KERAMICKÉ-OBKLADY | B31: ='SO 12918'!L222 -> 0 | C31: ='SO 12918'!M222 -> 0 | D31: ='SO 12918'!I222 -> 0 | E31: ='SO 12918'!P222 -> 2.18 | F31: ='SO 12918'!S222 -> 0
A32: NÁTERY | B32: ='SO 12918'!L228 -> 0 | C32: ='SO 12918'!M228 -> 0 | D32: ='SO 12918'!I228 -> 0 | E32: ='SO 12918'!P228 -> 0.04 | F32: ='SO 12918'!S228 -> 0
A33: MAĽBY | B33: ='SO 12918'!L233 -> 0 | C33: ='SO 12918'!M233 -> 0 | D33: ='SO 12918'!I233 -> 0 | E33: ='SO 12918'!P233 -> 0.09 | F33: ='SO 12918'!S233 -> 0
A34: Práce PSV | B34: ='SO 12918'!L235 -> 0 | C34: ='SO 12918'!M235 -> 0 | D34: ='SO 12918'!I235 -> 0 | E34: ='SO 12918'!P235 -> 27.24 | F34: ='SO 12918'!S235 -> 0
A36: Celkom v EUR | B36: ='SO 12918'!L236 -> 0 | C36: ='SO 12918'!M236 -> 0 | D36: ='SO 12918'!I236 -> 0 | E36: ='SO 12918'!P236 -> 128.39 | F36: ='SO 12918'!S236 -> 0

Sheet SO 12918
B1: Odberateľ: Obec Čičava | E1: Spracoval: Ing. Ján Halgaš | W1: 30.126
B2: Projektant: D. D. - ARCH s. r. o. | E2: Ks:
B3: Dodávateľ: | E3: Dátum: 05.06.2018
B4: Stavba Prístavba kuchyne ku kultúrnemu domu - Čičava
B5: Objekt SO 01 - Hlavný objekt - ASR
B7: Prehľad rozpočtových nákladov
A8: Por.č. | B8: Cenník | C8: Kód položky | D8: Názov | E8: Mj | F8: Množstvo | G8: Cena/Mj | H8: Materiál | I8: Cena celkom | P8: Hmotnosť | S8: Suť
D9: Práce HSV
D10: ZEMNÉ PRÁCE
B11: 1/A 1 | C11: 122201101 | D11: Odkopávka a prekopávka nezapažená v hornine 3, do 100 m3 | E11: m3 | F11: 15.88 | I11: =ROUND(F11*(G11+H11),2) -> 0 | J11: =ROUND(F11*(N11),2) -> 84.96 | K11: =ROUND(F11*(O11),2) -> 0 | L11: =ROUND(F11*(G11),2) -> 0 | N11: 5.35 | Z11: 0
B12: 1/A 1 | C12: 122201109 | D12: Odkopávky a prekopávky nezapažené. Príplatok k cenám za lepivosť horniny 3 | E12: m3 | F12: 15.88 | I12: =ROUND(F12*(G12+H12),2) -> 0 | J12: =ROUND(F12*(N12),2) -> 13.97 | K12: =ROUND(F12*(O12),2) -> 0 | L12: =ROUND(F12*(G12),2) -> 0 | N12: 0.88 | Z12: 0
B13: 1/A 1 | C13: 132211101 | D13: Hĺbenie rýh šírky do 600 mm v hornine tr.3 súdržných - ručným náradím | E13: m3 | F13: 13.55 | I13: =ROUND(F13*(G13+H13),2) -> 0 | J13: =ROUND(F13*(N13),2) -> 741.32 | K13: =ROUND(F13*(O13),2) -> 0 | L13: =ROUND(F13*(G13),2) -> 0 | N13: 54.71 | Z13: 0
B14: 1/A 1 | C14: 132211119 | D14: Príplatok za lepivosť pri hĺbení rýh š do 600 mm ručným náradím v hornine tr. 3 | E14: m3 | F14: 13.55 | I14: =ROUND(F14*(G14+H14),2) -> 0 | J14: =ROUND(F14*(N14),2) -> 148.24 | K14: =ROUND(F14*(O14),2) -> 0 | L14: =ROUND(F14*(G14),2) -> 0 | N14: 10.94 | Z14: 0
B15: 1/A 1 | C15: 162501102 | D15: Vodorovné premiestnenie výkopku po spevnenej ceste z horniny tr.1-4, do 100 m3 na vzdialenosť do 3000 m | E15: m3 | F15: 29.43 | I15: =ROUND(F15*(G15+H15),2) -> 0 | J15: =ROUND(F15*(N15),2) -> 119.78 | K15: =ROUND(F15*(O15),2) -> 0 | L15: =ROUND(F15*(G15),2) -> 0 | N15: 4.07 | Z15: 0
B16: 1/A 1 | C16: 167101100 | D16: Nakladanie výkopku tr.1-4 ručne | E16: m3 | F16: 29.43 | I16: =ROUND(F16*(G16+H16),2) -> 0 | J16: =ROUND(F16*(N16),2) -> 232.2 | K16: =ROUND(F16*(O16),2) -> 0 | L16: =ROUND(F16*(G16),2) -> 0 | N16: 7.89 | Z16: 0
B17: 1/A 1 | C17: 171201101 | D17: Uloženie sypaniny do násypov s rozprestretím sypaniny vo vrstvách a s hrubým urovnaním nezhutnených | E17: m3 | F17: 29.43 | I17: =ROUND(F17*(G17+H17),2) -> 0 | J17: =ROUND(F17*(N17),2) -> 27.08 | K17: =ROUND(F17*(O17),2) -> 0 | L17: =ROUND(F17*(G17),2) -> 0 | N17: 0.92 | Z17: 0
D18: ZEMNÉ PRÁCE | H18: =ROUND((SUM(M10:M17))/1,2) -> 0 | I18: =ROUND((SUM(I10:I17))/1,2) -> 0 | L18: =ROUND((SUM(L10:L17))/1,2) -> 0 | M18: =ROUND((SUM(M10:M17))/1,2) -> 0 | P18: =ROUND((SUM(P10:P17))/1,2) -> 0 | S18: =ROUND((SUM(S10:S17))/1,2) -> 0
D20: ZÁKLADY
B21: 2/A 1 | C21: 289971211 | D21: Zhotovenie vrstvy z geotextílie na upravenom povrchu sklon do 1 : 5 , šírky od 0 do 3 m | E21: m2 | F21: 5.61 | I21: =ROUND(F21*(G21+H21),2) -> 0 | J21: =ROUND(F21*(N21),2) -> 2.81 | K21: =ROUND(F21*(O21),2) -> 0 | L21: =ROUND(F21*(G21),2) -> 0 | N21: 0.5 | P21: =ROUND(F21*(R21),3) -> 0 | R21: 3e-05 | Z21: 0
B22: 11/A 1 | C22: 271573001 | D22: Násyp pod základové konštrukcie so zhutnením zo štrkopiesku fr.0-32 mm | E22: m3 | F22: 8.96 | I22: =ROUND(F22*(G22+H22),2) -> 0 | J22: =ROUND(F22*(N22),2) -> 344.42 | K22: =ROUND(F22*(O22),2) -> 0 | L22: =ROUND(F22*(G22),2) -> 0 | N22: 38.44 | P22: =ROUND(F22*(R22),3) -> 18.547 | R22: 2.07 | Z22: 0
B23: 11/A 1 | C23: 273321211 | D23: Betón základových dosiek, železový (bez výstuže), tr. C 12/15 | E23: m3 | F23: 7.94 | I23: =ROUND(F23*(G23+H23),2) -> 0 | J23: =ROUND(F23*(N23),2) -> 637.19 | K23: =ROUND(F23*(O23),2) -> 0 | L23: =ROUND(F23*(G23),2) -> 0 | N23: 80.25 | P23: =ROUND(F23*(R23),3) -> 18.881 | R23: 2.3779 | Z23: 0
B24: 11/A 1 | C24: 273351217 | D24: Debnenie stien základových dosiek, zhotovenie-tradičné | E24: m2 | F24: 2.79 | I24: =ROUND(F24*(G24+H24),2) -> 0 | J24: =ROUND(F24*(N24),2) -> 33.73 | K24: =ROUND(F24*(O24),2) -> 0 | L24: =ROUND(F24*(G24),2) -> 0 | N24: 12.09 | P24: =ROUND(F24*(R24),3) -> 0.011 | R24: 0.00407 | Z24: 0
B25: 11/A 1 | C25: 273351218 | D25: Debnenie stien základových dosiek, odstránenie-tradičné | E25: m2 | F25: 2.79 | I25: =ROUND(F25*(G25+H25),2) -> 0 | J25: =ROUND(F25*(N25),2) -> 11.38 | K25: =ROUND(F25*(O25),2) -> 0 | L25: =ROUND(F25*(G25),2) -> 0 | N25: 4.08 | Z25: 0
B26: 11/A 1 | C26: 273362421 | D26: Výstuž základových dosiek zo zvár. sietí KARI, priemer drôtu 6/6 mm, veľkosť oka 100x100 mm | E26: m2 | F26: 91.8 | I26: =ROUND(F26*(G26+H26),2) -> 0 | J26: =ROUND(F26*(N26),2) -> 442.48 | K26: =ROUND(F26*(O26),2) -> 0 | L26: =ROUND(F26*(G26),2) -> 0 | N26: 4.82 | P26: =ROUND(F26*(R26),3) -> 0.453 | R26: 0.00494 | Z26: 0
B27: 11/A 1 | C27: 274313521 | D27: Betón základových pásov, prostý tr. C 12/15 | E27: m3 | F27: 12.2 | I27: =ROUND(F27*(G27+H27),2) -> 0 | J27: =ROUND(F27*(N27),2) -> 964.78 | K27: =ROUND(F27*(O27),2) -> 0 | L27: =ROUND(F27*(G27),2) -> 0 | N27: 79.08 | P27: =ROUND(F27*(R27),3) -> 29.01 | R27: 2.3778966 | Z27: 0
B28: 11/A 1 | C28: 274351217 | D28: Debnenie stien základových pásov, zhotovenie-tradičné | E28: m2 | F28: 6.96 | I28: =ROUND(F28*(G28+H28),2) -> 0 | J28: =ROUND(F28*(N28),2) -> 85.19 | K28: =ROUND(F28*(O28),2) -> 0 | L28: =ROUND(F28*(G28),2) -> 0 | N28: 12.24 | P28: =ROUND(F28*(R28),3) -> 0.028 | R28: 0.00407 | Z28: 0
B29: 11/A 1 | C29: 274351218 | D29: Debnenie stien základových pásov, odstránenie-tradičné | E29: m2 | F29: 6.96 | I29: =ROUND(F29*(G29+H29),2) -> 0 | J29: =ROUND(F29*(N29),2) -> 28.88 | K29: =ROUND(F29*(O29),2) -> 0 | L29: =ROUND(F29*(G29),2) -> 0 | N29: 4.15 | Z29: 0
B30: S/S90 | C30: 6936651000 | D30: Geotextília netkaná polypropylénová PP 200 | E30: m2 | F30: 5.722 | I30: =ROUND(F30*(G30+H30),2) -> 0 | J30: =ROUND(F30*(N30),2) -> 3.83 | K30: =ROUND(F30*(O30),2) -> 0 | M30: =ROUND(F30*(G30),2) -> 0 | N30: 0.67 | P30: =ROUND(F30*(R30),3) -> 0.001 | R30: 0.0002 | Z30: 0
D31: ZÁKLADY | H31: =ROUND((SUM(M20:M30))/1,2) -> 0 | I31: =ROUND((SUM(I20:I30))/1,2) -> 0 | L31: =ROUND((SUM(L20:L30))/1,2) -> 0 | M31: =ROUND((SUM(M20:M30))/1,2) -> 0 | P31: =ROUND((SUM(P20:P30))/1,2) -> 66.93 | S31: =ROUND((SUM(S20:S30))/1,2) -> 0
D33: ZVISLÉ KONŠTRUKCIE
B34: 11/A 1 | C34: 317162101 | D34: Keramický predpätý preklad POROTHERM KPP alebo ekvivalent, šírky 120 mm, výšky 65 mm, dĺžky 1000 mm | E34: ks | F34: 1 | I34: =ROUND(F34*(G34+H34),2) -> 0 | J34: =ROUND(F34*(N34),2) -> 10.74 | K34: =ROUND(F34*(O34),2) -> 0 | L34: =ROUND(F34*(G34),2) -> 0 | N34: 10.74 | P34: =ROUND(F34*(R34),3) -> 0.015 | R34: 0.01522 | Z34: 0
B35: 11/A 1 | C35: 317162102 | D35: Keramický predpätý preklad POROTHERM KPP alebo ekvivalent, šírky 120 mm, výšky 65 mm, dĺžky 1250 mm | E35: ks | F35: 11 | I35: =ROUND(F35*(G35+H35),2) -> 0 | J35: =ROUND(F35*(N35),2) -> 155.1 | K35: =ROUND(F35*(O35),2) -> 0 | L35: =ROUND(F35*(G35),2) -> 0 | N35: 14.1 | P35: =ROUND(F35*(R35),3) -> 0.214 | R35: 0.0194335 | Z35: 0
B36: 11/A 1 | C36: 317351107 | D36: Debnenie prekladu vrátane podpornej konštrukcie výšky do 4 m zhotovenie | E36: m2 | F36: 5.499 | I36: =ROUND(F36*(G36+H36),2) -> 0 | J36: =ROUND(F36*(N36),2) -> 91.5 | K36: =ROUND(F36*(O36),2) -> 0 | L36: =ROUND(F36*(G36),2) -> 0 | N36: 16.64 | P36: =ROUND(F36*(R36),3) -> 0.04 | R36: 0.00725 | Z36: 0
B37: 11/A 1 | C37: 317351108 | D37: Debnenie prekladu vrátane podpornej konštrukcie výšky do 4 m odstránenie | E37: m2 | F37: 5.499 | I37: =ROUND(F37*(G37+H37),2) -> 0 | J37: =ROUND(F37*(N37),2) -> 33.98 | K37: =ROUND(F37*(O37),2) -> 0 | L37: =ROUND(F37*(G37),2) -> 0 | N37: 6.18 | Z37: 0
B38: 11/A 1 | C38: 342273075 | D38: Priečky z tvárnic PORFIX hr. 75 mm P2-500 hladkých, na MVC a lepidlo PORFIX (75x250x500) alebo ekvivalent | E38: m2 | F38: 9.32 | I38: =ROUND(F38*(G38+H38),2) -> 0 | J38: =ROUND(F38*(N38),2) -> 159.84 | K38: =ROUND(F38*(O38),2) -> 0 | L38: =ROUND(F38*(G38),2) -> 0 | N38: 17.15 | P38: =ROUND(F38*(R38),3) -> 0.677 | R38: 0.07268 | Z38: 0
B39: 11/A 1 | C39: 342273150 | D39: Priečky z tvárnic PORFIX hr. 150 mm P2-500 hladkých, na MVC a lepidlo PORFIX (150x250x500) alebo ekvivalent | E39: m2 | F39: 47.3 | I39: =ROUND(F39*(G39+H39),2) -> 0 | J39: =ROUND(F39*(N39),2) -> 1267.17 | K39: =ROUND(F39*(O39),2) -> 0 | L39: =ROUND(F39*(G39),2) -> 0 | N39: 26.79 | P39: =ROUND(F39*(R39),3) -> 6.902 | R39: 0.14591628 | Z39: 0
B40: R/RE | C40: 311275652 | D40: Murivo nosné (m3) z tvárnic PORFIX hr. 300 mm P2-440 HL, na MVC a lepidlo PORFIX (300x250x500) alebo ekvivalent | E40: m3 | F40: 28.61 | I40: =ROUND(F40*(G40+H40),2) -> 0 | J40: =ROUND(F40*(N40),2) -> 4282.34 | K40: =ROUND(F40*(O40),2) -> 0 | L40: =ROUND(F40*(G40),2) -> 0 | N40: 149.68 | Z40: 0
D41: ZVISLÉ KONŠTRUKCIE | H41: =ROUND((SUM(M33:M40))/1,2) -> 0 | I41: =ROUND((SUM(I33:I40))/1,2) -> 0 | L41: =ROUND((SUM(L33:L40))/1,2) -> 0 | M41: =ROUND((SUM(M33:M40))/1,2) -> 0 | P41: =ROUND((SUM(P33:P40))/1,2) -> 7.85 | S41: =ROUND((SUM(S33:S40))/1,2) -> 0
D43: VODOROVNÉ KONŠTRUKCIE
B44: 11/A 1 | C44: 417321515 | D44: Betón stužujúcich pásov a vencov železový tr. C 25/30 | E44: m3 | F44: 3.109 | I44: =ROUND(F44*(G44+H44),2) -> 0 | J44: =ROUND(F44*(N44),2) -> 334.16 | K44: =ROUND(F44*(O44),2) -> 0 | L44: =ROUND(F44*(G44),2) -> 0 | N44: 107.48 | P44: =ROUND(F44*(R44),3) -> 7.032 | R44: 2.26185 | Z44: 0
B45: 11/A 1 | C45: 417351115 | D45: Debnenie bočníc stužujúcich pásov a vencov vrátane vzpier zhotovenie | E45: m2 | F45: 20.725 | I45: =ROUND(F45*(G45+H45),2) -> 0 | J45: =ROUND(F45*(N45),2) -> 163.11 | K45: =ROUND(F45*(O45),2) -> 0 | L45: =ROUND(F45*(G45),2) -> 0 | N45: 7.87 | P45: =ROUND(F45*(R45),3) -> 0.071 | R45: 0.00341 | Z45: 0
B46: 11/A 1 | C46: 417351116 | D46: Debnenie bočníc stužujúcich pásov a vencov vrátane vzpier odstránenie | E46: m2 | F46: 20.725 | I46: =ROUND(F46*(G46+H46),2) -> 0 | J46: =ROUND(F46*(N46),2) -> 62.38 | K46: =ROUND(F46*(O46),2) -> 0 | L46: =ROUND(F46*(G46),2) -> 0 | N46: 3.01 | Z46: 0
B47: 11/A 1 | C47: 417361821 | D47: Výstuž stužujúcich pásov a vencov z betonárskej ocele 10505 | E47: t | F47: 0.28 | I47: =ROUND(F47*(G47+H47),2) -> 0 | J47: =ROUND(F47*(N47),2) -> 385.06 | K47: =ROUND(F47*(O47),2) -> 0 | L47: =ROUND(F47*(G47),2) -> 0 | N47: 1375.2 | P47: =ROUND(F47*(R47),3) -> 0.299 | R47: 1.06754 | Z47: 0
D48: VODOROVNÉ KONŠTRUKCIE | H48: =ROUND((SUM(M43:M47))/1,2) -> 0 | I48: =ROUND((SUM(I43:I47))/1,2) -> 0 | L48: =ROUND((SUM(L43:L47))/1,2) -> 0 | M48: =ROUND((SUM(M43:M47))/1,2) -> 0 | P48: =ROUND((SUM(P43:P47))/1,2) -> 7.4 | S48: =ROUND((SUM(S43:S47))/1,2) -> 0
D50: SPEVNENÉ PLOCHY
B51: 221/A 1 | C51: 564752113 | D51: Podklad alebo kryt z kameniva hrubého drveného veľ. 32-63mm(vibr.štrk) po zhut.hr. 170 mm | E51: m2 | F51: 5.61 | I51: =ROUND(F51*(G51+H51),2) -> 0 | J51: =ROUND(F51*(N51),2) -> 40.11 | K51: =ROUND(F51*(O51),2) -> 0 | L51: =ROUND(F51*(G51),2) -> 0 | N51: 7.15 | P51: =ROUND(F51*(R51),3) -> 2.33 | R51: 0.4153 | Z51: 0
B52: 221/A 1 | C52: 564752114 | D52: Podklad alebo kryt z kameniva hrubého drveného veľ. 32-63mm(vibr.štrk) po zhut.hr. 180 mm | E52: m2 | F52: 17.83 | I52: =ROUND(F52*(G52+H52),2) -> 0 | J52: =ROUND(F52*(N52),2) -> 133.73 | K52: =ROUND(F52*(O52),2) -> 0 | L52: =ROUND(F52*(G52),2) -> 0 | N52: 7.5 | P52: =ROUND(F52*(R52),3) -> 7.823 | R52: 0.43878 | Z52: 0
B53: 221/A 1 | C53: 596911112 | D53: Kladenie zámkovej dlažby hr. 6 cm pre peších nad 20 m2 so zriadením lôžka z kameniva hr. 4 cm | E53: m2 | F53: 17.83 | I53: =ROUND(F53*(G53+H53),2) -> 0 | J53: =ROUND(F53*(N53),2) -> 269.95 | K53: =ROUND(F53*(O53),2) -> 0 | L53: =ROUND(F53*(G53),2) -> 0 | N53: 15.14 | P53: =ROUND(F53*(R53),3) -> 1.997 | R53: 0.112 | Z53: 0
B54: R/RE | C54: 564231111,1 | D54: Dunajský štrk hr. 100 mm - D+ M | E54: m3 | F54: 0.561 | I54: =ROUND(F54*(G54+H54),2) -> 0 | J54: =ROUND(F54*(N54),2) -> 38.71 | K54: =ROUND(F54*(O54),2) -> 0 | L54: =ROUND(F54*(G54),2) -> 0 | N54: 69 | Z54: 0
B55: S/S70 | C55: 5921951020 | D55: Dlažba High value Premac KLASIKO 20x20x6 cm, aquaflair sivá alebo ekvivalent | E55: m2 | F55: 18.008 | I55: =ROUND(F55*(G55+H55),2) -> 0 | J55: =ROUND(F55*(N55),2) -> 378.71 | K55: =ROUND(F55*(O55),2) -> 0 | M55: =ROUND(F55*(G55),2) -> 0 | N55: 21.03 | P55: =ROUND(F55*(R55),3) -> 2.485 | R55: 0.138 | Z55: 0
D56: SPEVNENÉ PLOCHY | H56: =ROUND((SUM(M50:M55))/1,2) -> 0 | I56: =ROUND((SUM(I50:I55))/1,2) -> 0 | L56: =ROUND((SUM(L50:L55))/1,2) -> 0 | M56: =ROUND((SUM(M50:M55))/1,2) -> 0 | P56: =ROUND((SUM(P50:P55))/1,2) -> 14.64 | S56: =ROUND((SUM(S50:S55))/1,2) -> 0
D58: POVRCHOVÉ ÚPRAVY
B59: 11/A 1 | C59: 612481119 | D59: Potiahnutie vnútorných stien sklotextílnou mriežkou s celoplošným prilepením | E59: m2 | F59: 204.769 | I59: =ROUND(F59*(G59+H59),2) -> 0 | J59: =ROUND(F59*(N59),2) -> 999.27 | K59: =ROUND(F59*(O59),2) -> 0 | L59: =ROUND(F59*(G59),2) -> 0 | N59: 4.88 | P59: =ROUND(F59*(R59),3) -> 0.59 | R59: 0.00288 | Z59: 0
B60: 11/A 1 | C60: 620991121 | D60: Zakrývanie výplní vonkajších otvorov s rámami a zárubňami, zábradlí, oplechovania, atď. zhotovené z lešenia akýmkoľvek spôsobom | E60: m2 | F60: 6.24 | I60: =ROUND(F60*(G60+H60),2) -> 0 | J60: =ROUND(F60*(N60),2) -> 8.55 | K60: =ROUND(F60*(O60),2) -> 0 | L60: =ROUND(F60*(G60),2) -> 0 | N60: 1.37 | P60: =ROUND(F60*(R60),3) -> 0.001 | R60: 0.0001 | Z60: 0
B61: 11/A 1 | C61: 622464142 | D61: Vonkajšia omietka stien tenkovrstvová Weber - Terranova, silikónová, weber.pas exclusive, roztieraná jemnozrnná alebo ekvivalent | E61: m2 | F61: 101.105 | I61: =ROUND(F61*(G61+H61),2) -> 0 | J61: =ROUND(F61*(N61),2) -> 1287.07 | K61: =ROUND(F61*(O61),2) -> 0 | L61: =ROUND(F61*(G61),2) -> 0 | N61: 12.73 | P61: =ROUND(F61*(R61),3) -> 0.286 | R61: 0.00283 | Z61: 0
B62: 11/A 1 | C62: 622465121 | D62: Vonkajšia omietka stien Weber - Terranova, farebné piesky, weber.pas mozaiková omietka, strednozrnná alebo ekvivalent | E62: m2 | F62: 9.19 | I62: =ROUND(F62*(G62+H62),2) -> 0 | J62: =ROUND(F62*(N62),2) -> 185.73 | K62: =ROUND(F62*(O62),2) -> 0 | L62: =ROUND(F62*(G62),2) -> 0 | N62: 20.21 | P62: =ROUND(F62*(R62),3) -> 0.05 | R62: 0.00546 | Z62: 0
B63: 11/A 1 | C63: 622481119 | D63: Potiahnutie vonkajších stien sklotextílnou mriežkou s celoplošným prilepením | E63: m2 | F63: 17.88 | I63: =ROUND(F63*(G63+H63),2) -> 0 | J63: =ROUND(F63*(N63),2) -> 87.25 | K63: =ROUND(F63*(O63),2) -> 0 | L63: =ROUND(F63*(G63),2) -> 0 | N63: 4.88 | P63: =ROUND(F63*(R63),3) -> 0.035 | R63: 0.00196 | Z63: 0
B64: 11/A 1 | C64: 625252301 | D64: Kontaktný zatepľovací systém hr. 30 mm weber.therm exclusive alebo ekvivalent (minerálna vlna), skrutkovacie kotvy | E64: m2 | F64: 3.51 | I64: =ROUND(F64*(G64+H64),2) -> 0 | J64: =ROUND(F64*(N64),2) -> 95.26 | K64: =ROUND(F64*(O64),2) -> 0 | L64: =ROUND(F64*(G64),2) -> 0 | N64: 27.14 | P64: =ROUND(F64*(R64),3) -> 0.038 | R64: 0.01092 | Z64: 0
B65: 11/A 1 | C65: 642942111 | D65: Osadenie oceľovej dverovej zárubne alebo rámu, plochy otvoru do 2,5 m2 | E65: ks | F65: 6 | I65: =ROUND(F65*(G65+H65),2) -> 0 | J65: =ROUND(F65*(N65),2) -> 244.74 | K65: =ROUND(F65*(O65),2) -> 0 | L65: =ROUND(F65*(G65),2) -> 0 | N65: 40.79 | P65: =ROUND(F65*(R65),3) -> 0.105 | R65: 0.0175 | Z65: 0
B66: 11/A 1 | C66: 642945111 | D66: Osadenie oceľ. zárubní protipož. dverí s obetónov. jednokrídlové do 2,5 m2 | E66: ks | F66: 1 | I66: =ROUND(F66*(G66+H66),2) -> 0 | J66: =ROUND(F66*(N66),2) -> 178.41 | K66: =ROUND(F66*(O66),2) -> 0 | L66: =ROUND(F66*(G66),2) -> 0 | N66: 178.41 | P66: =ROUND(F66*(R66),3) -> 0.438 | R66: 0.43841 | Z66: 0
B67: R/RE | C67: 612460121 | D67: Príprava vnútorného podkladu stien penetráciou základnou | E67: m2 | F67: 204.769 | I67: =ROUND(F67*(G67+H67),2) -> 0 | J67: =ROUND(F67*(N67),2) -> 358.35 | K67: =ROUND(F67*(O67),2) -> 0 | L67: =ROUND(F67*(G67),2) -> 0 | N67: 1.75 | Z67: 0
B68: R/RE | C68: 612460222 | D68: Vnútorná omietka stien vápenná štuková (jemná), hr. 4 mm | E68: m2 | F68: 115.482 | I68: =ROUND(F68*(G68+H68),2) -> 0 | J68: =ROUND(F68*(N68),2) -> 891.52 | K68: =ROUND(F68*(O68),2) -> 0 | L68: =ROUND(F68*(G68),2) -> 0 | N68: 7.72 | Z68: 0
B69: R/RE | C69: 622460121 | D69: Príprava vonkajšieho podkladu stien penetráciou základnou | E69: m2 | F69: 17.88 | I69: =ROUND(F69*(G69+H69),2) -> 0 | J69: =ROUND(F69*(N69),2) -> 40.77 | K69: =ROUND(F69*(O69),2) -> 0 | L69: =ROUND(F69*(G69),2) -> 0 | N69: 2.28 | Z69: 0
B70: R/RE | C70: 625251385 | D70: Kontaktný zatepľovací systém hr. 100 mm BAUMIT STAR alebo ekvivalent - riešenie pre sokel (XPS), skrutkovacie kotvy | E70: m2 | F70: 16.71 | I70: =ROUND(F70*(G70+H70),2) -> 0 | J70: =ROUND(F70*(N70),2) -> 586.35 | K70: =ROUND(F70*(O70),2) -> 0 | L70: =ROUND(F70*(G70),2) -> 0 | N70: 35.09 | Z70: 0
B71: R/RE | C71: 625252310,1 | D71: Kontaktný zatepľovací systém hr. 150 mm weber.therm exclusive alebo ekvivalent (minerálna vlna), skrutkovacie kotvy | E71: m2 | F71: 75.95 | I71: =ROUND(F71*(G71+H71),2) -> 0 | J71: =ROUND(F71*(N71),2) -> 3916.74 | K71: =ROUND(F71*(O71),2) -> 0 | L71: =ROUND(F71*(G71),2) -> 0 | N71: 51.57 | Z71: 0
B72: R/RE | C72: 625252341 | D72: Kontaktný zatepľovací systém ostenia hr. 30 mm weber.therm exclusive alebo ekvivalent (minerálna vlna) | E72: m2 | F72: 3.765 | I72: =ROUND(F72*(G72+H72),2) -> 0 | J72: =ROUND(F72*(N72),2) -> 119.61 | K72: =ROUND(F72*(O72),2) -> 0 | L72: =ROUND(F72*(G72),2) -> 0 | N72: 31.77 | Z72: 0
B73: R/RE | C73: 632450028,1 | D73: Betónový poter samonosný hr. 70 mm | E73: m2 | F73: 66.79 | I73: =ROUND(F73*(G73+H73),2) -> 0 | J73: =ROUND(F73*(N73),2) -> 2215.42 | K73: =ROUND(F73*(O73),2) -> 0 | L73: =ROUND(F73*(G73),2) -> 0 | N73: 33.17 | Z73: 0
B74: S/S50 | C74: 5533192000 | D74: Zárubňa oceľová CgU 60x197x8,7cm Ľ, WAGNER SERVICECENTRUM alebo ekvivalent | E74: ks | F74: 1 | I74: =ROUND(F74*(G74+H74),2) -> 0 | J74: =ROUND(F74*(N74),2) -> 20.45 | K74: =ROUND(F74*(O74),2) -> 0 | M74: =ROUND(F74*(G74),2) -> 0 | N74: 20.45 | P74: =ROUND(F74*(R74),3) -> 0.009 | R74: 0.0092 | Z74: 0
B75: S/S50 | C75: 5533192400 | D75: Zárubňa oceľová CgU 80x197x8,7cm Ľ, WAGNER SERVICECENTRUM alebo ekvivalent | E75: ks | F75: 2 | I75: =ROUND(F75*(G75+H75),2) -> 0 | J75: =ROUND(F75*(N75),2) -> 42.82 | K75: =ROUND(F75*(O75),2) -> 0 | M75: =ROUND(F75*(G75),2) -> 0 | N75: 21.41 | P75: =ROUND(F75*(R75),3) -> 0.02 | R75: 0.01 | Z75: 0
B76: S/S50 | C76: 5533192500 | D76: Zárubňa oceľová CgU 80x197x8,7cm P, WAGNER SERVICECENTRUM alebo ekvivalent | E76: ks | F76: 3 | I76: =ROUND(F76*(G76+H76),2) -> 0 | J76: =ROUND(F76*(N76),2) -> 64.23 | K76: =ROUND(F76*(O76),2) -> 0 | M76: =ROUND(F76*(G76),2) -> 0 | N76: 21.41 | P76: =ROUND(F76*(R76),3) -> 0.03 | R76: 0.01 | Z76: 0
B77: S/S50 | C77: 5533300300 | D77: Zárubňa oceľová, protipožiarna, Ľ/P, šxhrxv 800x1970x160 mm do murovaných priečok, odolnosť EI30 | E77: ks | F77: 1 | I77: =ROUND(F77*(G77+H77),2) -> 0 | J77: =ROUND(F77*(N77),2) -> 42.8 | K77: =ROUND(F77*(O77),2) -> 0 | M77: =ROUND(F77*(G77),2) -> 0 | N77: 42.8 | P77: =ROUND(F77*(R77),3) -> 0.015 | R77: 0.015 | Z77: 0
D78: POVRCHOVÉ ÚPRAVY | H78: =ROUND((SUM(M58:M77))/1,2) -> 0 | I78: =ROUND((SUM(I58:I77))/1,2) -> 0 | L78: =ROUND((SUM(L58:L77))/1,2) -> 0 | M78: =ROUND((SUM(M58:M77))/1,2) -> 0 | P78: =ROUND((SUM(P58:P77))/1,2) -> 1.62 | S78: =ROUND((SUM(S58:S77))/1,2) -> 0
D80: OSTATNÉ PRÁCE
B81: 3/A 1 | C81: 941942011 | D81: Montáž lešenia rámového systémového s podlahami šírky nad 0,75 do 1,10 m, výšky do 10 m | E81: m2 | F81: 76 | I81: =ROUND(F81*(G81+H81),2) -> 0 | J81: =ROUND(F81*(N81),2) -> 114 | K81: =ROUND(F81*(O81),2) -> 0 | L81: =ROUND(F81*(G81),2) -> 0 | N81: 1.5 | P81: =ROUND(F81*(R81),3) -> 1.598 | R81: 0.02103 | Z81: 0
B82: 3/A 1 | C82: 941942911 | D82: Príplatok za prvý a každý ďalší i začatý týždeň použitia lešenia rámového systémového šírky nad 0,75 do 1,10 m, výšky do 10 m | E82: m2 | F82: 76 | I82: =ROUND(F82*(G82+H82),2) -> 0 | J82: =ROUND(F82*(N82),2) -> 62.32 | K82: =ROUND(F82*(O82),2) -> 0 | L82: =ROUND(F82*(G82),2) -> 0 | N82: 0.82 | Z82: 0
B83: 3/A 1 | C83: 941955002 | D83: Lešenie ľahké pracovné pomocné s výškou lešeňovej podlahy nad 1,20 do 1,90 m | E83: m2 | F83: 200.37 | I83: =ROUND(F83*(G83+H83),2) -> 0 | J83: =ROUND(F83*(N83),2) -> 691.28 | K83: =ROUND(F83*(O83),2) -> 0 | L83: =ROUND(F83*(G83),2) -> 0 | N83: 3.45 | P83: =ROUND(F83*(R83),3) -> 0.385 | R83: 0.00192 | Z83: 0
B84: 3/A 1 | C84: 944944103 | D84: Ochranná sieť na boku lešenia zo siete Baumit alebo ekvivalent | E84: m2 | F84: 76 | I84: =ROUND(F84*(G84+H84),2) -> 0 | J84: =ROUND(F84*(N84),2) -> 110.2 | K84: =ROUND(F84*(O84),2) -> 0 | L84: =ROUND(F84*(G84),2) -> 0 | N84: 1.45 | P84: =ROUND(F84*(R84),3) -> 0.004 | R84: 5.4945e-05 | Z84: 0
B85: 3/B 1 | C85: 941942811 | D85: Demontáž lešenia rámového systémového s podlahami šírky nad 0,75 do 1,10 m, výšky do 10 m | E85: m2 | F85: 76 | I85: =ROUND(F85*(G85+H85),2) -> 0 | J85: =ROUND(F85*(N85),2) -> 94.24 | K85: =ROUND(F85*(O85),2) -> 0 | L85: =ROUND(F85*(G85),2) -> 0 | N85: 1.24 | Z85: 0
B86: 11/A 1 | C86: 952901111 | D86: Vyčistenie budov pri výške podlaží do 4m | E86: m2 | F86: 66.79 | I86: =ROUND(F86*(G86+H86),2) -> 0 | J86: =ROUND(F86*(N86),2) -> 248.46 | K86: =ROUND(F86*(O86),2) -> 0 | L86: =ROUND(F86*(G86),2) -> 0 | N86: 3.72 | P86: =ROUND(F86*(R86),3) -> 0.003 | R86: 5e-05 | Z86: 0
B87: R/RE | C87: 916561112 | D87: Osadenie záhonového alebo parkového obrubníka betón., do lôžka z bet. pros. tr. C 16/20 s bočnou oporou | E87: m | F87: 31.12 | I87: =ROUND(F87*(G87+H87),2) -> 0 | J87: =ROUND(F87*(N87),2) -> 161.2 | K87: =ROUND(F87*(O87),2) -> 0 | L87: =ROUND(F87*(G87),2) -> 0 | N87: 5.18 | Z87: 0
B88: R/RE | C88: 918101112 | D88: Lôžko pod obrubníky, krajníky alebo obruby z dlažob. kociek z betónu prostého tr. C 16/20 | E88: m3 | F88: 0.934 | I88: =ROUND(F88*(G88+H88),2) -> 0 | J88: =ROUND(F88*(N88),2) -> 89.32 | K88: =ROUND(F88*(O88),2) -> 0 | L88: =ROUND(F88*(G88),2) -> 0 | N88: 95.63 | Z88: 0
B89: R/RE | C89: 953946514 | D89: WEBER - TERRANOVA alebo ekvivalent soklový profil LO 153 mm (hliníkový) | E89: m | F89: 28.55 | I89: =ROUND(F89*(G89+H89),2) -> 0 | J89: =ROUND(F89*(N89),2) -> 277.22 | K89: =ROUND(F89*(O89),2) -> 0 | L89: =ROUND(F89*(G89),2) -> 0 | N89: 9.71 | Z89: 0
B90: R/RE | C90: 953946521 | D90: WEBER - TERRANOVA alebo ekvivalent rohový ochranný profil s integrovanou sieťovinou LK Al 100 (hliníkový) | E90: m | F90: 35.66 | I90: =ROUND(F90*(G90+H90),2) -> 0 | J90: =ROUND(F90*(N90),2) -> 129.45 | K90: =ROUND(F90*(O90),2) -> 0 | L90: =ROUND(F90*(G90),2) -> 0 | N90: 3.63 | Z90: 0
B91: R/RE | C91: 989542213,1 | D91: Osadenie a montáž haciaceho pristoja P9 | E91: ks | F91: 1 | I91: =ROUND(F91*(G91+H91),2) -> 0 | J91: =ROUND(F91*(N91),2) -> 154 | K91: =ROUND(F91*(O91),2) -> 0 | L91: =ROUND(F91*(G91),2) -> 0 | N91: 154 | Z91: 0
B92: S/S70 | C92: 5921954660 | D92: Premac obrubník parkový 100x20x5 cm, sivý | E92: ks | F92: 31.431 | I92: =ROUND(F92*(G92+H92),2) -> 0 | J92: =ROUND(F92*(N92),2) -> 76.69 | K92: =ROUND(F92*(O92),2) -> 0 | M92: =ROUND(F92*(G92),2) -> 0 | N92: 2.44 | P92: =ROUND(F92*(R92),3) -> 0.723 | R92: 0.023 | Z92: 0
D93: OSTATNÉ PRÁCE | H93: =ROUND((SUM(M80:M92))/1,2) -> 0 | I93: =ROUND((SUM(I80:I92))/1,2) -> 0 | L93: =ROUND((SUM(L80:L92))/1,2) -> 0 | M93: =ROUND((SUM(M80:M92))/1,2) -> 0 | P93: =ROUND((SUM(P80:P92))/1,2) -> 2.71 | S93: =ROUND((SUM(S80:S92))/1,2) -> 0
D95: PRESUNY HMÔT
B96: 11/A 1 | C96: 998011001 | D96: Presun hmôt pre budovy (801, 803, 812), zvislá konštr. z tehál, tvárnic, z kovu výšky do 6 m | E96: t | F96: 149.542 | I96: =ROUND(F96*(G96+H96),2) -> 0 | J96: =ROUND(F96*(N96),2) -> 1697.3 | K96: =ROUND(F96*(O96),2) -> 0 | L96: =ROUND(F96*(G96),2) -> 0 | N96: 11.35 | Z96: 0
D97: PRESUNY HMÔT | H97: =ROUND((SUM(M95:M96))/1,2) -> 0 | I97: =ROUND((SUM(I95:I96))/1,2) -> 0 | L97: =ROUND((SUM(L95:L96))/1,2) -> 0 | M97: =ROUND((SUM(M95:M96))/1,2) -> 0 | P97: =ROUND((SUM(P95:P96))/1,2) -> 0 | S97: =ROUND((SUM(S95:S96))/1,2) -> 0
D99: Práce HSV | H99: =ROUND((SUM(M9:M98))/2,2) -> 0 | I99: =ROUND((SUM(I9:I98))/2,2) -> 0 | L99: =ROUND((SUM(L9:L98))/2,2) -> 0 | M99: =ROUND((SUM(M9:M98))/2,2) -> 0 | P99: =ROUND((SUM(P9:P98))/2,2) -> 101.15 | S99: =ROUND((SUM(S9:S98))/2,2) -> 0
D101: Práce PSV
D102: IZOLÁCIE PROTI VODE A VLHKOSTI
B103: 711/A 1 | C103: 711111001 | D103: Zhotovenie izolácie proti zemnej vlhkosti vodorovná náterom penetračným za studena | E103: m2 | F103: 88 | I103: =ROUND(F103*(G103+H103),2) -> 0 | J103: =ROUND(F103*(N103),2) -> 16.72 | K103: =ROUND(F103*(O103),2) -> 0 | L103: =ROUND(F103*(G103),2) -> 0 | N103: 0.19 | Z103: 0
B104: 711/A 1 | C104: 711141559 | D104: Zhotovenie izolácie proti zemnej vlhkosti a tlakovej vode vodorovná NAIP pritavením | E104: m2 | F104: 176 | I104: =ROUND(F104*(G104+H104),2) -> 0 | J104: =ROUND(F104*(N104),2) -> 612.48 | K104: =ROUND(F104*(O104),2) -> 0 | L104: =ROUND(F104*(G104),2) -> 0 | N104: 3.48 | P104: =ROUND(F104*(R104),3) -> 0.095 | R104: 0.00054 | Z104: 0
B105: 711/A 1 | C105: 998711201 | D105: Presun hmôt pre izoláciu proti vode v objektoch výšky do 6 m | E105: % | F105: 2.55 | I105: =ROUND(F105*(G105+H105),2) -> 0 | J105: =ROUND(F105*(N105),2) -> 31.7 | K105: =ROUND(F105*(O105),2) -> 0 | L105: =ROUND(F105*(G105),2) -> 0 | N105: 12.43 | Z105: 0
B106: R/RE | C106: 711132107 | D106: Zhotovenie izolácie proti zemnej vlhkosti nopovou fóloiu položenou voľne na ploche zvislej | E106: m2 | F106: 7.52 | I106: =ROUND(F106*(G106+H106),2) -> 0 | J106: =ROUND(F106*(N106),2) -> 20.08 | K106: =ROUND(F106*(O106),2) -> 0 | L106: =ROUND(F106*(G106),2) -> 0 | N106: 2.67 | Z106: 0
B107: S/S10 | C107: 1116315000 | D107: Lak asfaltový ALP-PENETRAL v sudoch | E107: t | F107: 0.026 | I107: =ROUND(F107*(G107+H107),2) -> 0 | J107: =ROUND(F107*(N107),2) -> 50.43 | K107: =ROUND(F107*(O107),2) -> 0 | M107: =ROUND(F107*(G107),2) -> 0 | N107: 1939.78 | P107: =ROUND(F107*(R107),3) -> 0.026 | R107: 1 | Z107: 0
B108: S/S90 | C108: 6283221000 | D108: Asfaltovaný pás pre spodné vrstvy hydroizolačných systémov HYDROBIT V 60 S 35 alebo ekvivalent | E108: m2 | F108: 202.4 | I108: =ROUND(F108*(G108+H108),2) -> 0 | J108: =ROUND(F108*(N108),2) -> 593.03 | K108: =ROUND(F108*(O108),2) -> 0 | M108: =ROUND(F108*(G108),2) -> 0 | N108: 2.93 | P108: =ROUND(F108*(R108),3) -> 0.86 | R108: 0.00425 | Z108: 0
B109: S/S90 | C109: 6288000640 | D109: Nopová fólia FONDALINE PLUS 500 proti zemnej vlhkosti s radónovou ochranou, výška nopu 8 mm ONDULINE alebo ekvivalent | E109: m2 | F109: 8.648 | I109: =ROUND(F109*(G109+H109),2) -> 0 | J109: =ROUND(F109*(N109),2) -> 17.64 | K109: =ROUND(F109*(O109),2) -> 0 | M109: =ROUND(F109*(G109),2) -> 0 | N109: 2.04 | P109: =ROUND(F109*(R109),3) -> 0.013 | R109: 0.0015 | Z109: 0
D110: IZOLÁCIE PROTI VODE A VLHKOSTI | H110: =ROUND((SUM(M102:M109))/1,2) -> 0 | I110: =ROUND((SUM(I102:I109))/1,2) -> 0 | L110: =ROUND((SUM(L102:L109))/1,2) -> 0 | M110: =ROUND((SUM(M102:M109))/1,2) -> 0 | P110: =ROUND((SUM(P102:P109))/1,2) -> 0.99 | S110: =ROUND((SUM(S102:S109))/1,2) -> 0
...

Sheet Kryci_list 12919
F1: Krycí list rozpočtu | W1: 30.126
B2: Stavba Prístavba kuchyne ku kultúrnemu domu - Čičava | G2: Miesto:
B3: Objekt SO 01 - Hlavný objekt - ÚK
I4: Ks:
B5: Zákazka: | F5: Spracoval: Ing. Ján Halgaš | I5: Dňa | J5: 05.06.2018
B6: Odberateľ: Obec Čičava | G6: IČO:
G7: DIČ:
B8: Dodávateľ: | G8: IČO:
G9: DIČ:
B10: Projektant: D. D. - ARCH s. r. o. | G10: IČO:
G11: DIČ:
B15: A | C15: ZRN | D15: Montáž | E15: Materiál | F15: ZRN spolu | G15: B | H15: Ďalšie náklady
B16: 1 | C16: HSV | G16: 6 | H16: Ostatné náklady | J16: 0
B17: 2 | C17: PSV | D17: ='Rekap 12919'!B16 -> 0 | E17: ='Rekap 12919'!C16 -> 0 | F17: ='Rekap 12919'!D16 -> 0 | G17: 7 | H17: Kompletačná činnosť | J17: ='SO 12919'!Z62 -> 0
B18: 3 | C18: MONT | G18: 8 | H18: HZS | J18: 0
B19: 4 | G19: 9
B20: 5 | C20: Spolu | F20: =SUM(F16:F19) -> 0 | G20: 10 | H20: Spolu | J20: =SUM(J16:J19) -> 0
B21: C | C21: VRN | G21: D | H21: VRN
B22: 11 | C22: Zariadenie staveniska | E22: 0% z [H+P+M] | F22: =((F16*U22*0)+(F17*V22*0)+(F18*W22*0))/100 -> 0 | G22: 16 | H22: Sťažené podmienky dopravy | I22: 0% z [H+P+M] | J22: =((F16*X22*0)+(F17*Y22*0)+(F18*Z22*0))/100 -> 0 | U22: 1 | V22: 1 | W22: 1 | X22: 1 | Y22: 1 | Z22: 1
B23: 12 | C23: Sťažené výrobné podmienky | E23: 0% z [H+P] | F23: =((F16*U23*0)+(F17*V23*0)+(F18*W23*0))/100 -> 0 | G23: 17 | H23: Horské oblasti | I23: 0% z [H+P+M] | J23: =((F16*X23*0)+(F17*Y23*0)+(F18*Z23*0))/100 -> 0 | U23: 1 | V23: 1 | W23: 0 | X23: 1 | Y23: 1 | Z23: 1
B24: 13 | C24: Prevádzkové vplyvy | E24: 0% z [H+P+M] | F24: =((F16*U24*0)+(F17*V24*0)+(F18*W24*0))/100 -> 0 | G24: 18 | H24: Mimostavenisková doprava | I24: 0% z [H+P] | J24: =((F16*X24*0)+(F17*Y24*0)+(F18*Z24*0))/100 -> 0 | U24: 1 | V24: 1 | W24: 1 | X24: 1 | Y24: 1 | Z24: 0
B25: 14 | G25: 19
B26: 15 | G26: 20 | H26: Spolu | J26: =SUM(J22:J25)+SUM(F22:F25) -> 0
C27: Projektant,rozpočtár | G27: E | H27: Celkové náklady
G28: 21 | H28: Súčet riadkov 5,10,15,20 | J28: =F20+J20+F26+J26 -> 0
G29: 22 | H29: DPH 20% z | I29: =J28-SUM('SO 12919'!K9:'SO 12919'!K61) -> 0 | J29: =ROUND(((ROUND(I29,2)*20)*1/100),2) -> 0
G30: 23 | H30: DPH 0% z | I30: =SUM('SO 12919'!K9:'SO 12919'!K61) -> 0 | J30: =ROUND(((ROUND(I30,2)*0)/100),2) -> 0
G31: 24 | H31: Spolu v EUR | J31: =SUM(J28:J30) -> 0
G32: F
D33: Odberateľ | G33: 26 | H33: Dodávateľ

Sheet Rekap 12919
A1: Odberateľ: Obec Čičava | D1: Spracoval: Ing. Ján Halgaš | W1: 30.126
A2: Projektant: D. D. - ARCH s. r. o. | D2: Ks:
A3: Dodávateľ: | D3: Dátum: 05.06.2018
A4: Stavba Prístavba kuchyne ku kultúrnemu domu - Čičava
A5: Objekt SO 01 - Hlavný objekt - ÚK
A8: Prehľad rozpočtových nákladov
A9: Oddiel | B9: Montáž | C9: Materiál | D9: Spolu | E9: Hmotnosť (T) | F9: Suť (T)
A10: Práce PSV
A11: IZOLÁCIE TEPELNÉ BEŽNÝCH STAVEB. KONŠTRUKCIÍ | B11: ='SO 12919'!L16 -> 0 | C11: ='SO 12919'!M16 -> 0 | D11: ='SO 12919'!I16 -> 0 | E11: ='SO 12919'!P16 -> 0 | F11: ='SO 12919'!S16 -> 0
A12: ÚSTREDNÉ VYKUROVANIE-STROJOVNE | B12: ='SO 12919'!L21 -> 0 | C12: ='SO 12919'!M21 -> 0 | D12: ='SO 12919'!I21 -> 0 | E12: ='SO 12919'!P21 -> 0 | F12: ='SO 12919'!S21 -> 0
A13: ÚSTREDNÉ VYKUROVANIE-ROZVOD POTRUBIA | B13: ='SO 12919'!L37 -> 0 | C13: ='SO 12919'!M37 -> 0 | D13: ='SO 12919'!I37 -> 0 | E13: ='SO 12919'!P37 -> 0.03 | F13: ='SO 12919'!S37 -> 0
A14: ÚSTREDNÉ VYKUROVANIE-ARMATÚRY | B14: ='SO 12919'!L48 -> 0 | C14: ='SO 12919'!M48 -> 0 | D14: ='SO 12919'!I48 -> 0 | E14: ='SO 12919'!P48 -> 0 | F14: ='SO 12919'!S48 -> 0
A15: ÚSTREDNÉ VYKUROVANIE-VYKUROVACIE TELESÁ | B15: ='SO 12919'!L59 -> 0 | C15: ='SO 12919'!M59 -> 0 | D15: ='SO 12919'!I59 -> 0 | E15: ='SO 12919'!P59 -> 0.04 | F15: ='SO 12919'!S59 -> 0
A16: Práce PSV | B16: ='SO 12919'!L61 -> 0 | C16: ='SO 12919'!M61 -> 0 | D16: ='SO 12919'!I61 -> 0 | E16: ='SO 12919'!P61 -> 0.07 | F16: ='SO 12919'!S61 -> 0
A18: Celkom v EUR | B18: ='SO 12919'!L62 -> 0 | C18: ='SO 12919'!M62 -> 0 | D18: ='SO 12919'!I62 -> 0 | E18: ='SO 12919'!P62 -> 0.07 | F18: ='SO 12919'!S62 -> 0

Sheet SO 12919
B1: Odberateľ: Obec Čičava | E1: Spracoval: Ing. Ján Halgaš | W1: 30.126
B2: Projektant: D. D. - ARCH s. r. o. | E2: Ks:
B3: Dodávateľ: | E3: Dátum: 05.06.2018
B4: Stavba Prístavba kuchyne ku kultúrnemu domu - Čičava
B5: Objekt SO 01 - Hlavný objekt - ÚK
B7: Prehľad rozpočtových nákladov
A8: Por.č. | B8: Cenník | C8: Kód položky | D8: Názov | E8: Mj | F8: Množstvo | G8: Cena/Mj | H8: Materiál | I8: Cena celkom | P8: Hmotnosť | S8: Suť
D9: Práce PSV
D10: IZOLÁCIE TEPELNÉ BEŽNÝCH STAVEB. KONŠTRUKCIÍ
B11: 713/A 4 | C11: 713482121 | D11: Montáž trubíc z PE, hr.15-20 mm,vnút.priemer do 38 mm | E11: m | F11: 64.79 | I11: =ROUND(F11*(G11+H11),2) -> 0 | J11: =ROUND(F11*(N11),2) -> 167.81 | K11: =ROUND(F11*(O11),2) -> 0 | L11: =ROUND(F11*(G11),2) -> 0 | N11: 2.59 | P11: =ROUND(F11*(R11),3) -> 0.001 | R11: 2e-05 | Z11: 0
B12: 713/A 4 | C12: 713482131 | D12: Montáž trubíc z PE, hr.30 mm,vnút.priemer do 38 mm | E12: m | F12: 0.93 | I12: =ROUND(F12*(G12+H12),2) -> 0 | J12: =ROUND(F12*(N12),2) -> 2.67 | K12: =ROUND(F12*(O12),2) -> 0 | L12: =ROUND(F12*(G12),2) -> 0 | N12: 2.87 | P12: =ROUND(F12*(R12),3) -> 0 | R12: 4e-05 | Z12: 0
B13: 713/A 5 | C13: 998713201 | D13: Presun hmôt pre izolácie tepelné v objektoch výšky do 6 m | E13: % | F13: 1.3 | I13: =ROUND(F13*(G13+H13),2) -> 0 | J13: =ROUND(F13*(N13),2) -> 2.78 | K13: =ROUND(F13*(O13),2) -> 0 | L13: =ROUND(F13*(G13),2) -> 0 | N13: 2.14 | Z13: 0
B14: S/S20 | C14: 2837741537 | D14: Tubolit DG 20 x 13 izolácia-trubica AZ FLEX Armacell alebo ekvivalent | E14: m | F14: 66.086 | I14: =ROUND(F14*(G14+H14),2) -> 0 | J14: =ROUND(F14*(N14),2) -> 40.31 | K14: =ROUND(F14*(O14),2) -> 0 | M14: =ROUND(F14*(G14),2) -> 0 | N14: 0.61 | P14: =ROUND(F14*(R14),3) -> 0.003 | R14: 4e-05 | Z14: 0
B15: S/S20 | C15: 2837741558 | D15: Tubolit DG 28 x 30 izolácia-trubica AZ FLEX Armacell alebo ekvivalent | E15: m | F15: 0.949 | I15: =ROUND(F15*(G15+H15),2) -> 0 | J15: =ROUND(F15*(N15),2) -> 2.23 | K15: =ROUND(F15*(O15),2) -> 0 | M15: =ROUND(F15*(G15),2) -> 0 | N15: 2.35 | P15: =ROUND(F15*(R15),3) -> 0 | R15: 6e-05 | Z15: 0
D16: IZOLÁCIE TEPELNÉ BEŽNÝCH STAVEB. KONŠTRUKCIÍ | H16: =ROUND((SUM(M10:M15))/1,2) -> 0 | I16: =ROUND((SUM(I10:I15))/1,2) -> 0 | L16: =ROUND((SUM(L10:L15))/1,2) -> 0 | M16: =ROUND((SUM(M10:M15))/1,2) -> 0 | P16: =ROUND((SUM(P10:P15))/1,2) -> 0 | S16: =ROUND((SUM(S10:S15))/1,2) -> 0
D18: ÚSTREDNÉ VYKUROVANIE-STROJOVNE
B19: R/RE | C19: 732331000 | D19: Montáž expanznej nádoby tlak 3 bary s membránou 8 l | E19: ks | F19: 1 | I19: =ROUND(F19*(G19+H19),2) -> 0 | J19: =ROUND(F19*(N19),2) -> 4.03 | K19: =ROUND(F19*(O19),2) -> 0 | L19: =ROUND(F19*(G19),2) -> 0 | N19: 4.03 | Z19: 0
B20: S/S40 | C20: 4846710000 | D20: Nádoba-expanzná typ NG tlak 3 bary s membránou 8 l šedá REFLEX alebo ekvivalent | E20: ks | F20: 1 | I20: =ROUND(F20*(G20+H20),2) -> 0 | J20: =ROUND(F20*(N20),2) -> 40.18 | K20: =ROUND(F20*(O20),2) -> 0 | M20: =ROUND(F20*(G20),2) -> 0 | N20: 40.18 | P20: =ROUND(F20*(R20),3) -> 0.002 | R20: 0.0019 | Z20: 0
D21: ÚSTREDNÉ VYKUROVANIE-STROJOVNE | H21: =ROUND((SUM(M18:M20))/1,2) -> 0 | I21: =ROUND((SUM(I18:I20))/1,2) -> 0 | L21: =ROUND((SUM(L18:L20))/1,2) -> 0 | M21: =ROUND((SUM(M18:M20))/1,2) -> 0 | P21: =ROUND((SUM(P18:P20))/1,2) -> 0 | S21: =ROUND((SUM(S18:S20))/1,2) -> 0
D23: ÚSTREDNÉ VYKUROVANIE-ROZVOD POTRUBIA
B24: 731/A 3 | C24: 733167023 | D24: Potrubie z rúr REHAU, rúrka univerzálna RAUTITAN flex alebo ekvivalent DN 25,0x3,5 mm v kotúčoch | E24: m | F24: 0.93 | I24: =ROUND(F24*(G24+H24),2) -> 0 | J24: =ROUND(F24*(N24),2) -> 18.01 | K24: =ROUND(F24*(O24),2) -> 0 | L24: =ROUND(F24*(G24),2) -> 0 | N24: 19.37 | P24: =ROUND(F24*(R24),3) -> 0 | R24: 0.00046 | Z24: 0
B25: 731/A 3 | C25: 733167032 | D25: Potrubie z rúr REHAU, rúrka univerzálna RAUTITAN flex alebo ekvivalent DN 20,0x2,8 mm v tyčiach | E25: m | F25: 64.8 | I25: =ROUND(F25*(G25+H25),2) -> 0 | J25: =ROUND(F25*(N25),2) -> 984.31 | K25: =ROUND(F25*(O25),2) -> 0 | L25: =ROUND(F25*(G25),2) -> 0 | N25: 15.19 | P25: =ROUND(F25*(R25),3) -> 0.021 | R25: 0.00032 | Z25: 0
B26: 731/A 3 | C26: 733191301 | D26: Tlaková skúška plastového potrubia do 32 mm | E26: m | F26: 65.73 | I26: =ROUND(F26*(G26+H26),2) -> 0 | J26: =ROUND(F26*(N26),2) -> 26.29 | K26: =ROUND(F26*(O26),2) -> 0 | L26: =ROUND(F26*(G26),2) -> 0 | N26: 0.4 | Z26: 0
B27: 731/A 3 | C27: 998733201 | D27: Presun hmôt pre rozvody potrubia v objektoch výšky do 6 m | E27: % | F27: 1.4 | I27: =ROUND(F27*(G27+H27),2) -> 0 | J27: =ROUND(F27*(N27),2) -> 20.37 | K27: =ROUND(F27*(O27),2) -> 0 | L27: =ROUND(F27*(G27),2) -> 0 | N27: 14.55 | Z27: 0
B28: R/RE | C28: 733167160 | D28: Montáž plasthliníkového prechodu RAUTITAN alebo ekvivalent lisovaním D 20 | E28: ks | F28: 8 | I28: =ROUND(F28*(G28+H28),2) -> 0 | J28: =ROUND(F28*(N28),2) -> 26.48 | K28: =ROUND(F28*(O28),2) -> 0 | L28: =ROUND(F28*(G28),2) -> 0 | N28: 3.31 | Z28: 0
B29: R/RE | C29: 733167181 | D29: Montáž plasthliníkového kolena RAUTITAN alebo ekvivalent lisovaním D 20 | E29: ks | F29: 40 | I29: =ROUND(F29*(G29+H29),2) -> 0 | J29: =ROUND(F29*(N29),2) -> 132.4 | K29: =ROUND(F29*(O29),2) -> 0 | L29: =ROUND(F29*(G29),2) -> 0 | N29: 3.31 | Z29: 0
B30: R/RE | C30: 733167184 | D30: Montáž plasthliníkového kolena RAUTITAN alebo ekvivalent lisovaním D 25 | E30: ks | F30: 1 | I30: =ROUND(F30*(G30+H30),2) -> 0 | J30: =ROUND(F30*(N30),2) -> 3.77 | K30: =ROUND(F30*(O30),2) -> 0 | L30: =ROUND(F30*(G30),2) -> 0 | N30: 3.77 | Z30: 0
B31: R/RE | C31: 733167200 | D31: Montáž plasthliníkového T-kusu RAUTITAN alebo ekvivalent lisovaním D 20 | E31: ks | F31: 7 | I31: =ROUND(F31*(G31+H31),2) -> 0 | J31: =ROUND(F31*(N31),2) -> 23.17 | K31: =ROUND(F31*(O31),2) -> 0 | L31: =ROUND(F31*(G31),2) -> 0 | N31: 3.31 | Z31: 0
B32: S/S20 | C32: 2862287002 | D32: T-Kus 20-16-20 RAUTITAN PX odbočka redukovaná, materiál: PPSU REHAU alebo ekvivalent | E32: ks | F32: 6 | I32: =ROUND(F32*(G32+H32),2) -> 0 | J32: =ROUND(F32*(N32),2) -> 32.94 | K32: =ROUND(F32*(O32),2) -> 0 | M32: =ROUND(F32*(G32),2) -> 0 | N32: 5.49 | P32: =ROUND(F32*(R32),3) -> 0.001 | R32: 0.00011 | Z32: 0
B33: S/S20 | C33: 2862289103 | D33: T-Kus 20-25-16 RAUTITAN alebo ekvivalent PX odbočka rozšírená, materiál: | E33: ks | F33: 1 | I33: =ROUND(F33*(G33+H33),2) -> 0 | J33: =ROUND(F33*(N33),2) -> 6.25 | K33: =ROUND(F33*(O33),2) -> 0 | M33: =ROUND(F33*(G33),2) -> 0 | N33: 6.25 | P33: =ROUND(F33*(R33),3) -> 0 | R33: 0.00015 | Z33: 0
B34: S/S20 | C34: 2862291700 | D34: Prechod s vnútorným závitom RAUTITAN RX alebo ekvivalent, 20-Rp 1/2 | E34: ks | F34: 8 | I34: =ROUND(F34*(G34+H34),2) -> 0 | J34: =ROUND(F34*(N34),2) -> 47.12 | K34: =ROUND(F34*(O34),2) -> 0 | M34: =ROUND(F34*(G34),2) -> 0 | N34: 5.89 | P34: =ROUND(F34*(R34),3) -> 0 | R34: 5e-05 | Z34: 0
B35: S/S20 | C35: 2862294502 | D35: Koleno RAUTITAN 90°, 20 PX s centrovacími zarážkami, materiál: PPSU, REHAU alebo ekvivalent | E35: ks | F35: 32 | I35: =ROUND(F35*(G35+H35),2) -> 0 | J35: =ROUND(F35*(N35),2) -> 148.16 | K35: =ROUND(F35*(O35),2) -> 0 | M35: =ROUND(F35*(G35),2) -> 0 | N35: 4.63 | P35: =ROUND(F35*(R35),3) -> 0.003 | R35: 0.0001 | Z35: 0
B36: S/S20 | C36: 2862294503 | D36: Koleno RAUTITAN 90°, 25 PX s centrovacími zarážkami, materiál: PPSU, REHAU alebo ekvivalent | E36: ks | F36: 1 | I36: =ROUND(F36*(G36+H36),2) -> 0 | J36: =ROUND(F36*(N36),2) -> 6.14 | K36: =ROUND(F36*(O36),2) -> 0 | M36: =ROUND(F36*(G36),2) -> 0 | N36: 6.14 | P36: =ROUND(F36*(R36),3) -> 0 | R36: 0.0002 | Z36: 0
D37: ÚSTREDNÉ VYKUROVANIE-ROZVOD POTRUBIA | H37: =ROUND((SUM(M23:M36))/1,2) -> 0 | I37: =ROUND((SUM(I23:I36))/1,2) -> 0 | L37: =ROUND((SUM(L23:L36))/1,2) -> 0 | M37: =ROUND((SUM(M23:M36))/1,2) -> 0 | P37: =ROUND((SUM(P23:P36))/1,2) -> 0.03 | S37: =ROUND((SUM(S23:S36))/1,2) -> 0
D39: ÚSTREDNÉ VYKUROVANIE-ARMATÚRY
B40: 731/A 4 | C40: 734213120 | D40: Montáž ventilu odvzdušňovacieho závitového vykurovacích telies do G 1/2 | E40: ks | F40: 4 | I40: =ROUND(F40*(G40+H40),2) -> 0 | J40: =ROUND(F40*(N40),2) -> 7.92 | K40: =ROUND(F40*(O40),2) -> 0 | L40: =ROUND(F40*(G40),2) -> 0 | N40: 1.98 | P40: =ROUND(F40*(R40),3) -> 0 | R40: 1e-05 | Z40: 0
B41: 731/A 4 | C41: 734223130 | D41: Montáž ventilu závitového termostatického rohového jednoregulačného G 3/4 | E41: ks | F41: 4 | I41: =ROUND(F41*(G41+H41),2) -> 0 | J41: =ROUND(F41*(N41),2) -> 12.2 | K41: =ROUND(F41*(O41),2) -> 0 | L41: =ROUND(F41*(G41),2) -> 0 | N41: 3.05 | P41: =ROUND(F41*(R41),3) -> 0 | R41: 4e-05 | Z41: 0
B42: 731/A 4 | C42: 734223208 | D42: Montáž termostatickej hlavice kvapalinovej jednoduchej | E42: súb. | F42: 4 | I42: =ROUND(F42*(G42+H42),2) -> 0 | J42: =ROUND(F42*(N42),2) -> 5.24 | K42: =ROUND(F42*(O42),2) -> 0 | L42: =ROUND(F42*(G42),2) -> 0 | N42: 1.31 | Z42: 0
B43: 731/A 4 | C43: 998734201 | D43: Presun hmôt pre armatúry v objektoch výšky do 6 m | E43: % | F43: 0.25 | I43: =ROUND(F43*(G43+H43),2) -> 0 | J43: =ROUND(F43*(N43),2) -> 0.09 | K43: =ROUND(F43*(O43),2) -> 0 | L43: =ROUND(F43*(G43),2) -> 0 | N43: 0.35 | Z43: 0
B44: R/RE | C44: 1346612 | D44: 3000 Diel pripájací rohový pre 2-rúrk. sústavy, obojstr. vypúšťanie/napúšťanie, uzatvár., pripojenie Rp 1/2, na rúru vonk. G 3/4 s kuž. tesnením, HERZ alebo ekvivalent | E44: ks | F44: 4 | I44: =ROUND(F44*(G44+H44),2) -> 0 | J44: =ROUND(F44*(N44),2) -> 72.64 | K44: =ROUND(F44*(O44),2) -> 0 | L44: =ROUND(F44*(G44),2) -> 0 | N44: 18.16 | Z44: 0
B45: R/RE | C45: 1609803 | D45: Prechodka na plast. rúrku 16x2, G 3/4 z PE-X, PB a kompozit. plastov s hadic. prechodkou, svork. krúžkom a prevl. maticou G 3/4 s kuž. tesnením, HERZ alebo ekvivalent | E45: ks | F45: 4 | I45: =ROUND(F45*(G45+H45),2) -> 0 | J45: =ROUND(F45*(N45),2) -> 10.32 | K45: =ROUND(F45*(O45),2) -> 0 | L45: =ROUND(F45*(G45),2) -> 0 | N45: 2.58 | Z45: 0
B46: R/RE | C46: 1920068 | D46: Hlavica termostat.Mini M30x1,5, bez polohy 0, kolmými drážkami, s kvapalin.snímačom, nastaviteľná protimraz.ochrana pri cca 6°C, "Design" alebo ekvivalent | E46: ks | F46: 4 | I46: =ROUND(F46*(G46+H46),2) -> 0 | J46: =ROUND(F46*(N46),2) -> 49.52 | K46: =ROUND(F46*(O46),2) -> 0 | L46: =ROUND(F46*(G46),2) -> 0 | N46: 12.38 | Z46: 0
B47: S/S40 | C47: 4849210113 | D47: Ručný odvzdušňovací ventil, 1/2, PN 10, niklovaná mosadz OT 58, plast | E47: ks | F47: 4 | I47: =ROUND(F47*(G47+H47),2) -> 0 | J47: =ROUND(F47*(N47),2) -> 5.24 | K47: =ROUND(F47*(O47),2) -> 0 | M47: =ROUND(F47*(G47),2) -> 0 | N47: 1.31 | P47: =ROUND(F47*(R47),3) -> 0 | R47: 4e-05 | Z47: 0
D48: ÚSTREDNÉ VYKUROVANIE-ARMATÚRY | H48: =ROUND((SUM(M39:M47))/1,2) -> 0 | I48: =ROUND((SUM(I39:I47))/1,2) -> 0 | L48: =ROUND((SUM(L39:L47))/1,2) -> 0 | M48: =ROUND((SUM(M39:M47))/1,2) -> 0 | P48: =ROUND((SUM(P39:P47))/1,2) -> 0 | S48: =ROUND((SUM(S39:S47))/1,2) -> 0
D50: ÚSTREDNÉ VYKUROVANIE-VYKUROVACIE TELESÁ
B51: 731/A 5 | C51: 735154110 | D51: Montáž vykurovacieho telesa panelového dvojradového výšky 300 mm/ dĺžky 400-600 mm | E51: ks | F51: 1 | I51: =ROUND(F51*(G51+H51),2) -> 0 | J51: =ROUND(F51*(N51),2) -> 5.41 | K51: =ROUND(F51*(O51),2) -> 0 | L51: =ROUND(F51*(G51),2) -> 0 | N51: 5.41 | P51: =ROUND(F51*(R51),3) -> 0 | R51: 2e-05 | Z51: 0
B52: 731/A 5 | C52: 735154140 | D52: Montáž vykurovacieho telesa panelového dvojradového výšky 600 mm/ dĺžky 400-600 mm | E52: ks | F52: 3 | I52: =ROUND(F52*(G52+H52),2) -> 0 | J52: =ROUND(F52*(N52),2) -> 17.16 | K52: =ROUND(F52*(O52),2) -> 0 | L52: =ROUND(F52*(G52),2) -> 0 | N52: 5.72 | P52: =ROUND(F52*(R52),3) -> 0 | R52: 2e-05 | Z52: 0
B53: 731/A 5 | C53: 735158120 | D53: Vykurovacie telesá panelové, tlaková skúška telesa vodou U. S. Steel Košice alebo ekvivalent dvojradového | E53: ks | F53: 4 | I53: =ROUND(F53*(G53+H53),2) -> 0 | J53: =ROUND(F53*(N53),2) -> 26 | K53: =ROUND(F53*(O53),2) -> 0 | L53: =ROUND(F53*(G53),2) -> 0 | N53: 6.5 | Z53: 0
B54: 731/A 5 | C54: 998735201 | D54: Presun hmôt pre vykurovacie telesá v objektoch výšky do 6 m | E54: % | F54: 1.6 | I54: =ROUND(F54*(G54+H54),2) -> 0 | J54: =ROUND(F54*(N54),2) -> 7.1 | K54: =ROUND(F54*(O54),2) -> 0 | L54: =ROUND(F54*(G54),2) -> 0 | N54: 4.44 | Z54: 0
B55: HZS/HZS | C55: HZS000113 | D55: Vykurovacia skúška, zaregulovanie systému UVK | E55: hod | F55: 24 | I55: =ROUND(F55*(G55+H55),2) -> 0 | J55: =ROUND(F55*(N55),2) -> 288 | K55: =ROUND(F55*(O55),2) -> 0 | L55: =ROUND(F55*(G55),2) -> 0 | N55: 12 | Z55: 0
B56: R/RE | C56: 4848955781,1 | D56: Vykurovacie teleso KORADO alebo ekvivalent doskové 2-radové oceľové 22VKP 600x 900 | E56: ks | F56: 1 | I56: =ROUND(F56*(G56+H56),2) -> 0 | J56: =ROUND(F56*(N56),2) -> 125.66 | K56: =ROUND(F56*(O56),2) -> 0 | L56: =ROUND(F56*(G56),2) -> 0 | N56: 125.66 | Z56: 0
B57: S/S40 | C57: 4848955260 | D57: Vykurovacie teleso KORADO alebo ekvivalent doskové 2-radové oceľové 20VKP 300x 500 | E57: ks | F57: 1 | I57: =ROUND(F57*(G57+H57),2) -> 0 | J57: =ROUND(F57*(N57),2) -> 83.5 | K57: =ROUND(F57*(O57),2) -> 0 | M57: =ROUND(F57*(G57),2) -> 0 | N57: 83.5 | P57: =ROUND(F57*(R57),3) -> 0.009 | R57: 0.00893 | Z57: 0
B58: S/S40 | C58: 4848955730 | D58: Vykurovacie teleso KORADO alebo ekvivalent doskové 2-radové oceľové 22VKP 600x 400 | E58: ks | F58: 2 | I58: =ROUND(F58*(G58+H58),2) -> 0 | J58: =ROUND(F58*(N58),2) -> 185.58 | K58: =ROUND(F58*(O58),2) -> 0 | M58: =ROUND(F58*(G58),2) -> 0 | N58: 92.79 | P58: =ROUND(F58*(R58),3) -> 0.029 | R58: 0.01463 | Z58: 0
D59: ÚSTREDNÉ VYKUROVANIE-VYKUROVACIE TELESÁ | I59: =ROUND((SUM(I50:I58))/1,2) -> 0 | L59: =ROUND((SUM(L50:L58))/1,2) -> 0 | M59: =ROUND((SUM(M50:M58))/1,2) -> 0 | P59: =ROUND((SUM(P50:P58))/1,2) -> 0.04 | S59: =ROUND((SUM(S50:S58))/1,2) -> 0
D61: Práce PSV | H61: =ROUND((SUM(M9:M60))/2,2) -> 0 | I61: =ROUND((SUM(I9:I60))/2,2) -> 0 | L61: =ROUND((SUM(L9:L60))/2,2) -> 0 | M61: =ROUND((SUM(M9:M60))/2,2) -> 0 | P61: =ROUND((SUM(P9:P60))/2,2) -> 0.07 | S61: =ROUND((SUM(S9:S60))/2,2) -> 0
D62: Celkom v EUR | H62: =ROUND((SUM(M9:M61))/3,2) -> 0 | I62: =ROUND((SUM(I9:I61))/3,2) -> 0 | K62: =ROUND((SUM(K9:K61))/3,2) -> 0 | L62: =ROUND((SUM(L9:L61))/3,2) -> 0 | M62: =ROUND((SUM(M9:M61))/3,2) -> 0 | P62: =ROUND((SUM(P9:P61))/3,2) -> 0.07 | S62: =ROUND((SUM(S9:S61))/3,2) -> 0 | Z62: =(SUM(Z9:Z61)) -> 0

Sheet Kryci_list 12920
F1: Krycí list rozpočtu | W1: 30.126
B2: Stavba Prístavba kuchyne ku kultúrnemu domu - Čičava | G2: Miesto:
B3: Objekt SO 01 - Hlavný objekt - ZTI
I4: Ks:
B5: Zákazka: | F5: Spracoval: Ing. Ján Halgaš | I5: Dňa | J5: 05.06.2018
B6: Odberateľ: Obec Čičava | G6: IČO:
G7: DIČ:
B8: Dodávateľ: | G8: IČO:
G9: DIČ:
B10: Projektant: D. D. - ARCH s. r. o. | G10: IČO:
G11: DIČ:
B15: A | C15: ZRN | D15: Montáž | E15: Materiál | F15: ZRN spolu | G15: B | H15: Ďalšie náklady
B16: 1 | C16: HSV | G16: 6 | H16: Ostatné náklady | J16: 0
B17: 2 | C17: PSV | D17: ='Rekap 12920'!B15 -> 0 | E17: ='Rekap 12920'!C15 -> 0 | F17: ='Rekap 12920'!D15 -> 0 | G17: 7 | H17: Kompletačná činnosť | J17: ='SO 12920'!Z80 -> 0
B18: 3 | C18: MONT | G18: 8 | H18: HZS | J18: 0
B19: 4 | G19: 9
B20: 5 | C20: Spolu | F20: =SUM(F16:F19) -> 0 | G20: 10 | H20: Spolu | J20: =SUM(J16:J19) -> 0
B21: C | C21: VRN | G21: D | H21: VRN
B22: 11 | C22: Zariadenie staveniska | E22: 0% z [H+P+M] | F22: =((F16*U22*0)+(F17*V22*0)+(F18*W22*0))/100 -> 0 | G22: 16 | H22: Sťažené podmienky dopravy | I22: 0% z [H+P+M] | J22: =((F16*X22*0)+(F17*Y22*0)+(F18*Z22*0))/100 -> 0 | U22: 1 | V22: 1 | W22: 1 | X22: 1 | Y22: 1 | Z22: 1
B23: 12 | C23: Sťažené výrobné podmienky | E23: 0% z [H+P] | F23: =((F16*U23*0)+(F17*V23*0)+(F18*W23*0))/100 -> 0 | G23: 17 | H23: Horské oblasti | I23: 0% z [H+P+M] | J23: =((F16*X23*0)+(F17*Y23*0)+(F18*Z23*0))/100 -> 0 | U23: 1 | V23: 1 | W23: 0 | X23: 1 | Y23: 1 | Z23: 1
B24: 13 | C24: Prevádzkové vplyvy | E24: 0% z [H+P+M] | F24: =((F16*U24*0)+(F17*V24*0)+(F18*W24*0))/100 -> 0 | G24: 18 | H24: Mimostavenisková doprava | I24: 0% z [H+P] | J24: =((F16*X24*0)+(F17*Y24*0)+(F18*Z24*0))/100 -> 0 | U24: 1 | V24: 1 | W24: 1 | X24: 1 | Y24: 1 | Z24: 0
B25: 14 | G25: 19
B26: 15 | G26: 20 | H26: Spolu | J26: =SUM(J22:J25)+SUM(F22:F25) -> 0
C27: Projektant,rozpočtár | G27: E | H27: Celkové náklady
G28: 21 | H28: Súčet riadkov 5,10,15,20 | J28: =F20+J20+F26+J26 -> 0
G29: 22 | H29: DPH 20% z | I29: =J28-SUM('SO 12920'!K9:'SO 12920'!K79) -> 0 | J29: =ROUND(((ROUND(I29,2)*20)*1/100),2) -> 0
G30: 23 | H30: DPH 0% z | I30: =SUM('SO 12920'!K9:'SO 12920'!K79) -> 0 | J30: =ROUND(((ROUND(I30,2)*0)/100),2) -> 0
G31: 24 | H31: Spolu v EUR | J31: =SUM(J28:J30) -> 0
G32: F
D33: Odberateľ | G33: 26 | H33: Dodávateľ

Sheet Rekap 12920
A1: Odberateľ: Obec Čičava | D1: Spracoval: Ing. Ján Halgaš | W1: 30.126
A2: Projektant: D. D. - ARCH s. r. o. | D2: Ks:
A3: Dodávateľ: | D3: Dátum: 05.06.2018
A4: Stavba Prístavba kuchyne ku kultúrnemu domu - Čičava
A5: Objekt SO 01 - Hlavný objekt - ZTI
A8: Prehľad rozpočtových nákladov
A9: Oddiel | B9: Montáž | C9: Materiál | D9: Spolu | E9: Hmotnosť (T) | F9: Suť (T)
A10: Práce PSV
A11: IZOLÁCIE TEPELNÉ BEŽNÝCH STAVEB. KONŠTRUKCIÍ | B11: ='SO 12920'!L16 -> 0 | C11: ='SO 12920'!M16 -> 0 | D11: ='SO 12920'!I16 -> 0 | E11: ='SO 12920'!P16 -> 0.01 | F11: ='SO 12920'!S16 -> 0
A12: ZTI-VNÚTORNA KANALIZÁCIA | B12: ='SO 12920'!L30 -> 0 | C12: ='SO 12920'!M30 -> 0 | D12: ='SO 12920'!I30 -> 0 | E12: ='SO 12920'!P30 -> 0.07 | F12: ='SO 12920'!S30 -> 0
A13: ZTI-VNÚTORNÝ VODOVOD | B13: ='SO 12920'!L49 -> 0 | C13: ='SO 12920'!M49 -> 0 | D13: ='SO 12920'!I49 -> 0 | E13: ='SO 12920'!P49 -> 0.63 | F13: ='SO 12920'!S49 -> 0
A14: ZTI-ZARIAĎOVACIE PREDMETY | B14: ='SO 12920'!L77 -> 0 | C14: ='SO 12920'!M77 -> 0 | D14: ='SO 12920'!I77 -> 0 | E14: ='SO 12920'!P77 -> 0.05 | F14: ='SO 12920'!S77 -> 0
A15: Práce PSV | B15: ='SO 12920'!L79 -> 0 | C15: ='SO 12920'!M79 -> 0 | D15: ='SO 12920'!I79 -> 0 | E15: ='SO 12920'!P79 -> 0.76 | F15: ='SO 12920'!S79 -> 0
A17: Celkom v EUR | B17: ='SO 12920'!L80 -> 0 | C17: ='SO 12920'!M80 -> 0 | D17: ='SO 12920'!I80 -> 0 | E17: ='SO 12920'!P80 -> 0.76 | F17: ='SO 12920'!S80 -> 0

Sheet SO 12920
B1: Odberateľ: Obec Čičava | E1: Spracoval: Ing. Ján Halgaš | W1: 30.126
B2: Projektant: D. D. - ARCH s. r. o. | E2: Ks:
B3: Dodávateľ: | E3: Dátum: 05.06.2018
B4: Stavba Prístavba kuchyne ku kultúrnemu domu - Čičava
B5: Objekt SO 01 - Hlavný objekt - ZTI
B7: Prehľad rozpočtových nákladov
A8: Por.č. | B8: Cenník | C8: Kód položky | D8: Názov | E8: Mj | F8: Množstvo | G8: Cena/Mj | H8: Materiál | I8: Cena celkom | P8: Hmotnosť | S8: Suť
D9: Práce PSV
D10: IZOLÁCIE TEPELNÉ BEŽNÝCH STAVEB. KONŠTRUKCIÍ
B11: 713/A 4 | C11: 713482121 | D11: Montáž trubíc z PE, hr.15-20 mm,vnút.priemer do 38 mm | E11: m | F11: 103.98 | I11: =ROUND(F11*(G11+H11),2) -> 0 | J11: =ROUND(F11*(N11),2) -> 269.31 | K11: =ROUND(F11*(O11),2) -> 0 | L11: =ROUND(F11*(G11),2) -> 0 | N11: 2.59 | P11: =ROUND(F11*(R11),3) -> 0.002 | R11: 2e-05 | Z11: 0
B12: 713/A 5 | C12: 998713201 | D12: Presun hmôt pre izolácie tepelné v objektoch výšky do 6 m | E12: % | F12: 1.3 | I12: =ROUND(F12*(G12+H12),2) -> 0 | J12: =ROUND(F12*(N12),2) -> 4.65 | K12: =ROUND(F12*(O12),2) -> 0 | L12: =ROUND(F12*(G12),2) -> 0 | N12: 3.58 | Z12: 0
B13: S/S20 | C13: 2837741537 | D13: Tubolit DG 20 x 13 izolácia-trubica AZ FLEX Armacell alebo ekvivalent | E13: m | F13: 67.44 | I13: =ROUND(F13*(G13+H13),2) -> 0 | J13: =ROUND(F13*(N13),2) -> 41.14 | K13: =ROUND(F13*(O13),2) -> 0 | M13: =ROUND(F13*(G13),2) -> 0 | N13: 0.61 | P13: =ROUND(F13*(R13),3) -> 0.003 | R13: 4e-05 | Z13: 0
B14: S/S20 | C14: 2837741558 | D14: Tubolit DG 28 x 30 izolácia-trubica AZ FLEX Armacell alebo ekvivalent | E14: m | F14: 9.85 | I14: =ROUND(F14*(G14+H14),2) -> 0 | J14: =ROUND(F14*(N14),2) -> 23.15 | K14: =ROUND(F14*(O14),2) -> 0 | M14: =ROUND(F14*(G14),2) -> 0 | N14: 2.35 | P14: =ROUND(F14*(R14),3) -> 0.001 | R14: 6e-05 | Z14: 0
B15: S/S20 | C15: 2837741563 | D15: Tubolit DG 32 x 13 izolácia-trubica AZ FLEX Armacell alebo ekvivalent | E15: m | F15: 26.69 | I15: =ROUND(F15*(G15+H15),2) -> 0 | J15: =ROUND(F15*(N15),2) -> 23.22 | K15: =ROUND(F15*(O15),2) -> 0 | M15: =ROUND(F15*(G15),2) -> 0 | N15: 0.87 | P15: =ROUND(F15*(R15),3) -> 0.003 | R15: 0.0001 | Z15: 0
D16: IZOLÁCIE TEPELNÉ BEŽNÝCH STAVEB. KONŠTRUKCIÍ | H16: =ROUND((SUM(M10:M15))/1,2) -> 0 | I16: =ROUND((SUM(I10:I15))/1,2) -> 0 | L16: =ROUND((SUM(L10:L15))/1,2) -> 0 | M16: =ROUND((SUM(M10:M15))/1,2) -> 0 | P16: =ROUND((SUM(P10:P15))/1,2) -> 0.01 | S16: =ROUND((SUM(S10:S15))/1,2) -> 0
D18: ZTI-VNÚTORNA KANALIZÁCIA
B19: 721/A 1 | C19: 721171107 | D19: Potrubie z PVC - U odpadové ležaté hrdlové D 75x1, 8 | E19: m | F19: 8.65 | I19: =ROUND(F19*(G19+H19),2) -> 0 | J19: =ROUND(F19*(N19),2) -> 118.42 | K19: =ROUND(F19*(O19),2) -> 0 | L19: =ROUND(F19*(G19),2) -> 0 | N19: 13.69 | P19: =ROUND(F19*(R19),3) -> 0.014 | R19: 0.00157 | Z19: 0
B20: 721/A 1 | C20: 721171109 | D20: Potrubie z PVC - U odpadové ležaté hrdlové D 110x2, 2 | E20: m | F20: 27.35 | I20: =ROUND(F20*(G20+H20),2) -> 0 | J20: =ROUND(F20*(N20),2) -> 395.21 | K20: =ROUND(F20*(O20),2) -> 0 | L20: =ROUND(F20*(G20),2) -> 0 | N20: 14.45 | P20: =ROUND(F20*(R20),3) -> 0.045 | R20: 0.00163 | Z20: 0
B21: 721/A 1 | C21: 721173204 | D21: Potrubie z PVC - U odpadné pripájacie D 40x1, 8 | E21: m | F21: 4.3 | I21: =ROUND(F21*(G21+H21),2) -> 0 | J21: =ROUND(F21*(N21),2) -> 30.87 | K21: =ROUND(F21*(O21),2) -> 0 | L21: =ROUND(F21*(G21),2) -> 0 | N21: 7.18 | P21: =ROUND(F21*(R21),3) -> 0.003 | R21: 0.00059 | Z21: 0
B22: 721/A 1 | C22: 721173205 | D22: Potrubie z PVC - U odpadné pripájacie D 50x1, 8 | E22: m | F22: 2.75 | I22: =ROUND(F22*(G22+H22),2) -> 0 | J22: =ROUND(F22*(N22),2) -> 20.32 | K22: =ROUND(F22*(O22),2) -> 0 | L22: =ROUND(F22*(G22),2) -> 0 | N22: 7.39 | P22: =ROUND(F22*(R22),3) -> 0.002 | R22: 0.00064 | Z22: 0
B23: 721/A 1 | C23: 721274103 | D23: Ventilačné hlavice strešná - plastové DN 100 HUL 810 alebo ekvivalent | E23: ks | F23: 1 | I23: =ROUND(F23*(G23+H23),2) -> 0 | J23: =ROUND(F23*(N23),2) -> 22.16 | K23: =ROUND(F23*(O23),2) -> 0 | L23: =ROUND(F23*(G23),2) -> 0 | N23: 22.16 | P23: =ROUND(F23*(R23),3) -> 0.004 | R23: 0.00415 | Z23: 0
B24: 721/A 1 | C24: 721290111 | D24: Ostatné - skúška tesnosti kanalizácie v objektoch vodou do DN 125 | E24: m | F24: 43.05 | I24: =ROUND(F24*(G24+H24),2) -> 0 | J24: =ROUND(F24*(N24),2) -> 30.57 | K24: =ROUND(F24*(O24),2) -> 0 | L24: =ROUND(F24*(G24),2) -> 0 | N24: 0.71 | Z24: 0
B25: 721/A 1 | C25: 998721201 | D25: Presun hmôt pre vnútornú kanalizáciu v objektoch výšky do 6 m | E25: % | F25: 1 | I25: =ROUND(F25*(G25+H25),2) -> 0 | J25: =ROUND(F25*(N25),2) -> 8.16 | K25: =ROUND(F25*(O25),2) -> 0 | L25: =ROUND(F25*(G25),2) -> 0 | N25: 8.16 | Z25: 0
B26: R/RE | C26: 2866340031 | D26: Podlahový vpust HL90Pr, (0,43 l/s), horizontálny odtok DN40/50, mriežka 115x115 mm, zápachová uzávierka PRIMUS, PE/nerezová oceľ alebo ekvivalent | E26: ks | F26: 2 | I26: =ROUND(F26*(G26+H26),2) -> 0 | J26: =ROUND(F26*(N26),2) -> 76.48 | K26: =ROUND(F26*(O26),2) -> 0 | L26: =ROUND(F26*(G26),2) -> 0 | N26: 38.24 | Z26: 0
B27: R/RE | C27: 2866340103 | D27: Podlahový vpust HL310N - 3020, (0,67 l/s), vertikálny odtok DN 50/75/110, nadstavec, rám 132 x 132? mm, kryt s možnosťou nalepenia dlažby 112 x 112? mm, PP/PE/ABS/nerezová oceľ V4A alebo ekvivalent | E27: ks | F27: 1 | I27: =ROUND(F27*(G27+H27),2) -> 0 | J27: =ROUND(F27*(N27),2) -> 102.17 | K27: =ROUND(F27*(O27),2) -> 0 | L27: =ROUND(F27*(G27),2) -> 0 | N27: 102.17 | Z27: 0
B28: R/RE | C28: 721213000 | D28: Montáž podlahového vpustu s vodorovným odtokom DN 50 | E28: ks | F28: 2 | I28: =ROUND(F28*(G28+H28),2) -> 0 | J28: =ROUND(F28*(N28),2) -> 11.22 | K28: =ROUND(F28*(O28),2) -> 0 | L28: =ROUND(F28*(G28),2) -> 0 | N28: 5.61 | Z28: 0
B29: R/RE | C29: 721213015,1 | D29: Montáž podlahového vpustu s zvislým odtokom DN 110 | E29: ks | F29: 1 | I29: =ROUND(F29*(G29+H29),2) -> 0 | J29: =ROUND(F29*(N29),2) -> 8.38 | K29: =ROUND(F29*(O29),2) -> 0 | L29: =ROUND(F29*(G29),2) -> 0 | N29: 8.38 | Z29: 0
D30: ZTI-VNÚTORNA KANALIZÁCIA | H30: =ROUND((SUM(M18:M29))/1,2) -> 0 | I30: =ROUND((SUM(I18:I29))/1,2) -> 0 | L30: =ROUND((SUM(L18:L29))/1,2) -> 0 | M30: =ROUND((SUM(M18:M29))/1,2) -> 0 | P30: =ROUND((SUM(P18:P29))/1,2) -> 0.07 | S30: =ROUND((SUM(S18:S29))/1,2) -> 0
D32: ZTI-VNÚTORNÝ VODOVOD
B33: 721/A 2 | C33: 722171132 | D33: Potrubie z plastických rúr PeX D20/2,0 lisovaním | E33: m | F33: 64.44 | I33: =ROUND(F33*(G33+H33),2) -> 0 | J33: =ROUND(F33*(N33),2) -> 627.65 | K33: =ROUND(F33*(O33),2) -> 0 | L33: =ROUND(F33*(G33),2) -> 0 | N33: 9.74 | P33: =ROUND(F33*(R33),3) -> 0.256 | R33: 0.00398 | Z33: 0
B34: 721/A 2 | C34: 722171133 | D34: Potrubie z plastických rúr PeX D26/3,0 lisovaním | E34: m | F34: 9.85 | I34: =ROUND(F34*(G34+H34),2) -> 0 | J34: =ROUND(F34*(N34),2) -> 130.32 | K34: =ROUND(F34*(O34),2) -> 0 | L34: =ROUND(F34*(G34),2) -> 0 | N34: 13.23 | P34: =ROUND(F34*(R34),3) -> 0.058 | R34: 0.00585 | Z34: 0
B35: 721/A 2 | C35: 722171134 | D35: Potrubie z plastických rúr PeX D32/3,0 lisovaním | E35: m | F35: 26.69 | I35: =ROUND(F35*(G35+H35),2) -> 0 | J35: =ROUND(F35*(N35),2) -> 471.35 | K35: =ROUND(F35*(O35),2) -> 0 | L35: =ROUND(F35*(G35),2) -> 0 | N35: 17.66 | P35: =ROUND(F35*(R35),3) -> 0.298 | R35: 0.01116 | Z35: 0
B36: 721/A 2 | C36: 722290226 | D36: Tlaková skúška vodovodného potrubia závitového do DN 50 | E36: m | F36: 103.98 | I36: =ROUND(F36*(G36+H36),2) -> 0 | J36: =ROUND(F36*(N36),2) -> 138.29 | K36: =ROUND(F36*(O36),2) -> 0 | L36: =ROUND(F36*(G36),2) -> 0 | N36: 1.33 | P36: =ROUND(F36*(R36),3) -> 0.019 | R36: 0.00018 | Z36: 0
B37: 721/A 2 | C37: 722290234 | D37: Prepláchnutie a dezinfekcia vodovodného potrubia do DN 80 | E37: m | F37: 103.98 | I37: =ROUND(F37*(G37+H37),2) -> 0 | J37: =ROUND(F37*(N37),2) -> 96.7 | K37: =ROUND(F37*(O37),2) -> 0 | L37: =ROUND(F37*(G37),2) -> 0 | N37: 0.93 | P37: =ROUND(F37*(R37),3) -> 0.001 | R37: 1e-05 | Z37: 0
B38: 721/A 2 | C38: 998722201 | D38: Presun hmôt pre vnútorný vodovod v objektoch výšky do 6 m | E38: % | F38: 0.7 | I38: =ROUND(F38*(G38+H38),2) -> 0 | J38: =ROUND(F38*(N38),2) -> 13.04 | K38: =ROUND(F38*(O38),2) -> 0 | L38: =ROUND(F38*(G38),2) -> 0 | N38: 18.63 | Z38: 0
B39: R/RE | C39: 5511870000 | D39: Guľový uzáver pre vodu PERFECTA, 1/2, FF páčka, niklovaná mosadz OT 58 alebo ekvivalent | E39: ks | F39: 1 | I39: =ROUND(F39*(G39+H39),2) -> 0 | J39: =ROUND(F39*(N39),2) -> 4.3 | K39: =ROUND(F39*(O39),2) -> 0 | L39: =ROUND(F39*(G39),2) -> 0 | N39: 4.3 | Z39: 0
B40: R/RE | C40: 5511870010 | D40: Guľový uzáver pre vodu PERFECTA, 3/4, FF páčka, niklovaná mosadz OT 58 IVAR alebo ekvivalent | E40: ks | F40: 2 | I40: =ROUND(F40*(G40+H40),2) -> 0 | J40: =ROUND(F40*(N40),2) -> 12 | K40: =ROUND(F40*(O40),2) -> 0 | L40: =ROUND(F40*(G40),2) -> 0 | N40: 6 | Z40: 0
B41: R/RE | C41: 5511870690 | D41: Rohový guľový uzáver pre vodu série 59, 1/2 FF, 59, niklovaná mosadz OT 58 IVAR alebo ekvivalent | E41: ks | F41: 20 | I41: =ROUND(F41*(G41+H41),2) -> 0 | J41: =ROUND(F41*(N41),2) -> 220.4 | K41: =ROUND(F41*(O41),2) -> 0 | L41: =ROUND(F41*(G41),2) -> 0 | N41: 11.02 | Z41: 0
B42: R/RE | C42: 5511871150 | D42: Vypúšťací guľový kohút s páčkou, 3/4, Euro M, mosadz OT 58 IVAR alebo ekvivalent | E42: ks | F42: 1 | I42: =ROUND(F42*(G42+H42),2) -> 0 | J42: =ROUND(F42*(N42),2) -> 8.11 | K42: =ROUND(F42*(O42),2) -> 0 | L42: =ROUND(F42*(G42),2) -> 0 | N42: 8.11 | Z42: 0
B43: R/RE | C43: 5511874500 | D43: Flexi hadice k baterii (8x12), 8x12 (F1/2xM10), 40 cm, nerez IVAR alebo ekvivalent | E43: ks | F43: 18 | I43: =ROUND(F43*(G43+H43),2) -> 0 | J43: =ROUND(F43*(N43),2) -> 65.16 | K43: =ROUND(F43*(O43),2) -> 0 | L43: =ROUND(F43*(G43),2) -> 0 | N43: 3.62 | Z43: 0
B44: R/RE | C44: 722221010 | D44: Montáž guľového kohúta závitového priameho pre vodu G 1/2 | E44: ks | F44: 1 | I44: =ROUND(F44*(G44+H44),2) -> 0 | J44: =ROUND(F44*(N44),2) -> 2.02 | K44: =ROUND(F44*(O44),2) -> 0 | L44: =ROUND(F44*(G44),2) -> 0 | N44: 2.02 | Z44: 0
B45: R/RE | C45: 722221015 | D45: Montáž guľového kohúta závitového priameho pre vodu G 3/4 | E45: ks | F45: 2 | I45: =ROUND(F45*(G45+H45),2) -> 0 | J45: =ROUND(F45*(N45),2) -> 6.74 | K45: =ROUND(F45*(O45),2) -> 0 | L45: =ROUND(F45*(G45),2) -> 0 | N45: 3.37 | Z45: 0
B46: R/RE | C46: 722221070 | D46: Montáž guľového kohúta závitového rohového pre vodu G 1/2 | E46: ks | F46: 20 | I46: =ROUND(F46*(G46+H46),2) -> 0 | J46: =ROUND(F46*(N46),2) -> 40.4 | K46: =ROUND(F46*(O46),2) -> 0 | L46: =ROUND(F46*(G46),2) -> 0 | N46: 2.02 | Z46: 0
B47: R/RE | C47: 722221083 | D47: Montáž guľového kohúta vypúšťacieho závitového G 3/4 | E47: ks | F47: 1 | I47: =ROUND(F47*(G47+H47),2) -> 0 | J47: =ROUND(F47*(N47),2) -> 3.37 | K47: =ROUND(F47*(O47),2) -> 0 | L47: =ROUND(F47*(G47),2) -> 0 | N47: 3.37 | Z47: 0
B48: R/RE | C48: 722221430 | D48: Montáž pripojovacej sanitárnej flexi hadice G 1/2 | E48: ks | F48: 18 | I48: =ROUND(F48*(G48+H48),2) -> 0 | J48: =ROUND(F48*(N48),2) -> 36 | K48: =ROUND(F48*(O48),2) -> 0 | L48: =ROUND(F48*(G48),2) -> 0 | N48: 2 | Z48: 0
D49: ZTI-VNÚTORNÝ VODOVOD | H49: =ROUND((SUM(M32:M48))/1,2) -> 0 | I49: =ROUND((SUM(I32:I48))/1,2) -> 0 | L49: =ROUND((SUM(L32:L48))/1,2) -> 0 | M49: =ROUND((SUM(M32:M48))/1,2) -> 0 | P49: =ROUND((SUM(P32:P48))/1,2) -> 0.63 | S49: =ROUND((SUM(S32:S48))/1,2) -> 0
D51: ZTI-ZARIAĎOVACIE PREDMETY
B52: 721/A 5 | C52: 725119307 | D52: Montáž záchodovej misy kombinovanej s rovným odpadom | E52: súb. | F52: 1 | I52: =ROUND(F52*(G52+H52),2) -> 0 | J52: =ROUND(F52*(N52),2) -> 29.42 | K52: =ROUND(F52*(O52),2) -> 0 | L52: =ROUND(F52*(G52),2) -> 0 | N52: 29.42 | P52: =ROUND(F52*(R52),3) -> 0.001 | R52: 0.00066 | Z52: 0
B53: 721/A 5 | C53: 725219401 | D53: Montáž umývadla na skrutky do muriva, bez výtokovej armatúry | E53: súb. | F53: 5 | I53: =ROUND(F53*(G53+H53),2) -> 0 | J53: =ROUND(F53*(N53),2) -> 131.5 | K53: =ROUND(F53*(O53),2) -> 0 | L53: =ROUND(F53*(G53),2) -> 0 | N53: 26.3 | P53: =ROUND(F53*(R53),3) -> 0.003 | R53: 0.00057 | Z53: 0
B54: 721/A 5 | C54: 725319113 | D54: Montáž kuchynských drezov jednoduchých, hranatých, s rozmerom do 800 x 600 mm, bez výtokových armatúr | E54: súb. | F54: 3 | I54: =ROUND(F54*(G54+H54),2) -> 0 | J54: =ROUND(F54*(N54),2) -> 37.26 | K54: =ROUND(F54*(O54),2) -> 0 | L54: =ROUND(F54*(G54),2) -> 0 | N54: 12.42 | P54: =ROUND(F54*(R54),3) -> 0.001 | R54: 0.00026 | Z54: 0
B55: 721/A 5 | C55: 725329201 | D55: Montáž veľkokuchynských drezov, samostatne stojacích jednodrezových, bez výtok. armatúr | E55: súb. | F55: 1 | I55: =ROUND(F55*(G55+H55),2) -> 0 | J55: =ROUND(F55*(N55),2) -> 8.18 | K55: =ROUND(F55*(O55),2) -> 0 | L55: =ROUND(F55*(G55),2) -> 0 | N55: 8.18 | Z55: 0
B56: 721/A 5 | C56: 725829201 | D56: Montáž batérie umývadlovej a drezovej nástennej pákovej, alebo klasickej | E56: ks | F56: 5 | I56: =ROUND(F56*(G56+H56),2) -> 0 | J56: =ROUND(F56*(N56),2) -> 36.1 | K56: =ROUND(F56*(O56),2) -> 0 | L56: =ROUND(F56*(G56),2) -> 0 | N56: 7.22 | P56: =ROUND(F56*(R56),3) -> 0.001 | R56: 0.00012 | Z56: 0
B57: 721/A 5 | C57: 725829402 | D57: Montáž batérie umývadlovej, senzorovej s prívodom teplej a studenej vody | E57: ks | F57: 1 | I57: =ROUND(F57*(G57+H57),2) -> 0 | J57: =ROUND(F57*(N57),2) -> 10.88 | K57: =ROUND(F57*(O57),2) -> 0 | L57: =ROUND(F57*(G57),2) -> 0 | N57: 10.88 | P57: =ROUND(F57*(R57),3) -> 0 | R57: 4e-05 | Z57: 0
B58: 721/A 5 | C58: 725829601 | D58: Montáž batérií umývadlových stojankových pákových alebo klasických | E58: ks | F58: 3 | I58: =ROUND(F58*(G58+H58),2) -> 0 | J58: =ROUND(F58*(N58),2) -> 27.69 | K58: =ROUND(F58*(O58),2) -> 0 | L58: =ROUND(F58*(G58),2) -> 0 | N58: 9.23 | P58: =ROUND(F58*(R58),3) -> 0 | R58: 0.0001 | Z58: 0
B59: 721/A 5 | C59: 725869301 | D59: Montáž zápachovej uzávierky pre zariaďovacie predmety, umývadlová do D 40 | E59: ks | F59: 1 | I59: =ROUND(F59*(G59+H59),2) -> 0 | J59: =ROUND(F59*(N59),2) -> 2.52 | K59: =ROUND(F59*(O59),2) -> 0 | L59: =ROUND(F59*(G59),2) -> 0 | N59: 2.52 | P59: =ROUND(F59*(R59),3) -> 0 | R59: 1e-05 | Z59: 0
B60: 721/A 5 | C60: 725869302 | D60: Montáž zápachovej uzávierky pre zariaďovacie predmety, umývadlová do D 50 (podomietková) | E60: ks | F60: 5 | I60: =ROUND(F60*(G60+H60),2) -> 0 | J60: =ROUND(F60*(N60),2) -> 18.75 | K60: =ROUND(F60*(O60),2) -> 0 | L60: =ROUND(F60*(G60),2) -> 0 | N60: 3.75 | P60: =ROUND(F60*(R60),3) -> 0 | R60: 1e-05 | Z60: 0
B61: 721/A 5 | C61: 725869311 | D61: Montáž zápachovej uzávierky pre zariaďovacie predmety, drezová do D 50 (pre jeden drez) | E61: ks | F61: 4 | I61: =ROUND(F61*(G61+H61),2) -> 0 | J61: =ROUND(F61*(N61),2) -> 10.88 | K61: =ROUND(F61*(O61),2) -> 0 | L61: =ROUND(F61*(G61),2) -> 0 | N61: 2.72 | P61: =ROUND(F61*(R61),3) -> 0 | R61: 1e-05 | Z61: 0
B62: 721/A 5 | C62: 998725201 | D62: Presun hmôt pre zariaďovacie predmety v objektoch výšky do 6 m | E62: % | F62: 0.3 | I62: =ROUND(F62*(G62+H62),2) -> 0 | J62: =ROUND(F62*(N62),2) -> 9.31 | K62: =ROUND(F62*(O62),2) -> 0 | L62: =ROUND(F62*(G62),2) -> 0 | N62: 31.02 | Z62: 0
B63: R/RE | C63: 5513006010 | D63: Umývadlová stojanková páková batéria TIGO alebo ekvivalent , 355x155x65 mm, chróm | E63: ks | F63: 3 | I63: =ROUND(F63*(G63+H63),2) -> 0 | J63: =ROUND(F63*(N63),2) -> 177.75 | K63: =ROUND(F63*(O63),2) -> 0 | L63: =ROUND(F63*(G63),2) -> 0 | N63: 59.25 | Z63: 0
B64: R/RE | C64: 5513006640 | D64: Nástenná umývadlová páková batéria LYRA alebo ekvivalent , výtokové rameno 210 mm, rozteč 150 mm, chróm | E64: ks | F64: 1 | I64: =ROUND(F64*(G64+H64),2) -> 0 | J64: =ROUND(F64*(N64),2) -> 58.08 | K64: =ROUND(F64*(O64),2) -> 0 | L64: =ROUND(F64*(G64),2) -> 0 | N64: 58.08 | Z64: 0
B65: R/RE | C65: 5514676931,1 | D65: Umyvadlová senzorová batéria | E65: ks | F65: 1 | I65: =ROUND(F65*(G65+H65),2) -> 0 | J65: =ROUND(F65*(N65),2) -> 265 | K65: =ROUND(F65*(O65),2) -> 0 | L65: =ROUND(F65*(G65),2) -> 0 | N65: 265 | Z65: 0
B66: R/RE | C66: 5516211052 | D66: Zápachová uzávierka HL137/40 alebo ekvivalent , 5/4˝ pripojenie prevlečná matica, odtok 137/40 ležatý, DN40, umývadlá s krycou ružicou odtoku DN 40, PP | E66: ks | F66: 1 | I66: =ROUND(F66*(G66+H66),2) -> 0 | J66: =ROUND(F66*(N66),2) -> 18 | K66: =ROUND(F66*(O66),2) -> 0 | L66: =ROUND(F66*(G66),2) -> 0 | N66: 18 | Z66: 0
B67: R/RE | C67: 6420135080 | D67: Umývadlo keramické ZETA-50 alebo ekvivalent , 400x500x190 mm, biela | E67: ks | F67: 1 | I67: =ROUND(F67*(G67+H67),2) -> 0 | J67: =ROUND(F67*(N67),2) -> 25.68 | K67: =ROUND(F67*(O67),2) -> 0 | L67: =ROUND(F67*(G67),2) -> 0 | N67: 25.68 | Z67: 0
B68: R/RE | C68: 6420136780 | D68: Umývadlo keramické LYRA PLUS-60 alebo ekvivalent , 600x490x195 mm, biela | E68: ks | F68: 4 | I68: =ROUND(F68*(G68+H68),2) -> 0 | J68: =ROUND(F68*(N68),2) -> 165.56 | K68: =ROUND(F68*(O68),2) -> 0 | L68: =ROUND(F68*(G68),2) -> 0 | N68: 41.39 | Z68: 0
B69: R/RE | C69: 725869321,1 | D69: Montáž zápachovej uzávierky pre zariaďovacie predmety, do D 50 | E69: ks | F69: 1 | I69: =ROUND(F69*(G69+H69),2) -> 0 | J69: =ROUND(F69*(N69),2) -> 2.52 | K69: =ROUND(F69*(O69),2) -> 0 | L69: =ROUND(F69*(G69),2) -> 0 | N69: 2.52 | Z69: 0
B70: S/S20 | C70: 2863120185 | D70: Drezový odtok jednodielny, D 50 úsporný, plast, sanitárny systém, | E70: ks | F70: 4 | I70: =ROUND(F70*(G70+H70),2) -> 0 | J70: =ROUND(F70*(N70),2) -> 55.92 | K70: =ROUND(F70*(O70),2) -> 0 | M70: =ROUND(F70*(G70),2) -> 0 | N70: 13.98 | P70: =ROUND(F70*(R70),3) -> 0.001 | R70: 0.00036 | Z70: 0
B71: S/S20 | C71: 2863120236 | D71: Odpadový komplet , D 50, plast, sanitárny systém, | E71: ks | F71: 1 | I71: =ROUND(F71*(G71+H71),2) -> 0 | J71: =ROUND(F71*(N71),2) -> 12.61 | K71: =ROUND(F71*(O71),2) -> 0 | M71: =ROUND(F71*(G71),2) -> 0 | N71: 12.61 | P71: =ROUND(F71*(R71),3) -> 0 | R71: 0.00036 | Z71: 0
B72: S/S20 | C72: 2863120264 | D72: Podomietkový sifón pre umývadlo, 338x190x150 mm, plast, sanitárny systém, | E72: ks | F72: 5 | I72: =ROUND(F72*(G72+H72),2) -> 0 | J72: =ROUND(F72*(N72),2) -> 272.3 | K72: =ROUND(F72*(O72),2) -> 0 | M72: =ROUND(F72*(G72),2) -> 0 | N72: 54.46 | P72: =ROUND(F72*(R72),3) -> 0.004 | R72: 0.00088 | Z72: 0
B73: S/S50 | C73: 5514671040 | D73: Drezová nástenná batéria | E73: ks | F73: 4 | I73: =ROUND(F73*(G73+H73),2) -> 0 | J73: =ROUND(F73*(N73),2) -> 311.52 | K73: =ROUND(F73*(O73),2) -> 0 | M73: =ROUND(F73*(G73),2) -> 0 | N73: 77.88 | P73: =ROUND(F73*(R73),3) -> 0.008 | R73: 0.002 | Z73: 0
B74: S/S50 | C74: 5523400560 | D74: Nerezový drez, obj.č. 93030 SLUN 03 SANELA alebo ekvivalent | E74: ks | F74: 3 | I74: =ROUND(F74*(G74+H74),2) -> 0 | J74: =ROUND(F74*(N74),2) -> 846.03 | K74: =ROUND(F74*(O74),2) -> 0 | M74: =ROUND(F74*(G74),2) -> 0 | N74: 282.01 | P74: =ROUND(F74*(R74),3) -> 0.007 | R74: 0.00218 | Z74: 0
B75: S/S50 | C75: 5523400790 | D75: Nerezové veľkokapacitný drez na nohách, obj.č. 93150 SLUN 15, SANELA alebo ekvivalent | E75: ks | F75: 1 | I75: =ROUND(F75*(G75+H75),2) -> 0 | J75: =ROUND(F75*(N75),2) -> 477.82 | K75: =ROUND(F75*(O75),2) -> 0 | M75: =ROUND(F75*(G75),2) -> 0 | N75: 477.82 | P75: =ROUND(F75*(R75),3) -> 0.002 | R75: 0.00241 | Z75: 0
B76: S/S90 | C76: 6424310481 | D76: Kombinované WC keramické REKORD 360x625mm, 3/6 l, odpad vodorovný, s hlbokým splachovaním, zmontovaný, č.K99004 KOLO alebo ekvivalent | E76: ks | F76: 1 | I76: =ROUND(F76*(G76+H76),2) -> 0 | J76: =ROUND(F76*(N76),2) -> 99.64 | K76: =ROUND(F76*(O76),2) -> 0 | M76: =ROUND(F76*(G76),2) -> 0 | N76: 99.64 | P76: =ROUND(F76*(R76),3) -> 0.026 | R76: 0.0255 | Z76: 0
D77: ZTI-ZARIAĎOVACIE PREDMETY | I77: =ROUND((SUM(I51:I76))/1,2) -> 0 | L77: =ROUND((SUM(L51:L76))/1,2) -> 0 | M77: =ROUND((SUM(M51:M76))/1,2) -> 0 | P77: =ROUND((SUM(P51:P76))/1,2) -> 0.05 | S77: =ROUND((SUM(S51:S76))/1,2) -> 0
D79: Práce PSV | H79: =ROUND((SUM(M9:M78))/2,2) -> 0 | I79: =ROUND((SUM(I9:I78))/2,2) -> 0 | L79: =ROUND((SUM(L9:L78))/2,2) -> 0 | M79: =ROUND((SUM(M9:M78))/2,2) -> 0 | P79: =ROUND((SUM(P9:P78))/2,2) -> 0.76 | S79: =ROUND((SUM(S9:S78))/2,2) -> 0
D80: Celkom v EUR | H80: =ROUND((SUM(M9:M79))/3,2) -> 0 | I80: =ROUND((SUM(I9:I79))/3,2) -> 0 | K80: =ROUND((SUM(K9:K79))/3,2) -> 0 | L80: =ROUND((SUM(L9:L79))/3,2) -> 0 | M80: =ROUND((SUM(M9:M79))/3,2) -> 0 | P80: =ROUND((SUM(P9:P79))/3,2) -> 0.76 | S80: =ROUND((SUM(S9:S79))/3,2) -> 0 | Z80: =(SUM(Z9:Z79)) -> 0

Sheet Kryci_list 12921
F1: Krycí list rozpočtu | W1: 30.126
B2: Stavba Prístavba kuchyne ku kultúrnemu domu - Čičava | G2: Miesto:
B3: Objekt SO 01 - Hlavný objekt - ASR - ELI
I4: Ks:
B5: Zákazka: | F5: Spracoval: Ing. Ján Halgaš | I5: Dňa | J5: 05.06.2018
B6: Odberateľ: Obec Čičava | G6: IČO:
G7: DIČ:
B8: Dodávateľ: | G8: IČO:
G9: DIČ:
B10: Projektant: D. D. - ARCH s. r. o. | G10: IČO:
G11: DIČ:
B15: A | C15: ZRN | D15: Montáž | E15: Materiál | F15: ZRN spolu | G15: B | H15: Ďalšie náklady
B16: 1 | C16: HSV | G16: 6 | H16: Ostatné náklady | J16: 0
B17: 2 | C17: PSV | G17: 7 | H17: Kompletačná činnosť | J17: ='SO 12921'!Z74 -> 0
B18: 3 | C18: MONT | D18: ='Rekap 12921'!B12 -> 0 | E18: ='Rekap 12921'!C12 -> 0 | F18: ='Rekap 12921'!D12 -> 0 | G18: 8 | H18: HZS | J18: 0
B19: 4 | G19: 9
B20: 5 | C20: Spolu | F20: =SUM(F16:F19) -> 0 | G20: 10 | H20: Spolu | J20: =SUM(J16:J19) -> 0
B21: C | C21: VRN | G21: D | H21: VRN
B22: 11 | C22: Zariadenie staveniska | E22: 0% z [H+P+M] | F22: =((F16*U22*0)+(F17*V22*0)+(F18*W22*0))/100 -> 0 | G22: 16 | H22: Sťažené podmienky dopravy | I22: 0% z [H+P+M] | J22: =((F16*X22*0)+(F17*Y22*0)+(F18*Z22*0))/100 -> 0 | U22: 1 | V22: 1 | W22: 1 | X22: 1 | Y22: 1 | Z22: 1
B23: 12 | C23: Sťažené výrobné podmienky | E23: 0% z [H+P] | F23: =((F16*U23*0)+(F17*V23*0)+(F18*W23*0))/100 -> 0 | G23: 17 | H23: Horské oblasti | I23: 0% z [H+P+M] | J23: =((F16*X23*0)+(F17*Y23*0)+(F18*Z23*0))/100 -> 0 | U23: 1 | V23: 1 | W23: 0 | X23: 1 | Y23: 1 | Z23: 1
B24: 13 | C24: Prevádzkové vplyvy | E24: 0% z [H+P+M] | F24: =((F16*U24*0)+(F17*V24*0)+(F18*W24*0))/100 -> 0 | G24: 18 | H24: Mimostavenisková doprava | I24: 0% z [H+P] | J24: =((F16*X24*0)+(F17*Y24*0)+(F18*Z24*0))/100 -> 0 | U24: 1 | V24: 1 | W24: 1 | X24: 1 | Y24: 1 | Z24: 0
B25: 14 | G25: 19
B26: 15 | G26: 20 | H26: Spolu | J26: =SUM(J22:J25)+SUM(F22:F25) -> 0
C27: Projektant,rozpočtár | G27: E | H27: Celkové náklady
G28: 21 | H28: Súčet riadkov 5,10,15,20 | J28: =F20+J20+F26+J26 -> 0
G29: 22 | H29: DPH 20% z | I29: =J28-SUM('SO 12921'!K9:'SO 12921'!K73) -> 0 | J29: =ROUND(((ROUND(I29,2)*20)*1/100),2) -> 0
G30: 23 | H30: DPH 0% z | I30: =SUM('SO 12921'!K9:'SO 12921'!K73) -> 0 | J30: =ROUND(((ROUND(I30,2)*0)/100),2) -> 0
G31: 24 | H31: Spolu v EUR | J31: =SUM(J28:J30) -> 0
G32: F
D33: Odberateľ | G33: 26 | H33: Dodávateľ

Sheet Rekap 12921
A1: Odberateľ: Obec Čičava | D1: Spracoval: Ing. Ján Halgaš | W1: 30.126
A2: Projektant: D. D. - ARCH s. r. o. | D2: Ks:
A3: Dodávateľ: | D3: Dátum: 05.06.2018
A4: Stavba Prístavba kuchyne ku kultúrnemu domu - Čičava
A5: Objekt SO 01 - Hlavný objekt - ASR - ELI
A8: Prehľad rozpočtových nákladov
A9: Oddiel | B9: Montáž | C9: Materiál | D9: Spolu | E9: Hmotnosť (T) | F9: Suť (T)
A10: Montážne práce
A11: M-21 ELEKTROMONTÁŽE | B11: ='SO 12921'!L71 -> 0 | C11: ='SO 12921'!M71 -> 0 | D11: ='SO 12921'!I71 -> 0 | E11: ='SO 12921'!P71 -> 0 | F11: ='SO 12921'!S71 -> 0
A12: Montážne práce | B12: ='SO 12921'!L73 -> 0 | C12: ='SO 12921'!M73 -> 0 | D12: ='SO 12921'!I73 -> 0 | E12: ='SO 12921'!P73 -> 0 | F12: ='SO 12921'!S73 -> 0
A14: Celkom v EUR | B14: ='SO 12921'!L74 -> 0 | C14: ='SO 12921'!M74 -> 0 | D14: ='SO 12921'!I74 -> 0 | E14: ='SO 12921'!P74 -> 0 | F14: ='SO 12921'!S74 -> 0

Sheet SO 12921
B1: Odberateľ: Obec Čičava | E1: Spracoval: Ing. Ján Halgaš | W1: 30.126
B2: Projektant: D. D. - ARCH s. r. o. | E2: Ks:
B3: Dodávateľ: | E3: Dátum: 05.06.2018
B4: Stavba Prístavba kuchyne ku kultúrnemu domu - Čičava
B5: Objekt SO 01 - Hlavný objekt - ASR - ELI
B7: Prehľad rozpočtových nákladov
A8: Por.č. | B8: Cenník | C8: Kód položky | D8: Názov | E8: Mj | F8: Množstvo | G8: Cena/Mj | H8: Materiál | I8: Cena celkom | P8: Hmotnosť | S8: Suť
D9: Montážne práce
D10: M-21 ELEKTROMONTÁŽE
B11: 921/M21 | C11: 210010301 | D11: Krabica prístrojová bez zapojenia (1901, KP 68, KZ 3) | E11: ks | F11: 30 | I11: =ROUND(F11*(G11+H11),2) -> 0 | J11: =ROUND(F11*(N11),2) -> 32.4 | K11: =ROUND(F11*(O11),2) -> 0 | L11: =ROUND(F11*(G11),2) -> 0 | N11: 1.08 | Z11: 0
B12: 921/M21 | C12: 210010321 | D12: Krabica (1903, KR 68) odbočná s viečkom, svorkovnicou vrátane zapojenia, kruhová | E12: ks | F12: 15 | I12: =ROUND(F12*(G12+H12),2) -> 0 | J12: =ROUND(F12*(N12),2) -> 69.3 | K12: =ROUND(F12*(O12),2) -> 0 | L12: =ROUND(F12*(G12),2) -> 0 | N12: 4.62 | Z12: 0
B13: 921/M21 | C13: 210100001 | D13: Ukončenie vodičov v rozvádzač. vrátane zapojenia a vodičovej koncovky do 2.5 mm2 | E13: ks | F13: 66 | I13: =ROUND(F13*(G13+H13),2) -> 0 | J13: =ROUND(F13*(N13),2) -> 44.88 | K13: =ROUND(F13*(O13),2) -> 0 | L13: =ROUND(F13*(G13),2) -> 0 | N13: 0.68 | Z13: 0
B14: 921/M21 | C14: 210100003 | D14: Ukončenie vodičov v rozvádzač. vrátane zapojenia a vodičovej koncovky do 16 mm2 | E14: ks | F14: 4 | I14: =ROUND(F14*(G14+H14),2) -> 0 | J14: =ROUND(F14*(N14),2) -> 3.88 | K14: =ROUND(F14*(O14),2) -> 0 | L14: =ROUND(F14*(G14),2) -> 0 | N14: 0.97 | Z14: 0
B15: 921/M21 | C15: 210110041 | D15: Spínače polozapustené a zapustené vrátane zapojenia jednopólový - radenie 1 | E15: ks | F15: 6 | I15: =ROUND(F15*(G15+H15),2) -> 0 | J15: =ROUND(F15*(N15),2) -> 10.5 | K15: =ROUND(F15*(O15),2) -> 0 | L15: =ROUND(F15*(G15),2) -> 0 | N15: 1.75 | Z15: 0
B16: 921/M21 | C16: 210110043 | D16: Spínač polozapustený a zapustený vrátane zapojenia sériový prep.stried. - radenie 5 A | E16: ks | F16: 1 | I16: =ROUND(F16*(G16+H16),2) -> 0 | J16: =ROUND(F16*(N16),2) -> 2 | K16: =ROUND(F16*(O16),2) -> 0 | L16: =ROUND(F16*(G16),2) -> 0 | N16: 2 | Z16: 0
B17: 921/M21 | C17: 210110044 | D17: Spínač polozapustený a zapustený vrátane zapojenia dvojitý prep.stried. - radenie 5 B | E17: ks | F17: 2 | I17: =ROUND(F17*(G17+H17),2) -> 0 | J17: =ROUND(F17*(N17),2) -> 7.98 | K17: =ROUND(F17*(O17),2) -> 0 | L17: =ROUND(F17*(G17),2) -> 0 | N17: 3.99 | Z17: 0
B18: 921/M21 | C18: 210110512 | D18: Prepínač vačkový v kryte S 25 VP, VL 03,04,05,06 | E18: ks | F18: 3 | I18: =ROUND(F18*(G18+H18),2) -> 0 | J18: =ROUND(F18*(N18),2) -> 23.97 | K18: =ROUND(F18*(O18),2) -> 0 | L18: =ROUND(F18*(G18),2) -> 0 | N18: 7.99 | Z18: 0
B19: 921/M21 | C19: 210111012 | D19: Domová zásuvka polozapustená alebo zapustená, 10/16 A 250 V 2P + Z 2 x zapojenie | E19: ks | F19: 9 | I19: =ROUND(F19*(G19+H19),2) -> 0 | J19: =ROUND(F19*(N19),2) -> 34.83 | K19: =ROUND(F19*(O19),2) -> 0 | L19: =ROUND(F19*(G19),2) -> 0 | N19: 3.87 | Z19: 0
B20: 921/M21 | C20: 210111021 | D20: Domová zásuvka v krabici obyč. alebo do vlhka, vrátane zapojenia 10/16 A 250 V 2P + Z | E20: ks | F20: 12 | I20: =ROUND(F20*(G20+H20),2) -> 0 | J20: =ROUND(F20*(N20),2) -> 60.48 | K20: =ROUND(F20*(O20),2) -> 0 | L20: =ROUND(F20*(G20),2) -> 0 | N20: 5.04 | Z20: 0
B21: 921/M21 | C21: 210120404 | D21: Istič vzduchový trojpólový do 63 A | E21: ks | F21: 1 | I21: =ROUND(F21*(G21+H21),2) -> 0 | J21: =ROUND(F21*(N21),2) -> 6.26 | K21: =ROUND(F21*(O21),2) -> 0 | L21: =ROUND(F21*(G21),2) -> 0 | N21: 6.26 | Z21: 0
B22: 921/M21 | C22: 210190002 | D22: Montáž oceľoplechovej rozvodnice do váhy 50 kg | E22: ks | F22: 1 | I22: =ROUND(F22*(G22+H22),2) -> 0 | J22: =ROUND(F22*(N22),2) -> 21.38 | K22: =ROUND(F22*(O22),2) -> 0 | L22: =ROUND(F22*(G22),2) -> 0 | N22: 21.38 | Z22: 0
... B52: R/RE | C52: 358220042500 | D52: Istič 3P, charakteristika B, 25 A, 6000 A, 3 moduly | E52: ks | F52: 1 | I52: =ROUND(F52*(G52+H52),2) -> 0 | J52: =ROUND(F52*(N52),2) -> 12.38 | K52: =ROUND(F52*(O52),2) -> 0 | L52: =ROUND(F52*(G52),2) -> 0 | N52: 12.38 | Z52: 0
B53: S/S30 | C53: 3410300258 | D53: Krabica odbočná krabica + veko šedá KO 125 E KA | E53: ks | F53: 1 | I53: =ROUND(F53*(G53+H53),2) -> 0 | J53: =ROUND(F53*(N53),2) -> 2.22 | K53: =ROUND(F53*(O53),2) -> 0 | M53: =ROUND(F53*(G53),2) -> 0 | N53: 2.22 | P53: =ROUND(F53*(R53),3) -> 0 | R53: 0.00021 | Z53: 0
B54: S/S30 | C54: 3410301603 | D54: Svorkovnica ekvipotencionálna EPS 2 | E54: ks | F54: 1 | I54: =ROUND(F54*(G54+H54),2) -> 0 | J54: =ROUND(F54*(N54),2) -> 13.82 | K54: =ROUND(F54*(O54),2) -> 0 | M54: =ROUND(F54*(G54),2) -> 0 | N54: 13.82 | P54: =ROUND(F54*(R54),3) -> 0 | R54: 5e-05 | Z54: 0
B55: S/S30 | C55: 3450202870 | D55: Prístroj jednopólového spínača radenie 1, 10 A, 230 V | E55: ks | F55: 6 | I55: =ROUND(F55*(G55+H55),2) -> 0 | J55: =ROUND(F55*(N55),2) -> 14.34 | K55: =ROUND(F55*(O55),2) -> 0 | M55: =ROUND(F55*(G55),2) -> 0 | N55: 2.39 | Z55: 0
B56: S/S30 | C56: 3450202940 | D56: Prístroj sériového prepínača radenie 5A, 10 A, 230 V | E56: ks | F56: 1 | I56: =ROUND(F56*(G56+H56),2) -> 0 | J56: =ROUND(F56*(N56),2) -> 4.01 | K56: =ROUND(F56*(O56),2) -> 0 | M56: =ROUND(F56*(G56),2) -> 0 | N56: 4.01 | Z56: 0
B57: S/S30 | C57: 3450202950 | D57: Prístroj prepínača radenie 6, 10 A, 230 V | E57: ks | F57: 2 | I57: =ROUND(F57*(G57+H57),2) -> 0 | J57: =ROUND(F57*(N57),2) -> 8.14 | K57: =ROUND(F57*(O57),2) -> 0 | M57: =ROUND(F57*(G57),2) -> 0 | N57: 4.07 | Z57: 0
B58: S/S30 | C58: 3450203660 | D58: Kryt kolísky, radenie 1,6,7, B biely | E58: ks | F58: 6 | I58: =ROUND(F58*(G58+H58),2) -> 0 | J58: =ROUND(F58*(N58),2) -> 5.7 | K58: =ROUND(F58*(O58),2) -> 0 | M58: =ROUND(F58*(G58),2) -> 0 | N58: 0.95 | Z58: 0
B59: S/S30 | C59: 3450204730 | D59: Kryt kolísky delený B1 lesklý biely | E59: ks | F59: 1 | I59: =ROUND(F59*(G59+H59),2) -> 0 | J59: =ROUND(F59*(N59),2) -> 0.97 | K59: =ROUND(F59*(O59),2) -> 0 | M59: =ROUND(F59*(G59),2) -> 0 | N59: 0.97 | Z59: 0
B60: S/S30 | C60: 3450204730 | D60: Kryt kolísky delený B1 lesklý biely | E60: ks | F60: 2 | I60: =ROUND(F60*(G60+H60),2) -> 0 | J60: =ROUND(F60*(N60),2) -> 1.94 | K60: =ROUND(F60*(O60),2) -> 0 | M60: =ROUND(F60*(G60),2) -> 0 | N60: 0.97 | Z60: 0
B61: S/S30 | C61: 3450204890 | D61: Jednorámček B biely | E61: ks | F61: 6 | I61: =ROUND(F61*(G61+H61),2) -> 0 | J61: =ROUND(F61*(N61),2) -> 3.48 | K61: =ROUND(F61*(O61),2) -> 0 | M61: =ROUND(F61*(G61),2) -> 0 | N61: 0.58 | Z61: 0
B62: S/S30 | C62: 3450204890 | D62: Jednorámček B biely | E62: ks | F62: 1 | I62: =ROUND(F62*(G62+H62),2) -> 0 | J62: =ROUND(F62*(N62),2) -> 0.58 | K62: =ROUND(F62*(O62),2) -> 0 | M62: =ROUND(F62*(G62),2) -> 0 | N62: 0.58 | Z62: 0
B63: S/S30 | C63: 3450204890 | D63: Jednorámček B biely | E63: ks | F63: 2 | I63: =ROUND(F63*(G63+H63),2) -> 0 | J63: =ROUND(F63*(N63),2) -> 1.16 | K63: =ROUND(F63*(O63),2) -> 0 | M63: =ROUND(F63*(G63),2) -> 0 | N63: 0.58 | Z63: 0
B64: S/S30 | C64: 3450324600 | D64: Zásuvka dvojnásobná s clonkami | E64: ks | F64: 9 | I64: =ROUND(F64*(G64+H64),2) -> 0 | J64: =ROUND(F64*(N64),2) -> 28.35 | K64: =ROUND(F64*(O64),2) -> 0 | M64: =ROUND(F64*(G64),2) -> 0 | N64: 3.15 | P64: =ROUND(F64*(R64),3) -> 0.001 | R64: 0.0001 | Z64: 0
B65: S/S30 | C65: 3450365060 | D65: Jednozásuvka do vlhka | E65: ks | F65: 12 | I65: =ROUND(F65*(G65+H65),2) -> 0 | J65: =ROUND(F65*(N65),2) -> 36.96 | K65: =ROUND(F65*(O65),2) -> 0 | M65: =ROUND(F65*(G65),2) -> 0 | N65: 3.08 | P65: =ROUND(F65*(R65),3) -> 0.001 | R65: 8e-05 | Z65: 0
B66: S/S30 | C66: 3450906510 | D66: Krabica prístrojová | E66: ks | F66: 30 | I66: =ROUND(F66*(G66+H66),2) -> 0 | J66: =ROUND(F66*(N66),2) -> 4.5 | K66: =ROUND(F66*(O66),2) -> 0 | M66: =ROUND(F66*(G66),2) -> 0 | N66: 0.15 | Z66: 0
B67: S/S30 | C67: 3450907510 | D67: Krabica odbočná s viečkom | E67: ks | F67: 15 | I67: =ROUND(F67*(G67+H67),2) -> 0 | J67: =ROUND(F67*(N67),2) -> 17.7 | K67: =ROUND(F67*(O67),2) -> 0 | M67: =ROUND(F67*(G67),2) -> 0 | N67: 1.18 | Z67: 0
B68: S/S30 | C68: 3580262500 | D68: Spínač S 25 VL 03 | E68: ks | F68: 3 | I68: =ROUND(F68*(G68+H68),2) -> 0 | J68: =ROUND(F68*(N68),2) -> 146.34 | K68: =ROUND(F68*(O68),2) -> 0 | M68: =ROUND(F68*(G68),2) -> 0 | N68: 48.78 | Z68: 0
B69: P/PE | C69: MV | D69: Murárske výpomoci | E69: % | F69: 1 | I69: =ROUND(F69*(G69+H69),2) -> 0 | J69: =ROUND(F69*(N69),2) -> 30.03 | K69: =ROUND(F69*(O69),2) -> 0 | M69: =ROUND(F69*(G69),2) -> 0 | N69: 30.03 | Z69: 0
B70: P/PE | C70: PM | D70: Podružný materiál | E70: % | F70: 3 | I70: =ROUND(F70*(G70+H70),2) -> 0 | J70: =ROUND(F70*(N70),2) -> 90.09 | K70: =ROUND(F70*(O70),2) -> 0 | M70: =ROUND(F70*(G70),2) -> 0 | N70: 30.03 | Z70: 0
D71: M-21 ELEKTROMONTÁŽE | I71: =ROUND((SUM(I10:I70))/1,2) -> 0 | L71: =ROUND((SUM(L10:L70))/1,2) -> 0 | M71: =ROUND((SUM(M10:M70))/1,2) -> 0 | P71: =ROUND((SUM(P10:P70))/1,2) -> 0 | S71: =ROUND((SUM(S10:S70))/1,2) -> 0
D73: Montážne práce | H73: =ROUND((SUM(M9:M72))/2,2) -> 0 | I73: =ROUND((SUM(I9:I72))/2,2) -> 0 | L73: =ROUND((SUM(L9:L72))/2,2) -> 0 | M73: =ROUND((SUM(M9:M72))/2,2) -> 0 | P73: =ROUND((SUM(P9:P72))/2,2) -> 0 | S73: =ROUND((SUM(S9:S72))/2,2) -> 0
D74: Celkom v EUR | H74: =ROUND((SUM(M9:M73))/3,2) -> 0 | I74: =ROUND((SUM(I9:I73))/3,2) -> 0 | K74: =ROUND((SUM(K9:K73))/3,2) -> 0 | L74: =ROUND((SUM(L9:L73))/3,2) -> 0 | M74: =ROUND((SUM(M9:M73))/3,2) -> 0 | P74: =ROUND((SUM(P9:P73))/3,2) -> 0 | S74: =ROUND((SUM(S9:S73))/3,2) -> 0 | Z74: =(SUM(Z9:Z73)) -> 0

Sheet Kryci_list 12922
F1: Krycí list rozpočtu | W1: 30.126
B2: Stavba Prístavba kuchyne ku kultúrnemu domu - Čičava | G2: Miesto:
B3: Objekt SO 01 - Hlavný objekt - Bleskozvod
I4: Ks:
B5: Zákazka: | F5: Spracoval: Ing. Ján Halgaš | I5: Dňa | J5: 05.06.2018
B6: Odberateľ: Obec Čičava | G6: IČO:
G7: DIČ:
B8: Dodávateľ: | G8: IČO:
G9: DIČ:
B10: Projektant: D. D. - ARCH s. r. o. | G10: IČO:
G11: DIČ:
B15: A | C15: ZRN | D15: Montáž | E15: Materiál | F15: ZRN spolu | G15: B | H15: Ďalšie náklady
B16: 1 | C16: HSV | G16: 6 | H16: Ostatné náklady | J16: 0
B17: 2 | C17: PSV | G17: 7 | H17: Kompletačná činnosť | J17: ='SO 12922'!Z52 -> 0
B18: 3 | C18: MONT | D18: ='Rekap 12922'!B12 -> 0 | E18: ='Rekap 12922'!C12 -> 0 | F18: ='Rekap 12922'!D12 -> 0 | G18: 8 | H18: HZS | J18: 0
B19: 4 | G19: 9
B20: 5 | C20: Spolu | F20: =SUM(F16:F19) -> 0 | G20: 10 | H20: Spolu | J20: =SUM(J16:J19) -> 0
B21: C | C21: VRN | G21: D | H21: VRN
B22: 11 | C22: Zariadenie staveniska | E22: 0% z [H+P+M] | F22: =((F16*U22*0)+(F17*V22*0)+(F18*W22*0))/100 -> 0 | G22: 16 | H22: Sťažené podmienky dopravy | I22: 0% z [H+P+M] | J22: =((F16*X22*0)+(F17*Y22*0)+(F18*Z22*0))/100 -> 0 | U22: 1 | V22: 1 | W22: 1 | X22: 1 | Y22: 1 | Z22: 1
B23: 12 | C23: Sťažené výrobné podmienky | E23: 0% z [H+P] | F23: =((F16*U23*0)+(F17*V23*0)+(F18*W23*0))/100 -> 0 | G23: 17 | H23: Horské oblasti | I23: 0% z [H+P+M] | J23: =((F16*X23*0)+(F17*Y23*0)+(F18*Z23*0))/100 -> 0 | U23: 1 | V23: 1 | W23: 0 | X23: 1 | Y23: 1 | Z23: 1
B24: 13 | C24: Prevádzkové vplyvy | E24: 0% z [H+P+M] | F24: =((F16*U24*0)+(F17*V24*0)+(F18*W24*0))/100 -> 0 | G24: 18 | H24: Mimostavenisková doprava | I24: 0% z [H+P] | J24: =((F16*X24*0)+(F17*Y24*0)+(F18*Z24*0))/100 -> 0 | U24: 1 | V24: 1 | W24: 1 | X24: 1 | Y24: 1 | Z24: 0
B25: 14 | G25: 19
B26: 15 | G26: 20 | H26: Spolu | J26: =SUM(J22:J25)+SUM(F22:F25) -> 0
C27: Projektant,rozpočtár | G27: E | H27: Celkové náklady
G28: 21 | H28: Súčet riadkov 5,10,15,20 | J28: =F20+J20+F26+J26 -> 0
G29: 22 | H29: DPH 20% z | I29: =J28-SUM('SO 12922'!K9:'SO 12922'!K51) -> 0 | J29: =ROUND(((ROUND(I29,2)*20)*1/100),2) -> 0
G30: 23 | H30: DPH 0% z | I30: =SUM('SO 12922'!K9:'SO 12922'!K51) -> 0 | J30: =ROUND(((ROUND(I30,2)*0)/100),2) -> 0
G31: 24 | H31: Spolu v EUR | J31: =SUM(J28:J30) -> 0
G32: F
D33: Odberateľ | G33: 26 | H33: Dodávateľ

Sheet Rekap 12922
A1: Odberateľ: Obec Čičava | D1: Spracoval: Ing. Ján Halgaš | W1: 30.126
A2: Projektant: D. D. - ARCH s. r. o. | D2: Ks:
A3: Dodávateľ: | D3: Dátum: 05.06.2018
A4: Stavba Prístavba kuchyne ku kultúrnemu domu - Čičava
A5: Objekt SO 01 - Hlavný objekt - Bleskozvod
A8: Prehľad rozpočtových nákladov
A9: Oddiel | B9: Montáž | C9: Materiál | D9: Spolu | E9: Hmotnosť (T) | F9: Suť (T)
A10: Montážne práce
A11: M-21 ELEKTROMONTÁŽE | B11: ='SO 12922'!L49 -> 0 | C11: ='SO 12922'!M49 -> 0 | D11: ='SO 12922'!I49 -> 0 | E11: ='SO 12922'!P49 -> 0 | F11: ='SO 12922'!S49 -> 0
A12: Montážne práce | B12: ='SO 12922'!L51 -> 0 | C12: ='SO 12922'!M51 -> 0 | D12: ='SO 12922'!I51 -> 0 | E12: ='SO 12922'!P51 -> 0 | F12: ='SO 12922'!S51 -> 0
A14: Celkom v EUR | B14: ='SO 12922'!L52 -> 0 | C14: ='SO 12922'!M52 -> 0 | D14: ='SO 12922'!I52 -> 0 | E14: ='SO 12922'!P52 -> 0 | F14: ='SO 12922'!S52 -> 0

Sheet SO 12922
B1: Odberateľ: Obec Čičava | E1: Spracoval: Ing. Ján Halgaš | W1: 30.126
B2: Projektant: D. D. - ARCH s. r. o. | E2: Ks:
B3: Dodávateľ: | E3: Dátum: 05.06.2018
B4: Stavba Prístavba kuchyne ku kultúrnemu domu - Čičava
B5: Objekt SO 01 - Hlavný objekt - Bleskozvod
B7: Prehľad rozpočtových nákladov
A8: Por.č. | B8: Cenník | C8: Kód položky | D8: Názov | E8: Mj | F8: Množstvo | G8: Cena/Mj | H8: Materiál | I8: Cena celkom | P8: Hmotnosť | S8: Suť
D9: Montážne práce
D10: M-21 ELEKTROMONTÁŽE
B11: 921/M21 | C11: 210220020 | D11: Uzemňovacie vedenie v zemi FeZn vrátane izolácie spojov | E11: ks | F11: 50 | I11: =ROUND(F11*(G11+H11),2) -> 0 | J11: =ROUND(F11*(N11),2) -> 54.5 | K11: =ROUND(F11*(O11),2) -> 0 | L11: =ROUND(F11*(G11),2) -> 0 | N11: 1.09 | Z11: 0
B12: 921/M21 | C12: 210220021 | D12: Uzemňovacie vedenie v zemi FeZn vrátane izolácie spojov O 10mm | E12: ks | F12: 40 | I12: =ROUND(F12*(G12+H12),2) -> 0 | J12: =ROUND(F12*(N12),2) -> 37.6 | K12: =ROUND(F12*(O12),2) -> 0 | L12: =ROUND(F12*(G12),2) -> 0 | N12: 0.94 | Z12: 0
B13: 921/M21 | C13: 210220245 | D13: Svorka FeZn pripojovacia SP | E13: ks | F13: 10 | I13: =ROUND(F13*(G13+H13),2) -> 0 | J13: =ROUND(F13*(N13),2) -> 14.5 | K13: =ROUND(F13*(O13),2) -> 0 | L13: =ROUND(F13*(G13),2) -> 0 | N13: 1.45 | Z13: 0
B14: 921/M21 | C14: 210220252 | D14: Svorka FeZn odbočovacia spojovacia SR01-02 | E14: ks | F14: 4 | I14: =ROUND(F14*(G14+H14),2) -> 0 | J14: =ROUND(F14*(N14),2) -> 9.68 | K14: =ROUND(F14*(O14),2) -> 0 | L14: =ROUND(F14*(G14),2) -> 0 | N14: 2.42 | Z14: 0
B15: 921/M21 | C15: 210220253 | D15: Svorka FeZn uzemňovacia SR03 | E15: ks | F15: 4 | I15: =ROUND(F15*(G15+H15),2) -> 0 | J15: =ROUND(F15*(N15),2) -> 9.68 | K15: =ROUND(F15*(O15),2) -> 0 | L15: =ROUND(F15*(G15),2) -> 0 | N15: 2.42 | Z15: 0
B16: 921/M21 | C16: 210220800 | D16: Uzemňovacie vedenie na povrchu AlMgSi O 8-10 | E16: m | F16: 39.189 | I16: =ROUND(F16*(G16+H16),2) -> 0 | J16: =ROUND(F16*(N16),2) -> 41.54 | K16: =ROUND(F16*(O16),2) -> 0 | L16: =ROUND(F16*(G16),2) -> 0 | N16: 1.06 | Z16: 0
B17: 921/M21 | C17: 210220813 | D17: Podpery vedenia zliatina AlMgSi na plechové strechy PV23-24 | E17: ks | F17: 15 | I17: =ROUND(F17*(G17+H17),2) -> 0 | J17: =ROUND(F17*(N17),2) -> 21.75 | K17: =ROUND(F17*(O17),2) -> 0 | L17: =ROUND(F17*(G17),2) -> 0 | N17: 1.45 | Z17: 0
B18: 921/M21 | C18: 210220814 | D18: Podpery vedenia zliatina AlMgSi do muriva PV01-03 | E18: ks | F18: 10 | I18: =ROUND(F18*(G18+H18),2) -> 0 | J18: =ROUND(F18*(N18),2) -> 14.5 | K18: =ROUND(F18*(O18),2) -> 0 | L18: =ROUND(F18*(G18),2) -> 0 | N18: 1.45 | Z18: 0
B19: 921/M21 | C19: 210220850 | D19: Svorka zliatina AlMgSi k uzemňovacej tyči SJ | E19: ks | F19: 9 | I19: =ROUND(F19*(G19+H19),2) -> 0 | J19: =ROUND(F19*(N19),2) -> 21.78 | K19: =ROUND(F19*(O19),2) -> 0 | L19: =ROUND(F19*(G19),2) -> 0 | N19: 2.42 | Z19: 0
B20: 921/M21 | C20: 210220853 | D20: Svorka zliatina AlMgSi spojovacia SS | E20: ks | F20: 4 | I20: =ROUND(F20*(G20+H20),2) -> 0 | J20: =ROUND(F20*(N20),2) -> 6.8 | K20: =ROUND(F20*(O20),2) -> 0 | L20: =ROUND(F20*(G20),2) -> 0 | N20: 1.7 | Z20: 0
B21: 921/M21 | C21: 210220856 | D21: Svorka zliatina AlMgSi na odkvapový žľab SO | E21: ks | F21: 4 | I21: =ROUND(F21*(G21+H21),2) -> 0 | J21: =ROUND(F21*(N21),2) -> 9.68 | K21: =ROUND(F21*(O21),2) -> 0 | L21: =ROUND(F21*(G21),2) -> 0 | N21: 2.42 | Z21: 0
B22: 921/M21 | C22: 210220857 | D22: Svorka zliatina AlMgSi skúšobná SZ | E22: ks | F22: 2 | I22: =ROUND(F22*(G22+H22),2) -> 0 | J22: =ROUND(F22*(N22),2) -> 4.84 | K22: =ROUND(F22*(O22),2) -> 0 | L22: =ROUND(F22*(G22),2) -> 0 | N22: 2.42 | Z22: 0
... B45: R/RE | C45: 210220803 | D45: Skrytý zvod pri zatepľovacom systéme AlMgSi O 8 | E45: m | F45: 10 | I45: =ROUND(F45*(G45+H45),2) -> 0 | J45: =ROUND(F45*(N45),2) -> 169.8 | K45: =ROUND(F45*(O45),2) -> 0 | L45: =ROUND(F45*(G45),2) -> 0 | N45: 16.98 | Z45: 0
B46: P/PE | C46: MV | D46: Murárske výpomoci | E46: % | F46: 1 | I46: =ROUND(F46*(G46+H46),2) -> 0 | J46: =ROUND(F46*(N46),2) -> 10.26 | K46: =ROUND(F46*(O46),2) -> 0 | M46: =ROUND(F46*(G46),2) -> 0 | N46: 10.26 | Z46: 0
B47: P/PE | C47: PM | D47: Podružný materiál | E47: % | F47: 3 | I47: =ROUND(F47*(G47+H47),2) -> 0 | J47: =ROUND(F47*(N47),2) -> 30.78 | K47: =ROUND(F47*(O47),2) -> 0 | M47: =ROUND(F47*(G47),2) -> 0 | N47: 10.26 | Z47: 0
B48: P/PE | C48: PPV | D48: Podiel pridružených výkonov | E48: % | F48: 1 | I48: =ROUND(F48*(G48+H48),2) -> 0 | J48: =ROUND(F48*(N48),2) -> 10.26 | K48: =ROUND(F48*(O48),2) -> 0 | M48: =ROUND(F48*(G48),2) -> 0 | N48: 10.26 | Z48: 0
D49: M-21 ELEKTROMONTÁŽE | I49: =ROUND((SUM(I10:I48))/1,2) -> 0 | L49: =ROUND((SUM(L10:L48))/1,2) -> 0 | M49: =ROUND((SUM(M10:M48))/1,2) -> 0 | P49: =ROUND((SUM(P10:P48))/1,2) -> 0 | S49: =ROUND((SUM(S10:S48))/1,2) -> 0
D51: Montážne práce | H51: =ROUND((SUM(M9:M50))/2,2) -> 0 | I51: =ROUND((SUM(I9:I50))/2,2) -> 0 | L51: =ROUND((SUM(L9:L50))/2,2) -> 0 | M51: =ROUND((SUM(M9:M50))/2,2) -> 0 | P51: =ROUND((SUM(P9:P50))/2,2) -> 0 | S51: =ROUND((SUM(S9:S50))/2,2) -> 0
D52: Celkom v EUR | H52: =ROUND((SUM(M9:M51))/3,2) -> 0 | I52: =ROUND((SUM(I9:I51))/3,2) -> 0 | K52: =ROUND((SUM(K9:K51))/3,2) -> 0 | L52: =ROUND((SUM(L9:L51))/3,2) -> 0 | M52: =ROUND((SUM(M9:M51))/3,2) -> 0 | P52: =ROUND((SUM(P9:P51))/3,2) -> 0 | S52: =ROUND((SUM(S9:S51))/3,2) -> 0 | Z52: =(SUM(Z9:Z51)) -> 0
