Workbook

Sheet Rekapitulácia
A2: Rekapitulácia rozpočtu | F2: Sadzby DPH
F3: A | G3: B
A4: Stavba Prístavba kuchyne ku kultúrnemu domu - Čičava | F4: 0.2 | G4: 0
A6: Názov objektu | B6: ZRN | C6: VRN | D6: HZS | E6: Kompl.čin. | F6: Ost. náklady | G6: Cena
A7: SO 01 - Hlavný objekt - ASR | B7: ='SO 12918'!I236-Rekapitulácia!D7 -> 0 | C7: ='Kryci_list 12918'!J26 -> 0 | D7: 0 | E7: ='Kryci_list 12918'!J17 -> 0 | F7: 0 | G7: =B7+C7+D7+E7+F7 -> 0 | K7: ='SO 12918'!K236 -> 0 | Q7: 30.126
A8: SO 01 - Hlavný objekt - ÚK | B8: ='SO 12919'!I62-Rekapitulácia!D8 -> 0 | C8: ='Kryci_list 12919'!J26 -> 0 | D8: 0 | E8: ='Kryci_list 12919'!J17 -> 0 | F8: 0 | G8: =B8+C8+D8+E8+F8 -> 0 | K8: ='SO 12919'!K62 -> 0 | Q8: 30.126
A9: SO 01 - Hlavný objekt - ZTI | B9: ='SO 12920'!I80-Rekapitulácia!D9 -> 0 | C9: ='Kryci_list 12920'!J26 -> 0 | D9: 0 | E9: ='Kryci_list 12920'!J17 -> 0 | F9: 0 | G9: =B9+C9+D9+E9+F9 -> 0 | K9: ='SO 12920'!K80 -> 0 | Q9: 30.126
A10: SO 01 - Hlavný objekt - ASR - ELI | B10: ='SO 12921'!I74-Rekapitulácia!D10 -> 0 | C10: ='Kryci_list 12921'!J26 -> 0 | D10: 0 | E10: ='Kryci_list 12921'!J17 -> 0 | F10: 0 | G10: =B10+C10+D10+E10+F10 -> 0 | K10: ='SO 12921'!K74 -> 0 | Q10: 30.126
A11: SO 01 - Hlavný objekt - Bleskozvod | B11: ='SO 12922'!I52-Rekapitulácia!D11 -> 0 | C11: ='Kryci_list 12922'!J26 -> 0 | D11: 0 | E11: ='Kryci_list 12922'!J17 -> 0 | F11: 0 | G11: =B11+C11+D11+E11+F11 -> 0 | K11: ='SO 12922'!K52 -> 0 | Q11: 30.126
A12: Celkom bez DPH | B12: =SUM(B7:B11) -> 0 | C12: =SUM(C7:C11) -> 0 | D12: =SUM(D7:D11) -> 0 | E12: =SUM(E7:E11) -> 0 | F12: =SUM(F7:F11) -> 0 | G12: =SUM(G7:G11)-SUM(Z7:Z11) -> 0
A13: DPH 20% z | B13: =G12-SUM(Rekapitulácia!K7:'Rekapitulácia'!K11)*1 -> 0 | G13: =ROUND(((ROUND(B13,2)*20)/100),2)*1 -> 0
A14: DPH 0% z | B14: =(G12-B13) -> 0 | G14: =ROUND(((ROUND(B14,2)*0)/100),2) -> 0
A15: Celkom v EUR | G15: =SUM(G12:G14) -> 0

Sheet Krycí list stavby
F1: Krycí list stavby | W1: 30.126
B2: Stavba Prístavba kuchyne ku kultúrnemu domu - Čičava | G2: Miesto:
G3: Ks:
B5: Zákazka: | F5: Spracoval: Ing. Ján Halgaš | I5: Dňa | J5: 05.06.2018
B6: Odberateľ: Obec Čičava | G6: IČO:
G7: DIČ:
B8: Dodávateľ: | G8: IČO:
G9: DIČ:
B10: Projektant: D. D. - ARCH s. r. o. | G10: IČO:
G11: DIČ:
B15: A | C15: ZRN | D15: Montáž | E15: Materiál | F15: ZRN spolu | G15: B | H15: Ďalšie náklady
B16: 1 | C16: HSV | D16: ='Kryci_list 12918'!D16+'Kryci_list 12919'!D16+'Kryci_list 12920'!D16+'Kryci_list 12921'!D16+'Kryci_list 12922'!D16 -> 0 | E16: ='Kryci_list 12918'!E16+'Kryci_list 12919'!E16+'Kryci_list 12920'!E16+'Kryci_list 12921'!E16+'Kryci_list 12922'!E16 -> 0 | F16: ='Kryci_list 12918'!F16+'Kryci_list 12919'!F16+'Kryci_list 12920'!F16+'Kryci_list 12921'!F16+'Kryci_list 12922'!F16 -> 0 | G16: 6 | H16: Ostatné náklady | J16: =Rekapitulácia!F12 -> 0
B17: 2 | C17: PSV | D17: ='Kryci_list 12918'!D17+'Kryci_list 12919'!D17+'Kryci_list 12920'!D17+'Kryci_list 12921'!D17+'Kryci_list 12922'!D17 -> 0 | E17: ='Kryci_list 12918'!E17+'Kryci_list 12919'!E17+'Kryci_list 12920'!E17+'Kryci_list 12921'!E17+'Kryci_list 12922'!E17 -> 0 | F17: ='Kryci_list 12918'!F17+'Kryci_list 12919'!F17+'Kryci_list 12920'!F17+'Kryci_list 12921'!F17+'Kryci_list 12922'!F17 -> 0 | G17: 7 | H17: Kompletačná činnosť | J17: =Rekapitulácia!E12 -> 0
B18: 3 | C18: MONT | D18: ='Kryci_list 12918'!D18+'Kryci_list 12919'!D18+'Kryci_list 12920'!D18+'Kryci_list 12921'!D18+'Kryci_list 12922'!D18 -> 0 | E18: ='Kryci_list 12918'!E18+'Kryci_list 12919'!E18+'Kryci_list 12920'!E18+'Kryci_list 12921'!E18+'Kryci_list 12922'!E18 -> 0 | F18: ='Kryci_list 12918'!F18+'Kryci_list 12919'!F18+'Kryci_list 12920'!F18+'Kryci_list 12921'!F18+'Kryci_list 12922'!F18 -> 0 | G18: 8 | H18: HZS | J18: =Rekapitulácia!D12 -> 0
B19: 4 | G19: 9
B20: 5 | C20: Spolu | F20: =SUM(F16:F19) -> 0 | G20: 10 | H20: Spolu | J20: =SUM(J16:J19) -> 0
B21: C | C21: VRN | G21: D | H21: VRN
B22: 11 | C22: Zariadenie staveniska | F22: ='Kryci_list 12918'!F22+'Kryci_list 12919'!F22+'Kryci_list 12920'!F22+'Kryci_list 12921'!F22+'Kryci_list 12922'!F22 -> 0 | G22: 16 | H22: Sťažené podmienky dopravy | J22: ='Kryci_list 12918'!J22+'Kryci_list 12919'!J22+'Kryci_list 12920'!J22+'Kryci_list 12921'!J22+'Kryci_list 12922'!J22 -> 0
B23: 12 | C23: Sťažené výrobné podmienky | F23: ='Kryci_list 12918'!F23+'Kryci_list 12919'!F23+'Kryci_list 12920'!F23+'Kryci_list 12921'!F23+'Kryci_list 12922'!F23 -> 0 | G23: 17 | H23: Horské oblasti | J23: ='Kryci_list 12918'!J23+'Kryci_list 12919'!J23+'Kryci_list 12920'!J23+'Kryci_list 12921'!J23+'Kryci_list 12922'!J23 -> 0
B24: 13 | C24: Prevádzkové vplyvy | F24: ='Kryci_list 12918'!F24+'Kryci_list 12919'!F24+'Kryci_list 12920'!F24+'Kryci_list 12921'!F24+'Kryci_list 12922'!F24 -> 0 | G24: 18 | H24: Mimostavenisková doprava | J24: ='Kryci_list 12918'!J24+'Kryci_list 12919'!J24+'Kryci_list 12920'!J24+'Kryci_list 12921'!J24+'Kryci_list 12922'!J24 -> 0
B25: 14 | G25: 19
B26: 15 | G26: 20 | H26: Spolu | J26: =SUM(J22:J25)+SUM(F22:F25) -> 0
C27: Projektant,rozpočtár | G27: E | H27: Celkové náklady
G28: 21 | H28: Súčet riadkov 5,10,15,20 | J28: =F20+J20+F26+J26 -> 0
G29: 22 | H29: DPH 20% z | I29: =Rekapitulácia!B13 -> 0 | J29: =ROUND(((ROUND(I29,2)*20)/100),2)*1 -> 0
G30: 23 | H30: DPH 0% z | I30: =Rekapitulácia!B14 -> 0 | J30: =ROUND(((ROUND(I30,2)*0)/100),2) -> 0
G31: 24 | H31: Spolu v EUR | J31: =SUM(J28:J30) -> 0
G32: F
D33: Odberateľ | H33: Dodávateľ

Sheet Kryci_list 12918
F1: Krycí list rozpočtu | W1: 30.126
B2: Stavba Prístavba kuchyne ku kultúrnemu domu - Čičava | G2: Miesto:
B3: Objekt SO 01 - Hlavný objekt - ASR
I4: Ks:
B5: Zákazka: | F5: Spracoval: Ing. Ján Halgaš | I5: Dňa | J5: 05.06.2018
B6: Odberateľ: Obec Čičava | G6: IČO:
G7: DIČ:
B8: Dodávateľ: | G8: IČO:
G9: DIČ:
B10: Projektant: D. D. - ARCH s. r. o. | G10: IČO:
G11: DIČ:
B15: A | C15: ZRN | D15: Montáž | E15: Materiál | F15: ZRN spolu | G15: B | H15: Ďalšie náklady
B16: 1 | C16: HSV | D16: ='Rekap 12918'!B19 -> 0 | E16: ='Rekap 12918'!C19 -> 0 | F16: ='Rekap 12918'!D19 -> 0 | G16: 6 | H16: Ostatné náklady | J16: 0
B17: 2 | C17: PSV | D17: ='Rekap 12918'!B34 -> 0 | E17: ='Rekap 12918'!C34 -> 0 | F17: ='Rekap 12918'!D34 -> 0 | G17: 7 | H17: Kompletačná činnosť | J17: ='SO 12918'!Z236 -> 0
B18: 3 | C18: MONT | G18: 8 | H18: HZS | J18: 0
B19: 4 | G19: 9
B20: 5 | C20: Spolu | F20: =SUM(F16:F19) -> 0 | G20: 10 | H20: Spolu | J20: =SUM(J16:J19) -> 0
B21: C | C21: VRN | G21: D | H21: VRN
B22: 11 | C22: Zariadenie staveniska | E22: 0% z [H+P+M] | F22: =((F16*U22*0)+(F17*V22*0)+(F18*W22*0))/100 -> 0 | G22: 16 | H22: Sťažené podmienky dopravy | I22: 0% z [H+P+M] | J22: =((F16*X22*0)+(F17*Y22*0)+(F18*Z22*0))/100 -> 0 | U22: 1 | V22: 1 | W22: 1 | X22: 1 | Y22: 1 | Z22: 1
B23: 12 | C23: Sťažené výrobné podmienky | E23: 0% z [H+P] | F23: =((F16*U23*0)+(F17*V23*0)+(F18*W23*0))/100 -> 0 | G23: 17 | H23: Horské oblasti | I23: 0% z [H+P+M] | J23: =((F16*X23*0)+(F17*Y23*0)+(F18*Z23*0))/100 -> 0 | U23: 1 | V23: 1 | W23: 0 | X23: 1 | Y23: 1 | Z23: 1
B24: 13 | C24: Prevádzkové vplyvy | E24: 0% z [H+P+M] | F24: =((F16*U24*0)+(F17*V24*0)+(F18*W24*0))/100 -> 0 | G24: 18 | H24: Mimostavenisková doprava | I24: 0% z [H+P] | J24: =((F16*X24*0)+(F17*Y24*0)+(F18*Z24*0))/100 -> 0 | U24: 1 | V24: 1 | W24: 1 | X24: 1 | Y24: 1 | Z24: 0
B25: 14 | G25: 19
B26: 15 | G26: 20 | H26: Spolu | J26: =SUM(J22:J25)+SUM(F22:F25) -> 0
C27: Projektant,rozpočtár | G27: E | H27: Celkové náklady
G28: 21 | H28: Súčet riadkov 5,10,15,20 | J28: =F20+J20+F26+J26 -> 0
G29: 22 | H29: DPH 20% z | I29: =J28-SUM('SO 12918'!K9:'SO 12918'!K235) -> 0 | J29: =ROUND(((ROUND(I29,2)*20)*1/100),2) -> 0
G30: 23 | H30: DPH 0% z | I30: =SUM('SO 12918'!K9:'SO 12918'!K235) -> 0 | J30: =ROUND(((ROUND(I30,2)*0)/100),2) -> 0
G31: 24 | H31: Spolu v EUR | J31: =SUM(J28:J30) -> 0
G32: F
D33: Odberateľ | G33: 26 | H33: Dodávateľ

Sheet Rekap 12918
A1: Odberateľ: Obec Čičava | D1: Spracoval: Ing. Ján Halgaš | W1: 30.126
A2: Projektant: D. D. - ARCH s. r. o. | D2: Ks:
A3: Dodávateľ: | D3: Dátum: 05.06.2018
A4: Stavba Prístavba kuchyne ku kultúrnemu domu - Čičava
A5: Objekt SO 01 - Hlavný objekt - ASR
A8: Prehľad rozpočtových nákladov
A9: Oddiel | B9: Montáž | C9: Materiál | D9: Spolu | E9: Hmotnosť (T) | F9: Suť (T)
A10: Práce HSV
A11: ZEMNÉ PRÁCE | B11: ='SO 12918'!L18 -> 0 | C11: ='SO 12918'!M18 -> 0 | D11: ='SO 12918'!I18 -> 0 | E11: ='SO 12918'!P18 -> 0 | F11: ='SO 12918'!S18 -> 0
A12: ZÁKLADY | B12: ='SO 12918'!L31 -> 0 | C12: ='SO 12918'!M31 -> 0 | D12: ='SO 12918'!I31 -> 0 | E12: ='SO 12918'!P31 -> 66.93 | F12: ='SO 12918'!S31 -> 0
A13: ZVISLÉ KONŠTRUKCIE | B13: ='SO 12918'!L41 -> 0 | C13: ='SO 12918'!M41 -> 0 | D13: ='SO 12918'!I41 -> 0 | E13: ='SO 12918'!P41 -> 7.85 | F13: ='SO 12918'!S41 -> 0
A14: VODOROVNÉ KONŠTRUKCIE | B14: ='SO 12918'!L48 -> 0 | C14: ='SO 12918'!M48 -> 0 | D14: ='SO 12918'!I48 -> 0 | E14: ='SO 12918'!P48 -> 7.4 | F14: ='SO 12918'!S48 -> 0
A15: SPEVNENÉ PLOCHY | B15: ='SO 12918'!L56 -> 0 | C15: ='SO 12918'!M56 -> 0 | D15: ='SO 12918'!I56 -> 0 | E15: ='SO 12918'!P56 -> 14.64 | F15: ='SO 12918'!S56 -> 0
A16: POVRCHOVÉ ÚPRAVY | B16: ='SO 12918'!L78 -> 0 | C16: ='SO 12918'!M78 -> 0 | D16: ='SO 12918'!I78 -> 0 | E16: ='SO 12918'!P78 -> 1.62 | F16: ='SO 12918'!S78 -> 0
A17: OSTATNÉ PRÁCE | B17: ='SO 12918'!L93 -> 0 | C17: ='SO 12918'!M93 -> 0 | D17: ='SO 12918'!I93 -> 0 | E17: ='SO 12918'!P93 -> 2.71 | F17: ='SO 12918'!S93 -> 0
A18: PRESUNY HMÔT | B18: ='SO 12918'!L97 -> 0 | C18: ='SO 12918'!M97 -> 0 | D18: ='SO 12918'!I97 -> 0 | E18: ='SO 12918'!P97 -> 0 | F18: ='SO 12918'!S97 -> 0
A19: Práce HSV | B19: ='SO 12918'!L99 -> 0 | C19: ='SO 12918'!M99 -> 0 | D19: ='SO 12918'!I99 -> 0 | E19: ='SO 12918'!P99 -> 101.15 | F19: ='SO 12918'!S99 -> 0
A21: Práce PSV
A22: IZOLÁCIE PROTI VODE A VLHKOSTI | B22: ='SO 12918'!L110 -> 0 | C22: ='SO 12918'!M110 -> 0 | D22: ='SO 12918'!I110 -> 0 | E22: ='SO 12918'!P110 -> 0.99 | F22: ='SO 12918'!S110 -> 0
A23: POVLAKOVÉ KRYTINY | B23: ='SO 12918'!L139 -> 0 | C23: ='SO 12918'!M139 -> 0 | D23: ='SO 12918'!I139 -> 0 | E23: ='SO 12918'!P139 -> 0.42 | F23: ='SO 12918'!S139 -> 0
A24: IZOLÁCIE TEPELNÉ BEŽNÝCH STAVEB. KONŠTRUKCIÍ | B24: ='SO 12918'!L148 -> 0 | C24: ='SO 12918'!M148 -> 0 | D24: ='SO 12918'!I148 -> 0 | E24: ='SO 12918'!P148 -> 1.21 | F24: ='SO 12918'!S148 -> 0
A25: KONŠTRUKCIE TESÁRSKE | B25: ='SO 12918'!L161 -> 0 | C25: ='SO 12918'!M161 -> 0 | D25: ='SO 12918'!I161 -> 0 | E25: ='SO 12918'!P161 -> 21.31 | F25: ='SO 12918'!S161 -> 0
A26: DREVOSTAVBY | B26: ='SO 12918'!L166 -> 0 | C26: ='SO 12918'!M166 -> 0 | D26: ='SO 12918'!I166 -> 0 | E26: ='SO 12918'!P166 -> 0 | F26: ='SO 12918'!S166 -> 0
A27: KONŠTRUKCIE KLAMPIARSKE | B27: ='SO 12918'!L178 -> 0 | C27: ='SO 12918'!M178 -> 0 | D27: ='SO 12918'!I178 -> 0 | E27: ='SO 12918'!P178 -> 0.11 | F27: ='SO 12918'!S178 -> 0
A28: KONŠTRUKCIE STOLÁRSKE | B28: ='SO 12918'!L198 -> 0 | C28: ='SO 12918'!M198 -> 0 | D28: ='SO 12918'!I198 -> 0 | E28: ='SO 12918'!P198 -> 0.16 | F28: ='SO 12918'!S198 -> 0
A29: KOVOVÉ DOPLNKOVÉ KONŠTRUKCIE | B29: ='SO 12918'!L206 -> 0 | C29: ='SO 12918'!M206 -> 0 | D29: ='SO 12918'!I206 -> 0 | E29: ='SO 12918'!P206 -> 0.03 | F29: ='SO 12918'!S206 -> 0
A30: PODLAHY A OBKLADY KERAMICKÉ-DLAŽBY | B30: ='SO 12918'!L216 -> 0 | C30: ='SO 12918'!M216 -> 0 | D30: ='SO 12918'!I216 -> 0 | E30: ='SO 12918'!P216 -> 0.7 | F30: ='SO 12918'!S216 -> 0
A31: PODLAHY A OBKLADY KERAMICKÉ-OBKLADY | B31: ='SO 12918'!L222 -> 0 | C31: ='SO 12918'!M222 -> 0 | D31: ='SO 12918'!I222 -> 0 | E31: ='SO 12918'!P222 -> 2.18 | F31: ='SO 12918'!S222 -> 0
A32: NÁTERY | B32: ='SO 12918'!L228 -> 0 | C32: ='SO 12918'!M228 -> 0 | D32: ='SO 12918'!I228 -> 0 | E32: ='SO 12918'!P228 -> 0.04 | F32: ='SO 12918'!S228 -> 0
A33: MAĽBY | B33: ='SO 12918'!L233 -> 0 | C33: ='SO 12918'!M233 -> 0 | D33: ='SO 12918'!I233 -> 0 | E33: ='SO 12918'!P233 -> 0.09 | F33: ='SO 12918'!S233 -> 0
A34: Práce PSV | B34: ='SO 12918'!L235 -> 0 | C34: ='SO 12918'!M235 -> 0 | D34: ='SO 12918'!I235 -> 0 | E34: ='SO 12918'!P235 -> 27.24 | F34: ='SO 12918'!S235 -> 0
A36: Celkom v EUR | B36: ='SO 12918'!L236 -> 0 | C36: ='SO 12918'!M236 -> 0 | D36: ='SO 12918'!I236 -> 0 | E36: ='SO 12918'!P236 -> 128.39 | F36: ='SO 12918'!S236 -> 0

Sheet SO 12918
B1: Odberateľ: Obec Čičava | E1: Spracoval: Ing. Ján Halgaš | W1: 30.126
B2: Projektant: D. D. - ARCH s. r. o. | E2: Ks:
B3: Dodávateľ: | E3: Dátum: 05.06.2018
B4: Stavba Prístavba kuchyne ku kultúrnemu domu - Čičava
B5: Objekt SO 01 - Hlavný objekt - ASR
B7: Prehľad rozpočtových nákladov
A8: Por.č. | B8: Cenník | C8: Kód položky | D8: Názov | E8: Mj | F8: Množstvo | G8: Cena/Mj | H8: Materiál | I8: Cena celkom | P8: Hmotnosť | S8: Suť
D9: Práce HSV
D10: ZEMNÉ PRÁCE
B11: 1/A 1 | C11: 122201101 | D11: Odkopávka a prekopávka nezapažená v hornine 3, do 100 m3 | E11: m3 | F11: 15.88 | I11: =ROUND(F11*(G11+H11),2) -> 0 | J11: =ROUND(F11*(N11),2) -> 84.96 | K11: =ROUND(F11*(O11),2) -> 0 | L11: =ROUND(F11*(G11),2) -> 0 | N11: 5.35 | Z11: 0
B12: 1/A 1 | C12: 122201109 | D12: Odkopávky a prekopávky nezapažené. Príplatok k cenám za lepivosť horniny 3 | E12: m3 | F12: 15.88 | I12: =ROUND(F12*(G12+H12),2) -> 0 | J12: =ROUND(F12*(N12),2) -> 13.97 | K12: =ROUND(F12*(O12),2) -> 0 | L12: =ROUND(F12*(G12),2) -> 0 | N12: 0.88 | Z12: 0
B13: 1/A 1 | C13: 132211101 | D13: Hĺbenie rýh šírky do 600 mm v hornine tr.3 súdržných - ručným náradím | E13: m3 | F13: 13.55 | I13: =ROUND(F13*(G13+H13),2) -> 0 | J13: =ROUND(F13*(N13),2) -> 741.32 | K13: =ROUND(F13*(O13),2) -> 0 | L13: =ROUND(F13*(G13),2) -> 0 | N13: 54.71 | Z13: 0
B14: 1/A 1 | C14: 132211119 | D14: Príplatok za lepivosť pri hĺbení rýh š do 600 mm ručným náradím v hornine tr. 3 | E14: m3 | F14: 13.55 | I14: =ROUND(F14*(G14+H14),2) -> 0 | J14: =ROUND(F14*(N14),2) -> 148.24 | K14: =ROUND(F14*(O14),2) -> 0 | L14: =ROUND(F14*(G14),2) -> 0 | N14: 10.94 | Z14: 0
B15: 1/A 1 | C15: 162501102 | D15: Vodorovné premiestnenie výkopku po spevnenej ceste z horniny tr.1-4, do 100 m3 na vzdialenosť do 3000 m | E15: m3 | F15: 29.43 | I15: =ROUND(F15*(G15+H15),2) -> 0 | J15: =ROUND(F15*(N15),2) -> 119.78 | K15: =ROUND(F15*(O15),2) -> 0 | L15: =ROUND(F15*(G15),2) -> 0 | N15: 4.07 | Z15: 0
B16: 1/A 1 | C16: 167101100 | D16: Nakladanie výkopku tr.1-4 ručne | E16: m3 | F16: 29.43 | I16: =ROUND(F16*(G16+H16),2) -> 0 | J16: =ROUND(F16*(N16),2) -> 232.2 | K16: =ROUND(F16*(O16),2) -> 0 | L16: =ROUND(F16*(G16),2) -> 0 | N16: 7.89 | Z16: 0
B17: 1/A 1 | C17: 171201101 | D17: Uloženie sypaniny do násypov s rozprestretím sypaniny vo vrstvách a s hrubým urovnaním nezhutnených | E17: m3 | F17: 29.43 | I17: =ROUND(F17*(G17+H17),2) -> 0 | J17: =ROUND(F17*(N17),2) -> 27.08 | K17: =ROUND(F17*(O17),2) -> 0 | L17: =ROUND(F17*(G17),2) -> 0 | N17: 0.92 | Z17: 0
D18: ZEMNÉ PRÁCE | H18: =ROUND((SUM(M10:M17))/1,2) -> 0 | I18: =ROUND((SUM(I10:I17))/1,2) -> 0 | L18: =ROUND((SUM(L10:L17))/1,2) -> 0 | M18: =ROUND((SUM(M10:M17))/1,2) -> 0 | P18: =ROUND((SUM(P10:P17))/1,2) -> 0 | S18: =ROUND((SUM(S10:S17))/1,2) -> 0
D20: ZÁKLADY
B21: 2/A 1 | C21: 289971211 | D21: Zhotovenie vrstvy z geotextílie na upravenom povrchu sklon do 1 : 5 , šírky od 0 do 3 m | E21: m2 | F21: 5.61 | I21: =ROUND(F21*(G21+H21),2) -> 0 | J21: =ROUND(F21*(N21),2) -> 2.81 | K21: =ROUND(F21*(O21),2) -> 0 | L21: =ROUND(F21*(G21),2) -> 0 | N21: 0.5 | P21: =ROUND(F21*(R21),3) -> 0 | R21: 3e-05 | Z21: 0
B22: 11/A 1 | C22: 271573001 | D22: Násyp pod základové konštrukcie so zhutnením zo štrkopiesku fr.0-32 mm | E22: m3 | F22: 8.96 | I22: =ROUND(F22*(G22+H22),2) -> 0 | J22: =ROUND(F22*(N22),2) -> 344.42 | K22: =ROUND(F22*(O22),2) -> 0 | L22: =ROUND(F22*(G22),2) -> 0 | N22: 38.44 | P22: =ROUND(F22*(R22),3) -> 18.547 | R22: 2.07 | Z22: 0
B23: 11/A 1 | C23: 273321211 | D23: Betón základových dosiek, železový (bez výstuže), tr. C 12/15 | E23: m3 | F23: 7.94 | I23: =ROUND(F23*(G23+H23),2) -> 0 | J23: =ROUND(F23*(N23),2) -> 637.19 | K23: =ROUND(F23*(O23),2) -> 0 | L23: =ROUND(F23*(G23),2) -> 0 | N23: 80.25 | P23: =ROUND(F23*(R23),3) -> 18.881 | R23: 2.3779 | Z23: 0
B24: 11/A 1 | C24: 273351217 | D24: Debnenie stien základových dosiek, zhotovenie-tradičné | E24: m2 | F24: 2.79 | I24: =ROUND(F24*(G24+H24),2) -> 0 | J24: =ROUND(F24*(N24),2) -> 33.73 | K24: =ROUND(F24*(O24),2) -> 0 | L24: =ROUND(F24*(G24),2) -> 0 | N24: 12.09 | P24: =ROUND(F24*(R24),3) -> 0.011 | R24: 0.00407 | Z24: 0
B25: 11/A 1 | C25: 273351218 | D25: Debnenie stien základových dosiek, odstránenie-tradičné | E25: m2 | F25: 2.79 | I25: =ROUND(F25*(G25+H25),2) -> 0 | J25: =ROUND(F25*(N25),2) -> 11.38 | K25: =ROUND(F25*(O25),2) -> 0 | L25: =ROUND(F25*(G25),2) -> 0 | N25: 4.08 | Z25: 0
B26: 11/A 1 | C26: 273362421 | D26: Výstuž základových dosiek zo zvár. sietí KARI, priemer drôtu 6/6 mm, veľkosť oka 100x100 mm | E26: m2 | F26: 91.8 | I26: =ROUND(F26*(G26+H26),2) -> 0 | J26: =ROUND(F26*(N26),2) -> 442.48 | K26: =ROUND(F26*(O26),2) -> 0 | L26: =ROUND(F26*(G26),2) -> 0 | N26: 4.82 | P26: =ROUND(F26*(R26),3) -> 0.453 | R26: 0.00494 | Z26: 0
B27: 11/A 1 | C27: 274313521 | D27: Betón základových pásov, prostý tr. C 12/15 | E27: m3 | F27: 12.2 | I27: =ROUND(F27*(G27+H27),2) -> 0 | J27: =ROUND(F27*(N27),2) -> 964.78 | K27: =ROUND(F27*(O27),2) -> 0 | L27: =ROUND(F27*(G27),2) -> 0 | N27: 79.08 | P27: =ROUND(F27*(R27),3) -> 29.01 | R27: 2.3778966 | Z27: 0
B28: 11/A 1 | C28: 274351217 | D28: Debnenie stien základových pásov, zhotovenie-tradičné | E28: m2 | F28: 6.96 | I28: =ROUND(F28*(G28+H28),2) -> 0 | J28: =ROUND(F28*(N28),2) -> 85.19 | K28: =ROUND(F28*(O28),2) -> 0 | L28: =ROUND(F28*(G28),2) -> 0 | N28: 12.24 | P28: =ROUND(F28*(R28),3) -> 0.028 | R28: 0.00407 | Z28: 0
B29: 11/A 1 | C29: 274351218 | D29: Debnenie stien základových pásov, odstránenie-tradičné | E29: m2 | F29: 6.96 | I29: =ROUND(F29*(G29+H29),2) -> 0 | J29: =ROUND(F29*(N29),2) -> 28.88 | K29: =ROUND(F29*(O29),2) -> 0 | L29: =ROUND(F29*(G29),2) -> 0 | N29: 4.15 | Z29: 0
B30: S/S90 | C30: 6936651000 | D30: Geotextília netkaná polypropylénová PP 200 | E30: m2 | F30: 5.722 | I30: =ROUND(F30*(G30+H30),2) -> 0 | J30: =ROUND(F30*(N30),2) -> 3.83 | K30: =ROUND(F30*(O30),2) -> 0 | M30: =ROUND(F30*(G30),2) -> 0 | N30: 0.67 | P30: =ROUND(F30*(R30),3) -> 0.001 | R30: 0.0002 | Z30: 0
D31: ZÁKLADY | H31: =ROUND((SUM(M20:M30))/1,2) -> 0 | I31: =ROUND((SUM(I20:I30))/1,2) -> 0 | L31: =ROUND((SUM(L20:L30))/1,2) -> 0 | M31: =ROUND((SUM(M20:M30))/1,2) -> 0 | P31: =ROUND((SUM(P20:P30))/1,2) -> 66.93 | S31: =ROUND((SUM(S20:S30))/1,2) -> 0
D33: ZVISLÉ KONŠTRUKCIE
B34: 11/A 1 | C34: 317162101 | D34: Keramický predpätý preklad POROTHERM KPP alebo ekvivalent, šírky 120 mm, výšky 65 mm, dĺžky 1000 mm | E34: ks | F34: 1 | I34: =ROUND(F34*(G34+H34),2) -> 0 | J34: =ROUND(F34*(N34),2) -> 10.74 | K34: =ROUND(F34*(O34),2) -> 0 | L34: =ROUND(F34*(G34),2) -> 0 | N34: 10.74 | P34: =ROUND(F34*(R34),3) -> 0.015 | R34: 0.01522 | Z34: 0
B35: 11/A 1 | C35: 317162102 | D35: Keramický predpätý preklad POROTHERM KPP alebo ekvivalent, šírky 120 mm, výšky 65 mm, dĺžky 1250 mm | E35: ks | F35: 11 | I35: =ROUND(F35*(G35+H35),2) -> 0 | J35: =ROUND(F35*(N35),2) -> 155.1 | K35: =ROUND(F35*(O35),2) -> 0 | L35: =ROUND(F35*(G35),2) -> 0 | N35: 14.1 | P35: =ROUND(F35*(R35),3) -> 0.214 | R35: 0.0194335 | Z35: 0
B36: 11/A 1 | C36: 317351107 | D36: Debnenie prekladu vrátane podpornej konštrukcie výšky do 4 m zhotovenie | E36: m2 | F36: 5.499 | I36: =ROUND(F36*(G36+H36),2) -> 0 | J36: =ROUND(F36*(N36),2) -> 91.5 | K36: =ROUND(F36*(O36),2) -> 0 | L36: =ROUND(F36*(G36),2) -> 0 | N36: 16.64 | P36: =ROUND(F36*(R36),3) -> 0.04 | R36: 0.00725 | Z36: 0
B37: 11/A 1 | C37: 317351108 | D37: Debnenie prekladu vrátane podpornej konštrukcie výšky do 4 m odstránenie | E37: m2 | F37: 5.499 | I37: =ROUND(F37*(G37+H37),2) -> 0 | J37: =ROUND(F37*(N37),2) -> 33.98 | K37: =ROUND(F37*(O37),2) -> 0 | L37: =ROUND(F37*(G37),2) -> 0 | N37: 6.18 | Z37: 0
B38: 11/A 1 | C38: 342273075 | D38: Priečky z tvárnic PORFIX hr. 75 mm P2-500 hladkých, na MVC a lepidlo PORFIX (75x250x500) alebo ekvivalent | E38: m2 | F38: 9.32 | I38: =ROUND(F38*(G38+H38),2) -> 0 | J38: =ROUND(F38*(N38),2) -> 159.84 | K38: =ROUND(F38*(O38),2) -> 0 | L38: =ROUND(F38*(G38),2) -> 0 | N38: 17.15 | P38: =ROUND(F38*(R38),3) -> 0.677 | R38: 0.07268 | Z38: 0
B39: 11/A 1 | C39: 342273150 | D39: Priečky z tvárnic PORFIX hr. 150 mm P2-500 hladkých, na MVC a lepidlo PORFIX (150x250x500) alebo ekvivalent | E39: m2 | F39: 47.3 | I39: =ROUND(F39*(G39+H39),2) -> 0 | J39: =ROUND(F39*(N39),2) -> 1267.17 | K39: =ROUND(F39*(O39),2) -> 0 | L39: =ROUND(F39*(G39),2) -> 0 | N39: 26.79 | P39: =ROUND(F39*(R39),3) -> 6.902 | R39: 0.14591628 | Z39: 0
B40: R/RE | C40: 311275652 | D40: Murivo nosné (m3) z tvárnic PORFIX hr. 300 mm P2-440 HL, na MVC a lepidlo PORFIX (300x250x500) alebo ekvivalent | E40: m3 | F40: 28.61 | I40: =ROUND(F40*(G40+H40),2) -> 0 | J40: =ROUND(F40*(N40),2) -> 4282.34 | K40: =ROUND(F40*(O40),2) -> 0 | L40: =ROUND(F40*(G40),2) -> 0 | N40: 149.68 | Z40: 0
D41: ZVISLÉ KONŠTRUKCIE | H41: =ROUND((SUM(M33:M40))/1,2) -> 0 | I41: =ROUND((SUM(I33:I40))/1,2) -> 0 | L41: =ROUND((SUM(L33:L40))/1,2) -> 0 | M41: =ROUND((SUM(M33:M40))/1,2) -> 0 | P41: =ROUND((SUM(P33:P40))/1,2) -> 7.85 | S41: =ROUND((SUM(S33:S40))/1,2) -> 0
D43: VODOROVNÉ KONŠTRUKCIE
B44: 11/A 1 | C44: 417321515 | D44: Betón stužujúcich pásov a vencov železový tr. C 25/30 | E44: m3 | F44: 3.109 | I44: =ROUND(F44*(G44+H44),2) -> 0 | J44: =ROUND(F44*(N44),2) -> 334.16 | K44: =ROUND(F44*(O44),2) -> 0 | L44: =ROUND(F44*(G44),2) -> 0 | N44: 107.48 | P44: =ROUND(F44*(R44),3) -> 7.032 | R44: 2.26185 | Z44: 0
...

Sheet Kryci_list 12919
F1: Krycí list rozpočtu | W1: 30.126
B2: Stavba Prístavba kuchyne ku kultúrnemu domu - Čičava | G2: Miesto:
B3: Objekt SO 01 - Hlavný objekt - ÚK
I4: Ks:
B5: Zákazka: | F5: Spracoval: Ing. Ján Halgaš | I5: Dňa | J5: 05.06.2018
B6: Odberateľ: Obec Čičava | G6: IČO:
G7: DIČ:
B8: Dodávateľ: | G8: IČO:
G9: DIČ:
B10: Projektant: D. D. - ARCH s. r. o. | G10: IČO:
G11: DIČ:
B15: A | C15: ZRN | D15: Montáž | E15: Materiál | F15: ZRN spolu | G15: B | H15: Ďalšie náklady
B16: 1 | C16: HSV | G16: 6 | H16: Ostatné náklady | J16: 0
B17: 2 | C17: PSV | D17: ='Rekap 12919'!B16 -> 0 | E17: ='Rekap 12919'!C16 -> 0 | F17: ='Rekap 12919'!D16 -> 0 | G17: 7 | H17: Kompletačná činnosť | J17: ='SO 12919'!Z62 -> 0
B18: 3 | C18: MONT | G18: 8 | H18: HZS | J18: 0
B19: 4 | G19: 9
B20: 5 | C20: Spolu | F20: =SUM(F16:F19) -> 0 | G20: 10 | H20: Spolu | J20: =SUM(J16:J19) -> 0
B21: C | C21: VRN | G21: D | H21: VRN
B22: 11 | C22: Zariadenie staveniska | E22: 0% z [H+P+M] | F22: =((F16*U22*0)+(F17*V22*0)+(F18*W22*0))/100 -> 0 | G22: 16 | H22: Sťažené podmienky dopravy | I22: 0% z [H+P+M] | J22: =((F16*X22*0)+(F17*Y22*0)+(F18*Z22*0))/100 -> 0 | U22: 1 | V22: 1 | W22: 1 | X22: 1 | Y22: 1 | Z22: 1
B23: 12 | C23: Sťažené výrobné podmienky | E23: 0% z [H+P] | F23: =((F16*U23*0)+(F17*V23*0)+(F18*W23*0))/100 -> 0 | G23: 17 | H23: Horské oblasti | I23: 0% z [H+P+M] | J23: =((F16*X23*0)+(F17*Y23*0)+(F18*Z23*0))/100 -> 0 | U23: 1 | V23: 1 | W23: 0 | X23: 1 | Y23: 1 | Z23: 1
B24: 13 | C24: Prevádzkové vplyvy | E24: 0% z [H+P+M] | F24: =((F16*U24*0)+(F17*V24*0)+(F18*W24*0))/100 -> 0 | G24: 18 | H24: Mimostavenisková doprava | I24: 0% z [H+P] | J24: =((F16*X24*0)+(F17*Y24*0)+(F18*Z24*0))/100 -> 0 | U24: 1 | V24: 1 | W24: 1 | X24: 1 | Y24: 1 | Z24: 0
B25: 14 | G25: 19
B26: 15 | G26: 20 | H26: Spolu | J26: =SUM(J22:J25)+SUM(F22:F25) -> 0
C27: Projektant,rozpočtár | G27: E | H27: Celkové náklady
G28: 21 | H28: Súčet riadkov 5,10,15,20 | J28: =F20+J20+F26+J26 -> 0
G29: 22 | H29: DPH 20% z | I29: =J28-SUM('SO 12919'!K9:'SO 12919'!K61) -> 0 | J29: =ROUND(((ROUND(I29,2)*20)*1/100),2) -> 0
G30: 23 | H30: DPH 0% z | I30: =SUM('SO 12919'!K9:'SO 12919'!K61) -> 0 | J30: =ROUND(((ROUND(I30,2)*0)/100),2) -> 0
G31: 24 | H31: Spolu v EUR | J31: =SUM(J28:J30) -> 0
G32: F
D33: Odberateľ | G33: 26 | H33: Dodávateľ

Sheet Rekap 12919
A1: Odberateľ: Obec Čičava | D1: Spracoval: Ing. Ján Halgaš | W1: 30.126
A2: Projektant: D. D. - ARCH s. r. o. | D2: Ks:
A3: Dodávateľ: | D3: Dátum: 05.06.2018
A4: Stavba Prístavba kuchyne ku kultúrnemu domu - Čičava
A5: Objekt SO 01 - Hlavný objekt - ÚK
A8: Prehľad rozpočtových nákladov
A9: Oddiel | B9: Montáž | C9: Materiál | D9: Spolu | E9: Hmotnosť (T) | F9: Suť (T)
A10: Práce PSV
A11: IZOLÁCIE TEPELNÉ BEŽNÝCH STAVEB. KONŠTRUKCIÍ | B11: ='SO 12919'!L16 -> 0 | C11: ='SO 12919'!M16 -> 0 | D11: ='SO 12919'!I16 -> 0 | E11: ='SO 12919'!P16 -> 0 | F11: ='SO 12919'!S16 -> 0
A12: ÚSTREDNÉ VYKUROVANIE-STROJOVNE | B12: ='SO 12919'!L21 -> 0 | C12: ='SO 12919'!M21 -> 0 | D12: ='SO 12919'!I21 -> 0 | E12: ='SO 12919'!P21 -> 0 | F12: ='SO 12919'!S21 -> 0
A13: ÚSTREDNÉ VYKUROVANIE-ROZVOD POTRUBIA | B13: ='SO 12919'!L37 -> 0 | C13: ='SO 12919'!M37 -> 0 | D13: ='SO 12919'!I37 -> 0 | E13: ='SO 12919'!P37 -> 0.03 | F13: ='SO 12919'!S37 -> 0
A14: ÚSTREDNÉ VYKUROVANIE-ARMATÚRY | B14: ='SO 12919'!L48 -> 0 | C14: ='SO 12919'!M48 -> 0 | D14: ='SO 12919'!I48 -> 0 | E14: ='SO 12919'!P48 -> 0 | F14: ='SO 12919'!S48 -> 0
A15: ÚSTREDNÉ VYKUROVANIE-VYKUROVACIE TELESÁ | B15: ='SO 12919'!L59 -> 0 | C15: ='SO 12919'!M59 -> 0 | D15: ='SO 12919'!I59 -> 0 | E15: ='SO 12919'!P59 -> 0.04 | F15: ='SO 12919'!S59 -> 0
A16: Práce PSV | B16: ='SO 12919'!L61 -> 0 | C16: ='SO 12919'!M61 -> 0 | D16: ='SO 12919'!I61 -> 0 | E16: ='SO 12919'!P61 -> 0.07 | F16: ='SO 12919'!S61 -> 0
A18: Celkom v EUR | B18: ='SO 12919'!L62 -> 0 | C18: ='SO 12919'!M62 -> 0 | D18: ='SO 12919'!I62 -> 0 | E18: ='SO 12919'!P62 -> 0.07 | F18: ='SO 12919'!S62 -> 0

Sheet SO 12919
B1: Odberateľ: Obec Čičava | E1: Spracoval: Ing. Ján Halgaš | W1: 30.126
B2: Projektant: D. D. - ARCH s. r. o. | E2: Ks:
B3: Dodávateľ: | E3: Dátum: 05.06.2018
B4: Stavba Prístavba kuchyne ku kultúrnemu domu - Čičava
B5: Objekt SO 01 - Hlavný objekt - ÚK
B7: Prehľad rozpočtových nákladov
A8: Por.č. | B8: Cenník | C8: Kód položky | D8: Názov | E8: Mj | F8: Množstvo | G8: Cena/Mj | H8: Materiál | I8: Cena celkom | P8: Hmotnosť | S8: Suť
D9: Práce PSV
D10: IZOLÁCIE TEPELNÉ BEŽNÝCH STAVEB. KONŠTRUKCIÍ
B11: 713/A 4 | C11: 713482121 | D11: Montáž trubíc z PE, hr.15-20 mm,vnút.priemer do 38 mm | E11: m | F11: 64.79 | I11: =ROUND(F11*(G11+H11),2) -> 0 | J11: =ROUND(F11*(N11),2) -> 167.81 | K11: =ROUND(F11*(O11),2) -> 0 | L11: =ROUND(F11*(G11),2) -> 0 | N11: 2.59 | P11: =ROUND(F11*(R11),3) -> 0.001 | R11: 2e-05 | Z11: 0
B12: 713/A 4 | C12: 713482131 | D12: Montáž trubíc z PE, hr.30 mm,vnút.priemer do 38 mm | E12: m | F12: 0.93 | I12: =ROUND(F12*(G12+H12),2) -> 0 | J12: =ROUND(F12*(N12),2) -> 2.67 | K12: =ROUND(F12*(O12),2) -> 0 | L12: =ROUND(F12*(G12),2) -> 0 | N12: 2.87 | P12: =ROUND(F12*(R12),3) -> 0 | R12: 4e-05 | Z12: 0
B13: 713/A 5 | C13: 998713201 | D13: Presun hmôt pre izolácie tepelné v objektoch výšky do 6 m | E13: % | F13: 1.3 | I13: =ROUND(F13*(G13+H13),2) -> 0 | J13: =ROUND(F13*(N13),2) -> 2.78 | K13: =ROUND(F13*(O13),2) -> 0 | L13: =ROUND(F13*(G13),2) -> 0 | N13: 2.14 | Z13: 0
B14: S/S20 | C14: 2837741537 | D14: Tubolit DG 20 x 13 izolácia-trubica AZ FLEX Armacell alebo ekvivalent | E14: m | F14: 66.086 | I14: =ROUND(F14*(G14+H14),2) -> 0 | J14: =ROUND(F14*(N14),2) -> 40.31 | K14: =ROUND(F14*(O14),2) -> 0 | M14: =ROUND(F14*(G14),2) -> 0 | N14: 0.61 | P14: =ROUND(F14*(R14),3) -> 0.003 | R14: 4e-05 | Z14: 0
B15: S/S20 | C15: 2837741558 | D15: Tubolit DG 28 x 30 izolácia-trubica AZ FLEX Armacell alebo ekvivalent | E15: m | F15: 0.949 | I15: =ROUND(F15*(G15+H15),2) -> 0 | J15: =ROUND(F15*(N15),2) -> 2.23 | K15: =ROUND(F15*(O15),2) -> 0 | M15: =ROUND(F15*(G15),2) -> 0 | N15: 2.35 | P15: =ROUND(F15*(R15),3) -> 0 | R15: 6e-05 | Z15: 0
D16: IZOLÁCIE TEPELNÉ BEŽNÝCH STAVEB. KONŠTRUKCIÍ | H16: =ROUND((SUM(M10:M15))/1,2) -> 0 | I16: =ROUND((SUM(I10:I15))/1,2) -> 0 | L16: =ROUND((SUM(L10:L15))/1,2) -> 0 | M16: =ROUND((SUM(M10:M15))/1,2) -> 0 | P16: =ROUND((SUM(P10:P15))/1,2) -> 0 | S16: =ROUND((SUM(S10:S15))/1,2) -> 0
D18: ÚSTREDNÉ VYKUROVANIE-STROJOVNE
B19: R/RE | C19: 732331000 | D19: Montáž expanznej nádoby tlak 3 bary s membránou 8 l | E19: ks | F19: 1 | I19: =ROUND(F19*(G19+H19),2) -> 0 | J19: =ROUND(F19*(N19),2) -> 4.03 | K19: =ROUND(F19*(O19),2) -> 0 | L19: =ROUND(F19*(G19),2) -> 0 | N19: 4.03 | Z19: 0
B20: S/S40 | C20: 4846710000 | D20: Nádoba-expanzná typ NG tlak 3 bary s membránou 8 l šedá REFLEX alebo ekvivalent | E20: ks | F20: 1 | I20: =ROUND(F20*(G20+H20),2) -> 0 | J20: =ROUND(F20*(N20),2) -> 40.18 | K20: =ROUND(F20*(O20),2) -> 0 | M20: =ROUND(F20*(G20),2) -> 0 | N20: 40.18 | P20: =ROUND(F20*(R20),3) -> 0.002 | R20: 0.0019 | Z20: 0
D21: ÚSTREDNÉ VYKUROVANIE-STROJOVNE | H21: =ROUND((SUM(M18:M20))/1,2) -> 0 | I21: =ROUND((SUM(I18:I20))/1,2) -> 0 | L21: =ROUND((SUM(L18:L20))/1,2) -> 0 | M21: =ROUND((SUM(M18:M20))/1,2) -> 0 | P21: =ROUND((SUM(P18:P20))/1,2) -> 0 | S21: =ROUND((SUM(S18:S20))/1,2) -> 0
D23: ÚSTREDNÉ VYKUROVANIE-ROZVOD POTRUBIA
B24: 731/A 3 | C24: 733167023 | D24: Potrubie z rúr REHAU, rúrka univerzálna RAUTITAN flex alebo ekvivalent DN 25,0x3,5 mm v kotúčoch | E24: m | F24: 0.93 | I24: =ROUND(F24*(G24+H24),2) -> 0 | J24: =ROUND(F24*(N24),2) -> 18.01 | K24: =ROUND(F24*(O24),2) -> 0 | L24: =ROUND(F24*(G24),2) -> 0 | N24: 19.37 | P24: =ROUND(F24*(R24),3) -> 0 | R24: 0.00046 | Z24: 0
B25: 731/A 3 | C25: 733167032 | D25: Potrubie z rúr REHAU, rúrka univerzálna RAUTITAN flex alebo ekvivalent DN 20,0x2,8 mm v tyčiach | E25: m | F25: 64.8 | I25: =ROUND(F25*(G25+H25),2) -> 0 | J25: =ROUND(F25*(N25),2) -> 984.31 | K25: =ROUND(F25*(O25),2) -> 0 | L25: =ROUND(F25*(G25),2) -> 0 | N25: 15.19 | P25: =ROUND(F25*(R25),3) -> 0.021 | R25: 0.00032 | Z25: 0
B26: 731/A 3 | C26: 733191301 | D26: Tlaková skúška plastového potrubia do 32 mm | E26: m | F26: 65.73 | I26: =ROUND(F26*(G26+H26),2) -> 0 | J26: =ROUND(F26*(N26),2) -> 26.29 | K26: =ROUND(F26*(O26),2) -> 0 | L26: =ROUND(F26*(G26),2) -> 0 | N26: 0.4 | Z26: 0
B27: 731/A 3 | C27: 998733201 | D27: Presun hmôt pre rozvody potrubia v objektoch výšky do 6 m | E27: % | F27: 1.4 | I27: =ROUND(F27*(G27+H27),2) -> 0 | J27: =ROUND(F27*(N27),2) -> 20.37 | K27: =ROUND(F27*(O27),2) -> 0 | L27: =ROUND(F27*(G27),2) -> 0 | N27: 14.55 | Z27: 0
B28: R/RE | C28: 733167160 | D28: Montáž plasthliníkového prechodu RAUTITAN alebo ekvivalent lisovaním D 20 | E28: ks | F28: 8 | I28: =ROUND(F28*(G28+H28),2) -> 0 | J28: =ROUND(F28*(N28),2) -> 26.48 | K28: =ROUND(F28*(O28),2) -> 0 | L28: =ROUND(F28*(G28),2) -> 0 | N28: 3.31 | Z28: 0
B29: R/RE | C29: 733167181 | D29: Montáž plasthliníkového kolena RAUTITAN alebo ekvivalent lisovaním D 20 | E29: ks | F29: 40 | I29: =ROUND(F29*(G29+H29),2) -> 0 | J29: =ROUND(F29*(N29),2) -> 132.4 | K29: =ROUND(F29*(O29),2) -> 0 | L29: =ROUND(F29*(G29),2) -> 0 | N29: 3.31 | Z29: 0
B30: R/RE | C30: 733167184 | D30: Montáž plasthliníkového kolena RAUTITAN alebo ekvivalent lisovaním D 25 | E30: ks | F30: 1 | I30: =ROUND(F30*(G30+H30),2) -> 0 | J30: =ROUND(F30*(N30),2) -> 3.77 | K30: =ROUND(F30*(O30),2) -> 0 | L30: =ROUND(F30*(G30),2) -> 0 | N30: 3.77 | Z30: 0
B31: R/RE | C31: 733167200 | D31: Montáž plasthliníkového T-kusu RAUTITAN alebo ekvivalent lisovaním D 20 | E31: ks | F31: 7 | I31: =ROUND(F31*(G31+H31),2) -> 0 | J31: =ROUND(F31*(N31),2) -> 23.17 | K31: =ROUND(F31*(O31),2) -> 0 | L31: =ROUND(F31*(G31),2) -> 0 | N31: 3.31 | Z31: 0
B32: S/S20 | C32: 2862287002 | D32: T-Kus 20-16-20 RAUTITAN PX odbočka redukovaná, materiál: PPSU REHAU alebo ekvivalent | E32: ks | F32: 6 | I32: =ROUND(F32*(G32+H32),2) -> 0 | J32: =ROUND(F32*(N32),2) -> 32.94 | K32: =ROUND(F32*(O32),2) -> 0 | M32: =ROUND(F32*(G32),2) -> 0 | N32: 5.49 | P32: =ROUND(F32*(R32),3) -> 0.001 | R32: 0.00011 | Z32: 0
B33: S/S20 | C33: 2862289103 | D33: T-Kus 20-25-16 RAUTITAN alebo ekvivalent PX odbočka rozšírená, materiál: | E33: ks | F33: 1 | I33: =ROUND(F33*(G33+H33),2) -> 0 | J33: =ROUND(F33*(N33),2) -> 6.25 | K33: =ROUND(F33*(O33),2) -> 0 | M33: =ROUND(F33*(G33),2) -> 0 | N33: 6.25 | P33: =ROUND(F33*(R33),3) -> 0 | R33: 0.00015 | Z33: 0
B34: S/S20 | C34: 2862291700 | D34: Prechod s vnútorným závitom RAUTITAN RX alebo ekvivalent, 20-Rp 1/2 | E34: ks | F34: 8 | I34: =ROUND(F34*(G34+H34),2) -> 0 | J34: =ROUND(F34*(N34),2) -> 47.12 | K34: =ROUND(F34*(O34),2) -> 0 | M34: =ROUND(F34*(G34),2) -> 0 | N34: 5.89 | P34: =ROUND(F34*(R34),3) -> 0 | R34: 5e-05 | Z34: 0
B35: S/S20 | C35: 2862294502 | D35: Koleno RAUTITAN 90°, 20 PX s centrovacími zarážkami, materiál: PPSU, REHAU alebo ekvivalent | E35: ks | F35: 32 | I35: =ROUND(F35*(G35+H35),2) -> 0 | J35: =ROUND(F35*(N35),2) -> 148.16 | K35: =ROUND(F35*(O35),2) -> 0 | M35: =ROUND(F35*(G35),2) -> 0 | N35: 4.63 | P35: =ROUND(F35*(R35),3) -> 0.003 | R35: 0.0001 | Z35: 0
B36: S/S20 | C36: 2862294503 | D36: Koleno RAUTITAN 90°, 25 PX s centrovacími zarážkami, materiál: PPSU, REHAU alebo ekvivalent | E36: ks | F36: 1 | I36: =ROUND(F36*(G36+H36),2) -> 0 | J36: =ROUND(F36*(N36),2) -> 6.14 | K36: =ROUND(F36*(O36),2) -> 0 | M36: =ROUND(F36*(G36),2) -> 0 | N36: 6.14 | P36: =ROUND(F36*(R36),3) -> 0 | R36: 0.0002 | Z36: 0
D37: ÚSTREDNÉ VYKUROVANIE-ROZVOD POTRUBIA | H37: =ROUND((SUM(M23:M36))/1,2) -> 0 | I37: =ROUND((SUM(I23:I36))/1,2) -> 0 | L37: =ROUND((SUM(L23:L36))/1,2) -> 0 | M37: =ROUND((SUM(M23:M36))/1,2) -> 0 | P37: =ROUND((SUM(P23:P36))/1,2) -> 0.03 | S37: =ROUND((SUM(S23:S36))/1,2) -> 0
D39: ÚSTREDNÉ VYKUROVANIE-ARMATÚRY
B40: 731/A 4 | C40: 734213120 | D40: Montáž ventilu odvzdušňovacieho závitového vykurovacích telies do G 1/2 | E40: ks | F40: 4 | I40: =ROUND(F40*(G40+H40),2) -> 0 | J40: =ROUND(F40*(N40),2) -> 7.92 | K40: =ROUND(F40*(O40),2) -> 0 | L40: =ROUND(F40*(G40),2) -> 0 | N40: 1.98 | P40: =ROUND(F40*(R40),3) -> 0 | R40: 1e-05 | Z40: 0
B41: 731/A 4 | C41: 734223130 | D41: Montáž ventilu závitového termostatického rohového jednoregulačného G 3/4 | E41: ks | F41: 4 | I41: =ROUND(F41*(G41+H41),2) -> 0 | J41: =ROUND(F41*(N41),2) -> 12.2 | K41: =ROUND(F41*(O41),2) -> 0 | L41: =ROUND(F41*(G41),2) -> 0 | N41: 3.05 | P41: =ROUND(F41*(R41),3) -> 0 | R41: 4e-05 | Z41: 0
B42: 731/A 4 | C42: 734223208 | D42: Montáž termostatickej hlavice kvapalinovej jednoduchej | E42: súb. | F42: 4 | I42: =ROUND(F42*(G42+H42),2) -> 0 | J42: =ROUND(F42*(N42),2) -> 5.24 | K42: =ROUND(F42*(O42),2) -> 0 | L42: =ROUND(F42*(G42),2) -> 0 | N42: 1.31 | Z42: 0
B43: 731/A 4 | C43: 998734201 | D43: Presun hmôt pre armatúry v objektoch výšky do 6 m | E43: % | F43: 0.25 | I43: =ROUND(F43*(G43+H43),2) -> 0 | J43: =ROUND(F43*(N43),2) -> 0.09 | K43: =ROUND(F43*(O43),2) -> 0 | L43: =ROUND(F43*(G43),2) -> 0 | N43: 0.35 | Z43: 0
B44: R/RE | C44: 1346612 | D44: 3000 Diel pripájací rohový pre 2-rúrk. sústavy, obojstr. vypúšťanie/napúšťanie, uzatvár., pripojenie Rp 1/2, na rúru vonk. G 3/4 s kuž. tesnením, HERZ alebo ekvivalent | E44: ks | F44: 4 | I44: =ROUND(F44*(G44+H44),2) -> 0 | J44: =ROUND(F44*(N44),2) -> 72.64 | K44: =ROUND(F44*(O44),2) -> 0 | L44: =ROUND(F44*(G44),2) -> 0 | N44: 18.16 | Z44: 0
...

Sheet Kryci_list 12920
F1: Krycí list rozpočtu | W1: 30.126
B2: Stavba Prístavba kuchyne ku kultúrnemu domu - Čičava | G2: Miesto:
B3: Objekt SO 01 - Hlavný objekt - ZTI
I4: Ks:
B5: Zákazka: | F5: Spracoval: Ing. Ján Halgaš | I5: Dňa | J5: 05.06.2018
B6: Odberateľ: Obec Čičava | G6: IČO:
G7: DIČ:
B8: Dodávateľ: | G8: IČO:
G9: DIČ:
B10: Projektant: D. D. - ARCH s. r. o. | G10: IČO:
G11: DIČ:
B15: A | C15: ZRN | D15: Montáž | E15: Materiál | F15: ZRN spolu | G15: B | H15: Ďalšie náklady
B16: 1 | C16: HSV | G16: 6 | H16: Ostatné náklady | J16: 0
B17: 2 | C17: PSV | D17: ='Rekap 12920'!B15 -> 0 | E17: ='Rekap 12920'!C15 -> 0 | F17: ='Rekap 12920'!D15 -> 0 | G17: 7 | H17: Kompletačná činnosť | J17: ='SO 12920'!Z80 -> 0
B18: 3 | C18: MONT | G18: 8 | H18: HZS | J18: 0
B19: 4 | G19: 9
B20: 5 | C20: Spolu | F20: =SUM(F16:F19) -> 0 | G20: 10 | H20: Spolu | J20: =SUM(J16:J19) -> 0
B21: C | C21: VRN | G21: D | H21: VRN
B22: 11 | C22: Zariadenie staveniska | E22: 0% z [H+P+M] | F22: =((F16*U22*0)+(F17*V22*0)+(F18*W22*0))/100 -> 0 | G22: 16 | H22: Sťažené podmienky dopravy | I22: 0% z [H+P+M] | J22: =((F16*X22*0)+(F17*Y22*0)+(F18*Z22*0))/100 -> 0 | U22: 1 | V22: 1 | W22: 1 | X22: 1 | Y22: 1 | Z22: 1
B23: 12 | C23: Sťažené výrobné podmienky | E23: 0% z [H+P] | F23: =((F16*U23*0)+(F17*V23*0)+(F18*W23*0))/100 -> 0 | G23: 17 | H23: Horské oblasti | I23: 0% z [H+P+M] | J23: =((F16*X23*0)+(F17*Y23*0)+(F18*Z23*0))/100 -> 0 | U23: 1 | V23: 1 | W23: 0 | X23: 1 | Y23: 1 | Z23: 1
B24: 13 | C24: Prevádzkové vplyvy | E24: 0% z [H+P+M] | F24: =((F16*U24*0)+(F17*V24*0)+(F18*W24*0))/100 -> 0 | G24: 18 | H24: Mimostavenisková doprava | I24: 0% z [H+P] | J24: =((F16*X24*0)+(F17*Y24*0)+(F18*Z24*0))/100 -> 0 | U24: 1 | V24: 1 | W24: 1 | X24: 1 | Y24: 1 | Z24: 0
B25: 14 | G25: 19
B26: 15 | G26: 20 | H26: Spolu | J26: =SUM(J22:J25)+SUM(F22:F25) -> 0
C27: Projektant,rozpočtár | G27: E | H27: Celkové náklady
G28: 21 | H28: Súčet riadkov 5,10,15,20 | J28: =F20+J20+F26+J26 -> 0
G29: 22 | H29: DPH 20% z | I29: =J28-SUM('SO 12920'!K9:'SO 12920'!K79) -> 0 | J29: =ROUND(((ROUND(I29,2)*20)*1/100),2) -> 0
G30: 23 | H30: DPH 0% z | I30: =SUM('SO 12920'!K9:'SO 12920'!K79) -> 0 | J30: =ROUND(((ROUND(I30,2)*0)/100),2) -> 0
G31: 24 | H31: Spolu v EUR | J31: =SUM(J28:J30) -> 0
G32: F
D33: Odberateľ | G33: 26 | H33: Dodávateľ

Sheet Rekap 12920
A1: Odberateľ: Obec Čičava | D1: Spracoval: Ing. Ján Halgaš | W1: 30.126
A2: Projektant: D. D. - ARCH s. r. o. | D2: Ks:
A3: Dodávateľ: | D3: Dátum: 05.06.2018
A4: Stavba Prístavba kuchyne ku kultúrnemu domu - Čičava
A5: Objekt SO 01 - Hlavný objekt - ZTI
A8: Prehľad rozpočtových nákladov
A9: Oddiel | B9: Montáž | C9: Materiál | D9: Spolu | E9: Hmotnosť (T) | F9: Suť (T)
A10: Práce PSV
A11: IZOLÁCIE TEPELNÉ BEŽNÝCH STAVEB. KONŠTRUKCIÍ | B11: ='SO 12920'!L16 -> 0 | C11: ='SO 12920'!M16 -> 0 | D11: ='SO 12920'!I16 -> 0 | E11: ='SO 12920'!P16 -> 0.01 | F11: ='SO 12920'!S16 -> 0
A12: ZTI-VNÚTORNA KANALIZÁCIA | B12: ='SO 12920'!L30 -> 0 | C12: ='SO 12920'!M30 -> 0 | D12: ='SO 12920'!I30 -> 0 | E12: ='SO 12920'!P30 -> 0.07 | F12: ='SO 12920'!S30 -> 0
A13: ZTI-VNÚTORNÝ VODOVOD | B13: ='SO 12920'!L49 -> 0 | C13: ='SO 12920'!M49 -> 0 | D13: ='SO 12920'!I49 -> 0 | E13: ='SO 12920'!P49 -> 0.63 | F13: ='SO 12920'!S49 -> 0
A14: ZTI-ZARIAĎOVACIE PREDMETY | B14: ='SO 12920'!L77 -> 0 | C14: ='SO 12920'!M77 -> 0 | D14: ='SO 12920'!I77 -> 0 | E14: ='SO 12920'!P77 -> 0.05 | F14: ='SO 12920'!S77 -> 0
A15: Práce PSV | B15: ='SO 12920'!L79 -> 0 | C15: ='SO 12920'!M79 -> 0 | D15: ='SO 12920'!I79 -> 0 | E15: ='SO 12920'!P79 -> 0.76 | F15: ='SO 12920'!S79 -> 0
A17: Celkom v EUR | B17: ='SO 12920'!L80 -> 0 | C17: ='SO 12920'!M80 -> 0 | D17: ='SO 12920'!I80 -> 0 | E17: ='SO 12920'!P80 -> 0.76 | F17: ='SO 12920'!S80 -> 0

Sheet SO 12920
B1: Odberateľ: Obec Čičava | E1: Spracoval: Ing. Ján Halgaš | W1: 30.126
B2: Projektant: D. D. - ARCH s. r. o. | E2: Ks:
B3: Dodávateľ: | E3: Dátum: 05.06.2018
B4: Stavba Prístavba kuchyne ku kultúrnemu domu - Čičava
B5: Objekt SO 01 - Hlavný objekt - ZTI
B7: Prehľad rozpočtových nákladov
A8: Por.č. | B8: Cenník | C8: Kód položky | D8: Názov | E8: Mj | F8: Množstvo | G8: Cena/Mj | H8: Materiál | I8: Cena celkom | P8: Hmotnosť | S8: Suť
D9: Práce PSV
D10: IZOLÁCIE TEPELNÉ BEŽNÝCH STAVEB. KONŠTRUKCIÍ
B11: 713/A 4 | C11: 713482121 | D11: Montáž trubíc z PE, hr.15-20 mm,vnút.priemer do 38 mm | E11: m | F11: 103.98 | I11: =ROUND(F11*(G11+H11),2) -> 0 | J11: =ROUND(F11*(N11),2) -> 269.31 | K11: =ROUND(F11*(O11),2) -> 0 | L11: =ROUND(F11*(G11),2) -> 0 | N11: 2.59 | P11: =ROUND(F11*(R11),3) -> 0.002 | R11: 2e-05 | Z11: 0
B12: 713/A 5 | C12: 998713201 | D12: Presun hmôt pre izolácie tepelné v objektoch výšky do 6 m | E12: % | F12: 1.3 | I12: =ROUND(F12*(G12+H12),2) -> 0 | J12: =ROUND(F12*(N12),2) -> 4.65 | K12: =ROUND(F12*(O12),2) -> 0 | L12: =ROUND(F12*(G12),2) -> 0 | N12: 3.58 | Z12: 0
B13: S/S20 | C13: 2837741537 | D13: Tubolit DG 20 x 13 izolácia-trubica AZ FLEX Armacell alebo ekvivalent | E13: m | F13: 67.44 | I13: =ROUND(F13*(G13+H13),2) -> 0 | J13: =ROUND(F13*(N13),2) -> 41.14 | K13: =ROUND(F13*(O13),2) -> 0 | M13: =ROUND(F13*(G13),2) -> 0 | N13: 0.61 | P13: =ROUND(F13*(R13),3) -> 0.003 | R13: 4e-05 | Z13: 0
B14: S/S20 | C14: 2837741558 | D14: Tubolit DG 28 x 30 izolácia-trubica AZ FLEX Armacell alebo ekvivalent | E14: m | F14: 9.85 | I14: =ROUND(F14*(G14+H14),2) -> 0 | J14: =ROUND(F14*(N14),2) -> 23.15 | K14: =ROUND(F14*(O14),2) -> 0 | M14: =ROUND(F14*(G14),2) -> 0 | N14: 2.35 | P14: =ROUND(F14*(R14),3) -> 0.001 | R14: 6e-05 | Z14: 0
B15: S/S20 | C15: 2837741563 | D15: Tubolit DG 32 x 13 izolácia-trubica AZ FLEX Armacell alebo ekvivalent | E15: m | F15: 26.69 | I15: =ROUND(F15*(G15+H15),2) -> 0 | J15: =ROUND(F15*(N15),2) -> 23.22 | K15: =ROUND(F15*(O15),2) -> 0 | M15: =ROUND(F15*(G15),2) -> 0 | N15: 0.87 | P15: =ROUND(F15*(R15),3) -> 0.003 | R15: 0.0001 | Z15: 0
D16: IZOLÁCIE TEPELNÉ BEŽNÝCH STAVEB. KONŠTRUKCIÍ | H16: =ROUND((SUM(M10:M15))/1,2) -> 0 | I16: =ROUND((SUM(I10:I15))/1,2) -> 0 | L16: =ROUND((SUM(L10:L15))/1,2) -> 0 | M16: =ROUND((SUM(M10:M15))/1,2) -> 0 | P16: =ROUND((SUM(P10:P15))/1,2) -> 0.01 | S16: =ROUND((SUM(S10:S15))/1,2) -> 0
D18: ZTI-VNÚTORNA KANALIZÁCIA
B19: 721/A 1 | C19: 721171107 | D19: Potrubie z PVC - U odpadové ležaté hrdlové D 75x1, 8 | E19: m | F19: 8.65 | I19: =ROUND(F19*(G19+H19),2) -> 0 | J19: =ROUND(F19*(N19),2) -> 118.42 | K19: =ROUND(F19*(O19),2) -> 0 | L19: =ROUND(F19*(G19),2) -> 0 | N19: 13.69 | P19: =ROUND(F19*(R19),3) -> 0.014 | R19: 0.00157 | Z19: 0
B20: 721/A 1 | C20: 721171109 | D20: Potrubie z PVC - U odpadové ležaté hrdlové D 110x2, 2 | E20: m | F20: 27.35 | I20: =ROUND(F20*(G20+H20),2) -> 0 | J20: =ROUND(F20*(N20),2) -> 395.21 | K20: =ROUND(F20*(O20),2) -> 0 | L20: =ROUND(F20*(G20),2) -> 0 | N20: 14.45 | P20: =ROUND(F20*(R20),3) -> 0.045 | R20: 0.00163 | Z20: 0
B21: 721/A 1 | C21: 721173204 | D21: Potrubie z PVC - U odpadné pripájacie D 40x1, 8 | E21: m | F21: 4.3 | I21: =ROUND(F21*(G21+H21),2) -> 0 | J21: =ROUND(F21*(N21),2) -> 30.87 | K21: =ROUND(F21*(O21),2) -> 0 | L21: =ROUND(F21*(G21),2) -> 0 | N21: 7.18 | P21: =ROUND(F21*(R21),3) -> 0.003 | R21: 0.00059 | Z21: 0
B22: 721/A 1 | C22: 721173205 | D22: Potrubie z PVC - U odpadné pripájacie D 50x1, 8 | E22: m | F22: 2.75 | I22: =ROUND(F22*(G22+H22),2) -> 0 | J22: =ROUND(F22*(N22),2) -> 20.32 | K22: =ROUND(F22*(O22),2) -> 0 | L22: =ROUND(F22*(G22),2) -> 0 | N22: 7.39 | P22: =ROUND(F22*(R22),3) -> 0.002 | R22: 0.00064 | Z22: 0
B23: 721/A 1 | C23: 721274103 | D23: Ventilačné hlavice strešná - plastové DN 100 HUL 810 alebo ekvivalent | E23: ks | F23: 1 | I23: =ROUND(F23*(G23+H23),2) -> 0 | J23: =ROUND(F23*(N23),2) -> 22.16 | K23: =ROUND(F23*(O23),2) -> 0 | L23: =ROUND(F23*(G23),2) -> 0 | N23: 22.16 | P23: =ROUND(F23*(R23),3) -> 0.004 | R23: 0.00415 | Z23: 0
B24: 721/A 1 | C24: 721290111 | D24: Ostatné - skúška tesnosti kanalizácie v objektoch vodou do DN 125 | E24: m | F24: 43.05 | I24: =ROUND(F24*(G24+H24),2) -> 0 | J24: =ROUND(F24*(N24),2) -> 30.57 | K24: =ROUND(F24*(O24),2) -> 0 | L24: =ROUND(F24*(G24),2) -> 0 | N24: 0.71 | Z24: 0
B25: 721/A 1 | C25: 998721201 | D25: Presun hmôt pre vnútornú kanalizáciu v objektoch výšky do 6 m | E25: % | F25: 1 | I25: =ROUND(F25*(G25+H25),2) -> 0 | J25: =ROUND(F25*(N25),2) -> 8.16 | K25: =ROUND(F25*(O25),2) -> 0 | L25: =ROUND(F25*(G25),2) -> 0 | N25: 8.16 | Z25: 0
B26: R/RE | C26: 2866340031 | D26: Podlahový vpust HL90Pr, (0,43 l/s), horizontálny odtok DN40/50, mriežka 115x115 mm, zápachová uzávierka PRIMUS, PE/nerezová oceľ alebo ekvivalent | E26: ks | F26: 2 | I26: =ROUND(F26*(G26+H26),2) -> 0 | J26: =ROUND(F26*(N26),2) -> 76.48 | K26: =ROUND(F26*(O26),2) -> 0 | L26: =ROUND(F26*(G26),2) -> 0 | N26: 38.24 | Z26: 0
B27: R/RE | C27: 2866340103 | D27: Podlahový vpust HL310N - 3020, (0,67 l/s), vertikálny odtok DN 50/75/110, nadstavec, rám 132 x 132? mm, kryt s možnosťou nalepenia dlažby 112 x 112? mm, PP/PE/ABS/nerezová oceľ V4A alebo ekvivalent | E27: ks | F27: 1 | I27: =ROUND(F27*(G27+H27),2) -> 0 | J27: =ROUND(F27*(N27),2) -> 102.17 | K27: =ROUND(F27*(O27),2) -> 0 | L27: =ROUND(F27*(G27),2) -> 0 | N27: 102.17 | Z27: 0
B28: R/RE | C28: 721213000 | D28: Montáž podlahového vpustu s vodorovným odtokom DN 50 | E28: ks | F28: 2 | I28: =ROUND(F28*(G28+H28),2) -> 0 | J28: =ROUND(F28*(N28),2) -> 11.22 | K28: =ROUND(F28*(O28),2) -> 0 | L28: =ROUND(F28*(G28),2) -> 0 | N28: 5.61 | Z28: 0
B29: R/RE | C29: 721213015,1 | D29: Montáž podlahového vpustu s zvislým odtokom DN 110 | E29: ks | F29: 1 | I29: =ROUND(F29*(G29+H29),2) -> 0 | J29: =ROUND(F29*(N29),2) -> 8.38 | K29: =ROUND(F29*(O29),2) -> 0 | L29: =ROUND(F29*(G29),2) -> 0 | N29: 8.38 | Z29: 0
D30: ZTI-VNÚTORNA KANALIZÁCIA | H30: =ROUND((SUM(M18:M29))/1,2) -> 0 | I30: =ROUND((SUM(I18:I29))/1,2) -> 0 | L30: =ROUND((SUM(L18:L29))/1,2) -> 0 | M30: =ROUND((SUM(M18:M29))/1,2) -> 0 | P30: =ROUND((SUM(P18:P29))/1,2) -> 0.07 | S30: =ROUND((SUM(S18:S29))/1,2) -> 0
D32: ZTI-VNÚTORNÝ VODOVOD
B33: 721/A 2 | C33: 722171132 | D33: Potrubie z plastických rúr PeX D20/2,0 lisovaním | E33: m | F33: 64.44 | I33: =ROUND(F33*(G33+H33),2) -> 0 | J33: =ROUND(F33*(N33),2) -> 627.65 | K33: =ROUND(F33*(O33),2) -> 0 | L33: =ROUND(F33*(G33),2) -> 0 | N33: 9.74 | P33: =ROUND(F33*(R33),3) -> 0.256 | R33: 0.00398 | Z33: 0
B34: 721/A 2 | C34: 722171133 | D34: Potrubie z plastických rúr PeX D26/3,0 lisovaním | E34: m | F34: 9.85 | I34: =ROUND(F34*(G34+H34),2) -> 0 | J34: =ROUND(F34*(N34),2) -> 130.32 | K34: =ROUND(F34*(O34),2) -> 0 | L34: =ROUND(F34*(G34),2) -> 0 | N34: 13.23 | P34: =ROUND(F34*(R34),3) -> 0.058 | R34: 0.00585 | Z34: 0
B35: 721/A 2 | C35: 722171134 | D35: Potrubie z plastických rúr PeX D32/3,0 lisovaním | E35: m | F35: 26.69 | I35: =ROUND(F35*(G35+H35),2) -> 0 | J35: =ROUND(F35*(N35),2) -> 471.35 | K35: =ROUND(F35*(O35),2) -> 0 | L35: =ROUND(F35*(G35),2) -> 0 | N35: 17.66 | P35: =ROUND(F35*(R35),3) -> 0.298 | R35: 0.01116 | Z35: 0
B36: 721/A 2 | C36: 722290226 | D36: Tlaková skúška vodovodného potrubia závitového do DN 50 | E36: m | F36: 103.98 | I36: =ROUND(F36*(G36+H36),2) -> 0 | J36: =ROUND(F36*(N36),2) -> 138.29 | K36: =ROUND(F36*(O36),2) -> 0 | L36: =ROUND(F36*(G36),2) -> 0 | N36: 1.33 | P36: =ROUND(F36*(R36),3) -> 0.019 | R36: 0.00018 | Z36: 0
B37: 721/A 2 | C37: 722290234 | D37: Prepláchnutie a dezinfekcia vodovodného potrubia do DN 80 | E37: m | F37: 103.98 | I37: =ROUND(F37*(G37+H37),2) -> 0 | J37: =ROUND(F37*(N37),2) -> 96.7 | K37: =ROUND(F37*(O37),2) -> 0 | L37: =ROUND(F37*(G37),2) -> 0 | N37: 0.93 | P37: =ROUND(F37*(R37),3) -> 0.001 | R37: 1e-05 | Z37: 0
B38: 721/A 2 | C38: 998722201 | D38: Presun hmôt pre vnútorný vodovod v objektoch výšky do 6 m | E38: % | F38: 0.7 | I38: =ROUND(F38*(G38+H38),2) -> 0 | J38: =ROUND(F38*(N38),2) -> 13.04 | K38: =ROUND(F38*(O38),2) -> 0 | L38: =ROUND(F38*(G38),2) -> 0 | N38: 18.63 | Z38: 0
B39: R/RE | C39: 5511870000 | D39: Guľový uzáver pre vodu PERFECTA, 1/2, FF páčka, niklovaná mosadz OT 58 alebo ekvivalent | E39: ks | F39: 1 | I39: =ROUND(F39*(G39+H39),2) -> 0 | J39: =ROUND(F39*(N39),2) -> 4.3 | K39: =ROUND(F39*(O39),2) -> 0 | L39: =ROUND(F39*(G39),2) -> 0 | N39: 4.3 | Z39: 0
B40: R/RE | C40: 5511870010 | D40: Guľový uzáver pre vodu PERFECTA, 3/4, FF páčka, niklovaná mosadz OT 58 IVAR alebo ekvivalent | E40: ks | F40: 2 | I40: =ROUND(F40*(G40+H40),2) -> 0 | J40: =ROUND(F40*(N40),2) -> 12 | K40: =ROUND(F40*(O40),2) -> 0 | L40: =ROUND(F40*(G40),2) -> 0 | N40: 6 | Z40: 0
B41: R/RE | C41: 5511870690 | D41: Rohový guľový uzáver pre vodu série 59, 1/2 FF, 59, niklovaná mosadz OT 58 IVAR alebo ekvivalent | E41: ks | F41: 20 | I41: =ROUND(F41*(G41+H41),2) -> 0 | J41: =ROUND(F41*(N41),2) -> 220.4 | K41: =ROUND(F41*(O41),2) -> 0 | L41: =ROUND(F41*(G41),2) -> 0 | N41: 11.02 | Z41: 0
B42: R/RE | C42: 5511871150 | D42: Vypúšťací guľový kohút s páčkou, 3/4, Euro M, mosadz OT 58 IVAR alebo ekvivalent | E42: ks | F42: 1 | I42: =ROUND(F42*(G42+H42),2) -> 0 | J42: =ROUND(F42*(N42),2) -> 8.11 | K42: =ROUND(F42*(O42),2) -> 0 | L42: =ROUND(F42*(G42),2) -> 0 | N42: 8.11 | Z42: 0
B43: R/RE | C43: 5511874500 | D43: Flexi hadice k baterii (8x12), 8x12 (F1/2xM10), 40 cm, nerez IVAR alebo ekvivalent | E43: ks | F43: 18 | I43: =ROUND(F43*(G43+H43),2) -> 0 | J43: =ROUND(F43*(N43),2) -> 65.16 | K43: =ROUND(F43*(O43),2) -> 0 | L43: =ROUND(F43*(G43),2) -> 0 | N43: 3.62 | Z43: 0
...

Sheet Kryci_list 12921
F1: Krycí list rozpočtu | W1: 30.126
B2: Stavba Prístavba kuchyne ku kultúrnemu domu - Čičava | G2: Miesto:
B3: Objekt SO 01 - Hlavný objekt - ASR - ELI
I4: Ks:
B5: Zákazka: | F5: Spracoval: Ing. Ján Halgaš | I5: Dňa | J5: 05.06.2018
B6: Odberateľ: Obec Čičava | G6: IČO:
G7: DIČ:
B8: Dodávateľ: | G8: IČO:
G9: DIČ:
B10: Projektant: D. D. - ARCH s. r. o. | G10: IČO:
G11: DIČ:
B15: A | C15: ZRN | D15: Montáž | E15: Materiál | F15: ZRN spolu | G15: B | H15: Ďalšie náklady
B16: 1 | C16: HSV | G16: 6 | H16: Ostatné náklady | J16: 0
B17: 2 | C17: PSV | G17: 7 | H17: Kompletačná činnosť | J17: ='SO 12921'!Z74 -> 0
B18: 3 | C18: MONT | D18: ='Rekap 12921'!B12 -> 0 | E18: ='Rekap 12921'!C12 -> 0 | F18: ='Rekap 12921'!D12 -> 0 | G18: 8 | H18: HZS | J18: 0
B19: 4 | G19: 9
B20: 5 | C20: Spolu | F20: =SUM(F16:F19) -> 0 | G20: 10 | H20: Spolu | J20: =SUM(J16:J19) -> 0
B21: C | C21: VRN | G21: D | H21: VRN
B22: 11 | C22: Zariadenie staveniska | E22: 0% z [H+P+M] | F22: =((F16*U22*0)+(F17*V22*0)+(F18*W22*0))/100 -> 0 | G22: 16 | H22: Sťažené podmienky dopravy | I22: 0% z [H+P+M] | J22: =((F16*X22*0)+(F17*Y22*0)+(F18*Z22*0))/100 -> 0 | U22: 1 | V22: 1 | W22: 1 | X22: 1 | Y22: 1 | Z22: 1
B23: 12 | C23: Sťažené výrobné podmienky | E23: 0% z [H+P] | F23: =((F16*U23*0)+(F17*V23*0)+(F18*W23*0))/100 -> 0 | G23: 17 | H23: Horské oblasti | I23: 0% z [H+P+M] | J23: =((F16*X23*0)+(F17*Y23*0)+(F18*Z23*0))/100 -> 0 | U23: 1 | V23: 1 | W23: 0 | X23: 1 | Y23: 1 | Z23: 1
B24: 13 | C24: Prevádzkové vplyvy | E24: 0% z [H+P+M] | F24: =((F16*U24*0)+(F17*V24*0)+(F18*W24*0))/100 -> 0 | G24: 18 | H24: Mimostavenisková doprava | I24: 0% z [H+P] | J24: =((F16*X24*0)+(F17*Y24*0)+(F18*Z24*0))/100 -> 0 | U24: 1 | V24: 1 | W24: 1 | X24: 1 | Y24: 1 | Z24: 0
B25: 14 | G25: 19
B26: 15 | G26: 20 | H26: Spolu | J26: =SUM(J22:J25)+SUM(F22:F25) -> 0
C27: Projektant,rozpočtár | G27: E | H27: Celkové náklady
G28: 21 | H28: Súčet riadkov 5,10,15,20 | J28: =F20+J20+F26+J26 -> 0
G29: 22 | H29: DPH 20% z | I29: =J28-SUM('SO 12921'!K9:'SO 12921'!K73) -> 0 | J29: =ROUND(((ROUND(I29,2)*20)*1/100),2) -> 0
G30: 23 | H30: DPH 0% z | I30: =SUM('SO 12921'!K9:'SO 12921'!K73) -> 0 | J30: =ROUND(((ROUND(I30,2)*0)/100),2) -> 0
G31: 24 | H31: Spolu v EUR | J31: =SUM(J28:J30) -> 0
G32: F
D33: Odberateľ | G33: 26 | H33: Dodávateľ

Sheet Rekap 12921
A1: Odberateľ: Obec Čičava | D1: Spracoval: Ing. Ján Halgaš | W1: 30.126
A2: Projektant: D. D. - ARCH s. r. o. | D2: Ks:
A3: Dodávateľ: | D3: Dátum: 05.06.2018
A4: Stavba Prístavba kuchyne ku kultúrnemu domu - Čičava
A5: Objekt SO 01 - Hlavný objekt - ASR - ELI
A8: Prehľad rozpočtových nákladov
A9: Oddiel | B9: Montáž | C9: Materiál | D9: Spolu | E9: Hmotnosť (T) | F9: Suť (T)
A10: Montážne práce
A11: M-21 ELEKTROMONTÁŽE | B11: ='SO 12921'!L71 -> 0 | C11: ='SO 12921'!M71 -> 0 | D11: ='SO 12921'!I71 -> 0 | E11: ='SO 12921'!P71 -> 0 | F11: ='SO 12921'!S71 -> 0
A12: Montážne práce | B12: ='SO 12921'!L73 -> 0 | C12: ='SO 12921'!M73 -> 0 | D12: ='SO 12921'!I73 -> 0 | E12: ='SO 12921'!P73 -> 0 | F12: ='SO 12921'!S73 -> 0
A14: Celkom v EUR | B14: ='SO 12921'!L74 -> 0 | C14: ='SO 12921'!M74 -> 0 | D14: ='SO 12921'!I74 -> 0 | E14: ='SO 12921'!P74 -> 0 | F14: ='SO 12921'!S74 -> 0

Sheet SO 12921
B1: Odberateľ: Obec Čičava | E1: Spracoval: Ing. Ján Halgaš | W1: 30.126
B2: Projektant: D. D. - ARCH s. r. o. | E2: Ks:
B3: Dodávateľ: | E3: Dátum: 05.06.2018
B4: Stavba Prístavba kuchyne ku kultúrnemu domu - Čičava
B5: Objekt SO 01 - Hlavný objekt - ASR - ELI
B7: Prehľad rozpočtových nákladov
A8: Por.č. | B8: Cenník | C8: Kód položky | D8: Názov | E8: Mj | F8: Množstvo | G8: Cena/Mj | H8: Materiál | I8: Cena celkom | P8: Hmotnosť | S8: Suť
D9: Montážne práce
D10: M-21 ELEKTROMONTÁŽE
B11: 921/M21 | C11: 210010301 | D11: Krabica prístrojová bez zapojenia (1901, KP 68, KZ 3) | E11: ks | F11: 30 | I11: =ROUND(F11*(G11+H11),2) -> 0 | J11: =ROUND(F11*(N11),2) -> 32.4 | K11: =ROUND(F11*(O11),2) -> 0 | L11: =ROUND(F11*(G11),2) -> 0 | N11: 1.08 | Z11: 0
B12: 921/M21 | C12: 210010321 | D12: Krabica (1903, KR 68) odbočná s viečkom, svorkovnicou vrátane zapojenia, kruhová | E12: ks | F12: 15 | I12: =ROUND(F12*(G12+H12),2) -> 0 | J12: =ROUND(F12*(N12),2) -> 69.3 | K12: =ROUND(F12*(O12),2) -> 0 | L12: =ROUND(F12*(G12),2) -> 0 | N12: 4.62 | Z12: 0
B13: 921/M21 | C13: 210100001 | D13: Ukončenie vodičov v rozvádzač. vrátane zapojenia a vodičovej koncovky do 2.5 mm2 | E13: ks | F13: 66 | I13: =ROUND(F13*(G13+H13),2) -> 0 | J13: =ROUND(F13*(N13),2) -> 44.88 | K13: =ROUND(F13*(O13),2) -> 0 | L13: =ROUND(F13*(G13),2) -> 0 | N13: 0.68 | Z13: 0
B14: 921/M21 | C14: 210100003 | D14: Ukončenie vodičov v rozvádzač. vrátane zapojenia a vodičovej koncovky do 16 mm2 | E14: ks | F14: 4 | I14: =ROUND(F14*(G14+H14),2) -> 0 | J14: =ROUND(F14*(N14),2) -> 3.88 | K14: =ROUND(F14*(O14),2) -> 0 | L14: =ROUND(F14*(G14),2) -> 0 | N14: 0.97 | Z14: 0
B15: 921/M21 | C15: 210110041 | D15: Spínače polozapustené a zapustené vrátane zapojenia jednopólový - radenie 1 | E15: ks | F15: 6 | I15: =ROUND(F15*(G15+H15),2) -> 0 | J15: =ROUND(F15*(N15),2) -> 10.5 | K15: =ROUND(F15*(O15),2) -> 0 | L15: =ROUND(F15*(G15),2) -> 0 | N15: 1.75 | Z15: 0
B16: 921/M21 | C16: 210110043 | D16: Spínač polozapustený a zapustený vrátane zapojenia sériový prep.stried. - radenie 5 A | E16: ks | F16: 1 | I16: =ROUND(F16*(G16+H16),2) -> 0 | J16: =ROUND(F16*(N16),2) -> 2 | K16: =ROUND(F16*(O16),2) -> 0 | L16: =ROUND(F16*(G16),2) -> 0 | N16: 2 | Z16: 0
B17: 921/M21 | C17: 210110044 | D17: Spínač polozapustený a zapustený vrátane zapojenia dvojitý prep.stried. - radenie 5 B | E17: ks | F17: 2 | I17: =ROUND(F17*(G17+H17),2) -> 0 | J17: =ROUND(F17*(N17),2) -> 7.98 | K17: =ROUND(F17*(O17),2) -> 0 | L17: =ROUND(F17*(G17),2) -> 0 | N17: 3.99 | Z17: 0
B18: 921/M21 | C18: 210110512 | D18: Prepínač vačkový v kryte S 25 VP, VL 03,04,05,06 | E18: ks | F18: 3 | I18: =ROUND(F18*(G18+H18),2) -> 0 | J18: =ROUND(F18*(N18),2) -> 23.97 | K18: =ROUND(F18*(O18),2) -> 0 | L18: =ROUND(F18*(G18),2) -> 0 | N18: 7.99 | Z18: 0
B19: 921/M21 | C19: 210111012 | D19: Domová zásuvka polozapustená alebo zapustená, 10/16 A 250 V 2P + Z 2 x zapojenie | E19: ks | F19: 9 | I19: =ROUND(F19*(G19+H19),2) -> 0 | J19: =ROUND(F19*(N19),2) -> 34.83 | K19: =ROUND(F19*(O19),2) -> 0 | L19: =ROUND(F19*(G19),2) -> 0 | N19: 3.87 | Z19: 0
B20: 921/M21 | C20: 210111021 | D20: Domová zásuvka v krabici obyč. alebo do vlhka, vrátane zapojenia 10/16 A 250 V 2P + Z | E20: ks | F20: 12 | I20: =ROUND(F20*(G20+H20),2) -> 0 | J20: =ROUND(F20*(N20),2) -> 60.48 | K20: =ROUND(F20*(O20),2) -> 0 | L20: =ROUND(F20*(G20),2) -> 0 | N20: 5.04 | Z20: 0
B21: 921/M21 | C21: 210120404 | D21: Istič vzduchový trojpólový do 63 A | E21: ks | F21: 1 | I21: =ROUND(F21*(G21+H21),2) -> 0 | J21: =ROUND(F21*(N21),2) -> 6.26 | K21: =ROUND(F21*(O21),2) -> 0 | L21: =ROUND(F21*(G21),2) -> 0 | N21: 6.26 | Z21: 0
B22: 921/M21 | C22: 210190002 | D22: Montáž oceľoplechovej rozvodnice do váhy 50 kg | E22: ks | F22: 1 | I22: =ROUND(F22*(G22+H22),2) -> 0 | J22: =ROUND(F22*(N22),2) -> 21.38 | K22: =ROUND(F22*(O22),2) -> 0 | L22: =ROUND(F22*(G22),2) -> 0 | N22: 21.38 | Z22: 0
... B52: R/RE | C52: 358220042500 | D52: Istič 3P, charakteristika B, 25 A, 6000 A, 3 moduly | E52: ks | F52: 1 | I52: =ROUND(F52*(G52+H52),2) -> 0 | J52: =ROUND(F52*(N52),2) -> 12.38 | K52: =ROUND(F52*(O52),2) -> 0 | L52: =ROUND(F52*(G52),2) -> 0 | N52: 12.38 | Z52: 0
B53: S/S30 | C53: 3410300258 | D53: Krabica odbočná krabica + veko šedá KO 125 E KA | E53: ks | F53: 1 | I53: =ROUND(F53*(G53+H53),2) -> 0 | J53: =ROUND(F53*(N53),2) -> 2.22 | K53: =ROUND(F53*(O53),2) -> 0 | M53: =ROUND(F53*(G53),2) -> 0 | N53: 2.22 | P53: =ROUND(F53*(R53),3) -> 0 | R53: 0.00021 | Z53: 0
B54: S/S30 | C54: 3410301603 | D54: Svorkovnica ekvipotencionálna EPS 2 | E54: ks | F54: 1 | I54: =ROUND(F54*(G54+H54),2) -> 0 | J54: =ROUND(F54*(N54),2) -> 13.82 | K54: =ROUND(F54*(O54),2) -> 0 | M54: =ROUND(F54*(G54),2) -> 0 | N54: 13.82 | P54: =ROUND(F54*(R54),3) -> 0 | R54: 5e-05 | Z54: 0
B55: S/S30 | C55: 3450202870 | D55: Prístroj jednopólového spínača radenie 1, 10 A, 230 V | E55: ks | F55: 6 | I55: =ROUND(F55*(G55+H55),2) -> 0 | J55: =ROUND(F55*(N55),2) -> 14.34 | K55: =ROUND(F55*(O55),2) -> 0 | M55: =ROUND(F55*(G55),2) -> 0 | N55: 2.39 | Z55: 0
B56: S/S30 | C56: 3450202940 | D56: Prístroj sériového prepínača radenie 5A, 10 A, 230 V | E56: ks | F56: 1 | I56: =ROUND(F56*(G56+H56),2) -> 0 | J56: =ROUND(F56*(N56),2) -> 4.01 | K56: =ROUND(F56*(O56),2) -> 0 | M56: =ROUND(F56*(G56),2) -> 0 | N56: 4.01 | Z56: 0
B57: S/S30 | C57: 3450202950 | D57: Prístroj prepínača radenie 6, 10 A, 230 V | E57: ks | F57: 2 | I57: =ROUND(F57*(G57+H57),2) -> 0 | J57: =ROUND(F57*(N57),2) -> 8.14 | K57: =ROUND(F57*(O57),2) -> 0 | M57: =ROUND(F57*(G57),2) -> 0 | N57: 4.07 | Z57: 0
B58: S/S30 | C58: 3450203660 | D58: Kryt kolísky, radenie 1,6,7, B biely | E58: ks | F58: 6 | I58: =ROUND(F58*(G58+H58),2) -> 0 | J58: =ROUND(F58*(N58),2) -> 5.7 | K58: =ROUND(F58*(O58),2) -> 0 | M58: =ROUND(F58*(G58),2) -> 0 | N58: 0.95 | Z58: 0
B59: S/S30 | C59: 3450204730 | D59: Kryt kolísky delený B1 lesklý biely | E59: ks | F59: 1 | I59: =ROUND(F59*(G59+H59),2) -> 0 | J59: =ROUND(F59*(N59),2) -> 0.97 | K59: =ROUND(F59*(O59),2) -> 0 | M59: =ROUND(F59*(G59),2) -> 0 | N59: 0.97 | Z59: 0
B60: S/S30 | C60: 3450204730 | D60: Kryt kolísky delený B1 lesklý biely | E60: ks | F60: 2 | I60: =ROUND(F60*(G60+H60),2) -> 0 | J60: =ROUND(F60*(N60),2) -> 1.94 | K60: =ROUND(F60*(O60),2) -> 0 | M60: =ROUND(F60*(G60),2) -> 0 | N60: 0.97 | Z60: 0
B61: S/S30 | C61: 3450204890 | D61: Jednorámček B biely | E61: ks | F61: 6 | I61: =ROUND(F61*(G61+H61),2) -> 0 | J61: =ROUND(F61*(N61),2) -> 3.48 | K61: =ROUND(F61*(O61),2) -> 0 | M61: =ROUND(F61*(G61),2) -> 0 | N61: 0.58 | Z61: 0
B62: S/S30 | C62: 3450204890 | D62: Jednorámček B biely | E62: ks | F62: 1 | I62: =ROUND(F62*(G62+H62),2) -> 0 | J62: =ROUND(F62*(N62),2) -> 0.58 | K62: =ROUND(F62*(O62),2) -> 0 | M62: =ROUND(F62*(G62),2) -> 0 | N62: 0.58 | Z62: 0
B63: S/S30 | C63: 3450204890 | D63: Jednorámček B biely | E63: ks | F63: 2 | I63: =ROUND(F63*(G63+H63),2) -> 0 | J63: =ROUND(F63*(N63),2) -> 1.16 | K63: =ROUND(F63*(O63),2) -> 0 | M63: =ROUND(F63*(G63),2) -> 0 | N63: 0.58 | Z63: 0
B64: S/S30 | C64: 3450324600 | D64: Zásuvka dvojnásobná s clonkami | E64: ks | F64: 9 | I64: =ROUND(F64*(G64+H64),2) -> 0 | J64: =ROUND(F64*(N64),2) -> 28.35 | K64: =ROUND(F64*(O64),2) -> 0 | M64: =ROUND(F64*(G64),2) -> 0 | N64: 3.15 | P64: =ROUND(F64*(R64),3) -> 0.001 | R64: 0.0001 | Z64: 0
B65: S/S30 | C65: 3450365060 | D65: Jednozásuvka do vlhka | E65: ks | F65: 12 | I65: =ROUND(F65*(G65+H65),2) -> 0 | J65: =ROUND(F65*(N65),2) -> 36.96 | K65: =ROUND(F65*(O65),2) -> 0 | M65: =ROUND(F65*(G65),2) -> 0 | N65: 3.08 | P65: =ROUND(F65*(R65),3) -> 0.001 | R65: 8e-05 | Z65: 0
B66: S/S30 | C66: 3450906510 | D66: Krabica prístrojová | E66: ks | F66: 30 | I66: =ROUND(F66*(G66+H66),2) -> 0 | J66: =ROUND(F66*(N66),2) -> 4.5 | K66: =ROUND(F66*(O66),2) -> 0 | M66: =ROUND(F66*(G66),2) -> 0 | N66: 0.15 | Z66: 0
B67: S/S30 | C67: 3450907510 | D67: Krabica odbočná s viečkom | E67: ks | F67: 15 | I67: =ROUND(F67*(G67+H67),2) -> 0 | J67: =ROUND(F67*(N67),2) -> 17.7 | K67: =ROUND(F67*(O67),2) -> 0 | M67: =ROUND(F67*(G67),2) -> 0 | N67: 1.18 | Z67: 0
B68: S/S30 | C68: 3580262500 | D68: Spínač S 25 VL 03 | E68: ks | F68: 3 | I68: =ROUND(F68*(G68+H68),2) -> 0 | J68: =ROUND(F68*(N68),2) -> 146.34 | K68: =ROUND(F68*(O68),2) -> 0 | M68: =ROUND(F68*(G68),2) -> 0 | N68: 48.78 | Z68: 0
B69: P/PE | C69: MV | D69: Murárske výpomoci | E69: % | F69: 1 | I69: =ROUND(F69*(G69+H69),2) -> 0 | J69: =ROUND(F69*(N69),2) -> 30.03 | K69: =ROUND(F69*(O69),2) -> 0 | M69: =ROUND(F69*(G69),2) -> 0 | N69: 30.03 | Z69: 0
B70: P/PE | C70: PM | D70: Podružný materiál | E70: % | F70: 3 | I70: =ROUND(F70*(G70+H70),2) -> 0 | J70: =ROUND(F70*(N70),2) -> 90.09 | K70: =ROUND(F70*(O70),2) -> 0 | M70: =ROUND(F70*(G70),2) -> 0 | N70: 30.03 | Z70: 0
...

Sheet Kryci_list 12922
F1: Krycí list rozpočtu | W1: 30.126
