Workbook

Sheet Rekapitulácia
A2: Rekapitulácia rozpočtu | F2: Sadzby DPH
A3: Stavba Čičava - oplotenie cintorína | F3: A | G3: B
F4: 0.2 | G4: 0
A6: Názov objektu | B6: ZRN | C6: VRN % | D6: HZS | E6: Kompl.čin. | F6: Ost. náklady | G6: Cena
A7: Vlastný | B7: ='SO 14986'!I127-Rekapitulácia!D7 -> 0 | C7: ='SO 14986'!P25 -> 0 | D7: 0 | E7: ='SO 14986'!P16 -> 0 | F7: 0 | G7: =B7+C7+D7+E7+F7 -> 0 | K7: ='SO 14986'!K127 -> 0 | Q7: 30.126
A8: Celkom bez DPH | B8: =SUM(B7:B7) -> 0 | C8: =SUM(C7:C7) -> 0 | D8: =SUM(D7:D7) -> 0 | E8: =SUM(E7:E7) -> 0 | F8: =SUM(F7:F7) -> 0 | G8: =SUM(G7:G7)-SUM(Z7:Z7) -> 0
A9: DPH 20% z | B9: =G8-SUM(Rekapitulácia!K7:'Rekapitulácia'!K7)*1 -> 0 | G9: =ROUND(((ROUND(B9,2)*20)/100),2)*1 -> 0
A10: DPH 0% z | B10: =(G8-B9) -> 0 | G10: =ROUND(((ROUND(B10,2)*0)/100),2) -> 0
A11: Celkom v EUR | G11: =SUM(G8:G10) -> 0

Sheet SO 14986
B1: Krycí list rozpočtu | E1: Rekapitulácia rozpočtu | H1: Rozpočet | W1: 30.126
B2: Krycí list rozpočtu
B3: Stavba Čičava - oplotenie cintorína
B4: Objekt Vlastný | F4: Miesto:
F5: Ks:
B6: Zákazka: | D6: Spracoval: Ing. Ján Halgaš | F6: Dňa | G6: 4. 9. 2020
B7: Odberateľ: Obec Čičava
B8: IČO: | F8: DIČ:
B9: Projektant:
B10: IČO: | F10: DIČ:
B11: Dodávateľ:
B12: IČO: | F12: DIČ:
B14: ZRN | C14: Montáž | D14: Materiál | E14: ZRN spolu | F14: Ďalšie náklady
B15: HSV | C15: ='SO 14986'!E60 -> 0 | D15: ='SO 14986'!F60 -> 0 | E15: ='SO 14986'!G60 -> 0 | F15: Ostatné náklady | P15: 0
B16: PSV | C16: ='SO 14986'!E64 -> 0 | D16: ='SO 14986'!F64 -> 0 | E16: ='SO 14986'!G64 -> 0 | F16: Komplet. činnosť | P16: =(SUM(Z81:Z126)) -> 0
B17: MONT | F17: HZS | P17: 0
B18: VRN
B19: Spolu | E19: =SUM(E15:E18) -> 0 | F19: Spolu | P19: =SUM(P15:P18) -> 0
B20: VRN | F20: VRN
B21: Zariadenie staveniska 0% | E21: =((E15*U22*0)+(E16*V22*0)+(E17*W22*0))/100 -> 0 | F21: Sťažené podmienky dopravy 0% | P21: =((E15*X22*0)+(E16*Y22*0)+(E17*Z22*0))/100 -> 0
B22: Sťažené výrobné podmienky 0% | E22: =((E15*U23*0)+(E16*V23*0)+(E17*W23*0))/100 -> 0 | F22: Horské oblasti 0% | P22: =((E15*X23*0)+(E16*Y23*0)+(E17*Z23*0))/100 -> 0 | U22: 1 | V22: 1 | W22: 1 | X22: 1 | Y22: 1 | Z22: 1
B23: Prevádzkové vplyvy 0% | E23: =((E15*U24*0)+(E16*V24*0)+(E17*W24*0))/100 -> 0 | F23: Mimostavenisková doprava 0% | P23: =((E15*X24*0)+(E16*Y24*0)+(E17*Z24*0))/100 -> 0 | U23: 1 | V23: 1 | W23: 0 | X23: 1 | Y23: 1 | Z23: 1
U24: 1 | V24: 1 | W24: 1 | X24: 1 | Y24: 1 | Z24: 0
F25: Spolu | P25: =SUM(E21:E24)+SUM(P21:P24) -> 0
B26: Projektant,rozpočtár | F26: Celkové náklady
F27: Celkové náklady bez DPH | P27: =E19+P19+E25+P25 -> 0
F28: DPH 20% z | H28: =P27-SUM('SO 14986'!K81:'SO 14986'!K126) -> 0 | P28: =ROUND(((ROUND(H28,2)*20)*1/100),2) -> 0
F29: DPH 0% z | H29: =SUM('SO 14986'!K81:'SO 14986'!K126) -> 0 | P29: =ROUND(((ROUND(H29,2)*0)/100),2) -> 0
F30: Spolu v EUR | P30: =SUM(P27:P29) -> 0
B32: Odberateľ | E32: Dodávateľ
B44: Rekapitulácia rozpočtu
B46: Odberateľ: Obec Čičava | F46: Spracoval: Ing. Ján Halgaš
B47: Projektant: | F47: Ks:
B48: Dodávateľ: | F48: Dátum: 4. 9. 2020
B49: Stavba Čičava - oplotenie cintorína
B50: Objekt Vlastný
B53: Prehľad rozpočtových nákladov
B54: Oddiel | E54: Montáž | F54: Materiál | G54: Spolu | H54: Hmotnosť (T) | I54: Suť (T)
B55: Práce HSV
B56: ZEMNÉ PRÁCE | E56: ='SO 14986'!L89 -> 0 | F56: ='SO 14986'!M89 -> 0 | G56: ='SO 14986'!I89 -> 0 | H56: ='SO 14986'!S89 -> 0 | I56: ='SO 14986'!V89 -> 0
B57: ZÁKLADY | E57: ='SO 14986'!L99 -> 0 | F57: ='SO 14986'!M99 -> 0 | G57: ='SO 14986'!I99 -> 0 | H57: ='SO 14986'!S99 -> 83.22 | I57: ='SO 14986'!V99 -> 0
B58: ZVISLÉ KONŠTRUKCIE | E58: ='SO 14986'!L110 -> 0 | F58: ='SO 14986'!M110 -> 0 | G58: ='SO 14986'!I110 -> 0 | H58: ='SO 14986'!S110 -> 90.69 | I58: ='SO 14986'!V110 -> 0
B59: PRESUNY HMÔT | E59: ='SO 14986'!L114 -> 0 | F59: ='SO 14986'!M114 -> 0 | G59: ='SO 14986'!I114 -> 0 | H59: ='SO 14986'!S114 -> 0 | I59: ='SO 14986'!V114 -> 0
B60: Práce HSV | E60: ='SO 14986'!L116 -> 0 | F60: ='SO 14986'!M116 -> 0 | G60: ='SO 14986'!I116 -> 0 | H60: ='SO 14986'!S116 -> 173.91 | I60: ='SO 14986'!V116 -> 0
B62: Práce PSV
B63: KOVOVÉ DOPLNKOVÉ KONŠTRUKCIE | E63: ='SO 14986'!L124 -> 0 | F63: ='SO 14986'!M124 -> 0 | G63: ='SO 14986'!I124 -> 0 | H63: ='SO 14986'!S124 -> 0.27 | I63: ='SO 14986'!V124 -> 0
B64: Práce PSV | E64: ='SO 14986'!L126 -> 0 | F64: ='SO 14986'!M126 -> 0 | G64: ='SO 14986'!I126 -> 0 | H64: ='SO 14986'!S126 -> 0.27 | I64: ='SO 14986'!V126 -> 0
B66: Celkom v EUR | E66: ='SO 14986'!L127 -> 0 | F66: ='SO 14986'!M127 -> 0 | G66: ='SO 14986'!I127 -> 0 | H66: ='SO 14986'!S127 -> 174.18 | I66: ='SO 14986'!V127 -> 0
B70: Rozpočet
B72: Odberateľ: Obec Čičava | H72: Spracoval: | I72: Ing. Ján Halgaš
B73: Projektant: | H73: Ks:
B74: Dodávateľ: | H74: Dátum: | I74: 4. 9. 2020
B75: Zákazka Čičava - oplotenie cintorína
B76: Objekt Vlastný
B79: Prehľad rozpočtových nákladov
B80: Por.č. | C80: Kód položky | D80: Názov | F80: Mj | G80: Množstvo | H80: Cena/Mj | I80: Cena celkom | P80: Hmotnosť/Mj | S80: Hmotnosť | V80: Suť
D81: Práce HSV
C82: 1 | D82: ZEMNÉ PRÁCE
B83: 1 | C83: 132201101 | D83: Výkop ryhy do šírky 600 mm v horn.3 do 100 m3 | F83: m3 | G83: 7.92 | I83: =ROUND(G83*(H83),2) -> 0 | J83: =ROUND(G83*(N83),2) -> 209.48 | K83: =ROUND(G83*(O83),2) -> 0 | L83: =ROUND(G83*(H83),2) -> 0 | N83: 26.45 | S83: =ROUND(G83*(P83),3) -> 0 | Z83: 0
B84: 2 | C84: 132201109 | D84: Príplatok k cene za lepivosť horniny 3 | F84: m3 | G84: 3.96 | I84: =ROUND(G84*(H84),2) -> 0 | J84: =ROUND(G84*(N84),2) -> 29.62 | K84: =ROUND(G84*(O84),2) -> 0 | L84: =ROUND(G84*(H84),2) -> 0 | N84: 7.48 | S84: =ROUND(G84*(P84),3) -> 0 | Z84: 0
B85: 3 | C85: 133201101 | D85: Výkop šachty hornina 3 do 100 m3 | F85: m3 | G85: 21.456 | I85: =ROUND(G85*(H85),2) -> 0 | J85: =ROUND(G85*(N85),2) -> 865.11 | K85: =ROUND(G85*(O85),2) -> 0 | L85: =ROUND(G85*(H85),2) -> 0 | N85: 40.32 | S85: =ROUND(G85*(P85),3) -> 0 | Z85: 0
B86: 4 | C86: 133201109 | D86: Príplatok k cenám za lepivosť horniny | F86: m3 | G86: 10.728 | I86: =ROUND(G86*(H86),2) -> 0 | J86: =ROUND(G86*(N86),2) -> 59 | K86: =ROUND(G86*(O86),2) -> 0 | L86: =ROUND(G86*(H86),2) -> 0 | N86: 5.5 | S86: =ROUND(G86*(P86),3) -> 0 | Z86: 0
B87: 5 | C87: 162301101 | D87: Vodorovné premiestnenie výkopku tr.1-4 do 500 m | F87: m3 | G87: 29.376 | I87: =ROUND(G87*(H87),2) -> 0 | J87: =ROUND(G87*(N87),2) -> 56.4 | K87: =ROUND(G87*(O87),2) -> 0 | L87: =ROUND(G87*(H87),2) -> 0 | N87: 1.92 | S87: =ROUND(G87*(P87),3) -> 0 | Z87: 0
B88: 6 | C88: 171201101 | D88: Uloženie sypaniny do násypov s rozprestretím sypaniny vo vrstvách a s hrubým urovnaním nezhutnených | F88: m3 | G88: 29.376 | I88: =ROUND(G88*(H88),2) -> 0 | J88: =ROUND(G88*(N88),2) -> 30.84 | K88: =ROUND(G88*(O88),2) -> 0 | L88: =ROUND(G88*(H88),2) -> 0 | N88: 1.05 | S88: =ROUND(G88*(P88),3) -> 0 | Z88: 0
C89: 1 | D89: ZEMNÉ PRÁCE | I89: =ROUND((SUM(I82:I88))/1,2) -> 0 | L89: =ROUND((SUM(L82:L88))/1,2) -> 0 | M89: =ROUND((SUM(M82:M88))/1,2) -> 0 | S89: =ROUND((SUM(S82:S88))/1,2) -> 0 | V89: =ROUND((SUM(V82:V88))/1,2) -> 0
C91: 2 | D91: ZÁKLADY
B92: 7 | C92: 271571111 | D92: Vankúše zhutnené pod základy zo štrkopiesku | F92: m3 | G92: 3.264 | I92: =ROUND(G92*(H92),2) -> 0 | J92: =ROUND(G92*(N92),2) -> 92.99 | K92: =ROUND(G92*(O92),2) -> 0 | L92: =ROUND(G92*(H92),2) -> 0 | N92: 28.49 | P92: 1.93971 | R92: 1.93971 | S92: =ROUND(G92*(P92),3) -> 6.331 | Z92: 0
B93: 8 | C93: 274271303 | D93: Premac alebo ekvivalent Murivo základových pásov z betónových tvárnic hr. 250 mm a s betónovou výplňou | F93: m3 | G93: 5.5 | I93: =ROUND(G93*(H93),2) -> 0 | J93: =ROUND(G93*(N93),2) -> 894.19 | K93: =ROUND(G93*(O93),2) -> 0 | L93: =ROUND(G93*(H93),2) -> 0 | N93: 162.58 | P93: 2.01285 | R93: 2.01285 | S93: =ROUND(G93*(P93),3) -> 11.071 | Z93: 0
B94: 9 | C94: 274313611 | D94: Betón základových pásov prostý triedy C16/20 | F94: m3 | G94: 7.286 | I94: =ROUND(G94*(H94),2) -> 0 | J94: =ROUND(G94*(N94),2) -> 629.22 | K94: =ROUND(G94*(O94),2) -> 0 | L94: =ROUND(G94*(H94),2) -> 0 | N94: 86.36 | P94: 2.4179 | R94: 2.4179 | S94: =ROUND(G94*(P94),3) -> 17.617 | Z94: 0
B95: 10 | C95: 274361825 | D95: Premac alebo ekvivalent Výstuž z ocele 10 505 pre murivo základových pásov z betónových tvárnic a s betónovou výplňou | F95: t | G95: 0.193 | I95: =ROUND(G95*(H95),2) -> 0 | J95: =ROUND(G95*(N95),2) -> 119.52 | K95: =ROUND(G95*(O95),2) -> 0 | L95: =ROUND(G95*(H95),2) -> 0 | N95: 619.27 | P95: 1.002 | R95: 1.002 | S95: =ROUND(G95*(P95),3) -> 0.193 | Z95: 0
B96: 11 | C96: 275313611 | D96: Betón základových pätiek, prostý tr.C 16/20 | F96: m3 | G96: 19.74 | I96: =ROUND(G96*(H96),2) -> 0 | J96: =ROUND(G96*(N96),2) -> 1701.98 | K96: =ROUND(G96*(O96),2) -> 0 | L96: =ROUND(G96*(H96),2) -> 0 | N96: 86.22 | P96: 2.4193211 | R96: 2.4193211 | S96: =ROUND(G96*(P96),3) -> 47.757 | Z96: 0
B97: 12 | C97: 275351217 | D97: Debnenie základových pätiek, zhotovenie-tradičné | F97: m2 | G97: 59.6 | I97: =ROUND(G97*(H97),2) -> 0 | J97: =ROUND(G97*(N97),2) -> 1021.54 | K97: =ROUND(G97*(O97),2) -> 0 | L97: =ROUND(G97*(H97),2) -> 0 | N97: 17.14 | P97: 0.004131176 | R97: 0.004131176 | S97: =ROUND(G97*(P97),3) -> 0.246 | Z97: 0
B98: 13 | C98: 275351218 | D98: Debnenie základových pätiek, odstránenie-tradičné | F98: m2 | G98: 59.6 | I98: =ROUND(G98*(H98),2) -> 0 | J98: =ROUND(G98*(N98),2) -> 356.41 | K98: =ROUND(G98*(O98),2) -> 0 | L98: =ROUND(G98*(H98),2) -> 0 | N98: 5.98 | S98: =ROUND(G98*(P98),3) -> 0 | Z98: 0
C99: 2 | D99: ZÁKLADY | I99: =ROUND((SUM(I91:I98))/1,2) -> 0 | L99: =ROUND((SUM(L91:L98))/1,2) -> 0 | M99: =ROUND((SUM(M91:M98))/1,2) -> 0 | S99: =ROUND((SUM(S91:S98))/1,2) -> 83.22 | V99: =ROUND((SUM(V91:V98))/1,2) -> 0
C101: 3 | D101: ZVISLÉ KONŠTRUKCIE
B102: 14 | C102: 338121111 | D102: Osadenie stĺpika plotového železobetónového prefabrikovaného plného alebo s drážkami v do 270 cm | F102: ks | G102: 149 | I102: =ROUND(G102*(H102),2) -> 0 | J102: =ROUND(G102*(N102),2) -> 1363.35 | K102: =ROUND(G102*(O102),2) -> 0 | L102: =ROUND(G102*(H102),2) -> 0 | N102: 9.15 | S102: =ROUND(G102*(P102),3) -> 0 | Z102: 0
B103: 15 | C103: 338171111 | D103: Osadenie stĺpika oceľového plotového do výšky 2.00m so zaliatím cement. maltou | F103: ks | G103: 10 | I103: =ROUND(G103*(H103),2) -> 0 | J103: =ROUND(G103*(N103),2) -> 48.1 | K103: =ROUND(G103*(O103),2) -> 0 | L103: =ROUND(G103*(H103),2) -> 0 | N103: 4.81 | P103: 0.00423 | R103: 0.00423 | S103: =ROUND(G103*(P103),3) -> 0.042 | Z103: 0
B104: 16 | C104: 348121121 | D104: Osadenie dosky plotovej železobetónovej prefabrikovanej 200x50 cm | F104: ks | G104: 596 | I104: =ROUND(G104*(H104),2) -> 0 | J104: =ROUND(G104*(N104),2) -> 3045.56 | K104: =ROUND(G104*(O104),2) -> 0 | L104: =ROUND(G104*(H104),2) -> 0 | N104: 5.11 | P104: 0.0063381 | R104: 0.0063381 | S104: =ROUND(G104*(P104),3) -> 3.778 | Z104: 0
B105: 17 | C105: 5535850004,1 | D105: Stĺpik 60x40 mm, výška:1,50 m, pre osadenie do betónových pätiek | F105: ks | G105: 10 | I105: =ROUND(G105*(H105),2) -> 0 | J105: =ROUND(G105*(N105),2) -> 98 | K105: =ROUND(G105*(O105),2) -> 0 | M105: =ROUND(G105*(H105),2) -> 0 | N105: 9.8 | S105: =ROUND(G105*(P105),3) -> 0 | Z105: 0
B106: 18 | C106: 5923112000 | D106: Stĺpik plotový hladký priebežný 275 cm s výstužou | F106: ks | G106: 144 | I106: =ROUND(G106*(H106),2) -> 0 | J106: =ROUND(G106*(N106),2) -> 3888 | K106: =ROUND(G106*(O106),2) -> 0 | M106: =ROUND(G106*(H106),2) -> 0 | N106: 27 | P106: 0.101 | R106: 0.101 | S106: =ROUND(G106*(P106),3) -> 14.544 | Z106: 0
B107: 19 | C107: 5923113500 | D107: Stĺpik plotový hladký koncový 275 cm s výstužou | F107: ks | G107: 1 | I107: =ROUND(G107*(H107),2) -> 0 | J107: =ROUND(G107*(N107),2) -> 35.6 | K107: =ROUND(G107*(O107),2) -> 0 | M107: =ROUND(G107*(H107),2) -> 0 | N107: 35.6 | P107: 0.114 | R107: 0.114 | S107: =ROUND(G107*(P107),3) -> 0.114 | Z107: 0
B108: 20 | C108: 5923114000 | D108: Stĺpik plotový hladký rohový 275 cm s výstužou | F108: ks | G108: 4 | I108: =ROUND(G108*(H108),2) -> 0 | J108: =ROUND(G108*(N108),2) -> 165 | K108: =ROUND(G108*(O108),2) -> 0 | M108: =ROUND(G108*(H108),2) -> 0 | N108: 41.25 | P108: 0.173 | R108: 0.173 | S108: =ROUND(G108*(P108),3) -> 0.692 | Z108: 0
B109: 21 | C109: 5923334500 | D109: Betónová plotová doska jednostranná, kameň, 200x50x4,5 cm, min. 3x výstuž | F109: ks | G109: 596 | I109: =ROUND(G109*(H109),2) -> 0 | J109: =ROUND(G109*(N109),2) -> 14304 | K109: =ROUND(G109*(O109),2) -> 0 | M109: =ROUND(G109*(H109),2) -> 0 | N109: 24 | P109: 0.12 | R109: 0.12 | S109: =ROUND(G109*(P109),3) -> 71.52 | Z109: 0
C110: 3 | D110: ZVISLÉ KONŠTRUKCIE | I110: =ROUND((SUM(I101:I109))/1,2) -> 0 | L110: =ROUND((SUM(L101:L109))/1,2) -> 0 | M110: =ROUND((SUM(M101:M109))/1,2) -> 0 | S110: =ROUND((SUM(S101:S109))/1,2) -> 90.69 | V110: =ROUND((SUM(V101:V109))/1,2) -> 0
C112: 99 | D112: PRESUNY HMÔT
B113: 22 | C113: 998152121 | D113: Presun hmôt pre obj.8152,8153,8159,zvislá nosná konštr.monolitická betónová, výška do 3 m | F113: t | G113: 173.905 | I113: =ROUND(G113*(H113),2) -> 0 | J113: =ROUND(G113*(N113),2) -> 1248.64 | K113: =ROUND(G113*(O113),2) -> 0 | L113: =ROUND(G113*(H113),2) -> 0 | N113: 7.18 | S113: =ROUND(G113*(P113),3) -> 0 | Z113: 0
C114: 99 | D114: PRESUNY HMÔT | I114: =ROUND((SUM(I112:I113))/1,2) -> 0 | L114: =ROUND((SUM(L112:L113))/1,2) -> 0 | M114: =ROUND((SUM(M112:M113))/1,2) -> 0 | S114: =ROUND((SUM(S112:S113))/1,2) -> 0 | V114: =ROUND((SUM(V112:V113))/1,2) -> 0
D116: Práce HSV | I116: =ROUND((SUM(I81:I115))/2,2) -> 0 | L116: =ROUND((SUM(L81:L115))/2,2) -> 0 | M116: =ROUND((SUM(M81:M115))/2,2) -> 0 | S116: =ROUND((SUM(S81:S115))/2,2) -> 173.91 | V116: =ROUND((SUM(V81:V115))/2,2) -> 0
D118: Práce PSV
C119: 767 | D119: KOVOVÉ DOPLNKOVÉ KONŠTRUKCIE
B120: 23 | C120: 998767101 | D120: Presun hmôt pre kovové stavebné doplnkové konštrukcie v objektoch výšky do 6 m | F120: t | G120: 0.27 | I120: =ROUND(G120*(H120),2) -> 0 | J120: =ROUND(G120*(N120),2) -> 11.09 | K120: =ROUND(G120*(O120),2) -> 0 | L120: =ROUND(G120*(H120),2) -> 0 | N120: 41.07 | S120: =ROUND(G120*(P120),3) -> 0 | Z120: 0
B121: 24 | C121: 767916330 | D121: Montáž oplotenia panelového, poplastovaného na pozinkovanej oceli na stĺpiky, výšky do 1,5 m | F121: m | G121: 22.5 | I121: =ROUND(G121*(H121),2) -> 0 | J121: =ROUND(G121*(N121),2) -> 125.1 | K121: =ROUND(G121*(O121),2) -> 0 | L121: =ROUND(G121*(H121),2) -> 0 | N121: 5.56 | S121: =ROUND(G121*(P121),3) -> 0 | Z121: 0
B122: 25 | C122: 5535850037,1 | D122: Plotový dielec - zvarané siete 1030x2500 mm, oko 50/200 | F122: ks | G122: 9 | I122: =ROUND(G122*(H122),2) -> 0 | J122: =ROUND(G122*(N122),2) -> 288.9 | K122: =ROUND(G122*(O122),2) -> 0 | M122: =ROUND(G122*(H122),2) -> 0 | N122: 32.1 | P122: 0.03 | R122: 0.03 | S122: =ROUND(G122*(P122),3) -> 0.27 | Z122: 0
B123: 26 | C123: 5535850038,1 | D123: Plotový dielec - uchytky 60/40 mm | F123: ks | G123: 24 | I123: =ROUND(G123*(H123),2) -> 0 | J123: =ROUND(G123*(N123),2) -> 60 | K123: =ROUND(G123*(O123),2) -> 0 | M123: =ROUND(G123*(H123),2) -> 0 | N123: 2.5 | S123: =ROUND(G123*(P123),3) -> 0 | Z123: 0
C124: 767 | D124: KOVOVÉ DOPLNKOVÉ KONŠTRUKCIE | I124: =ROUND((SUM(I119:I123))/1,2) -> 0 | L124: =ROUND((SUM(L119:L123))/1,2) -> 0 | M124: =ROUND((SUM(M119:M123))/1,2) -> 0 | S124: =ROUND((SUM(S119:S123))/1,2) -> 0.27 | V124: =ROUND((SUM(V119:V123))/1,2) -> 0
D126: Práce PSV | I126: =ROUND((SUM(I118:I125))/2,2) -> 0 | L126: =ROUND((SUM(L118:L125))/2,2) -> 0 | M126: =ROUND((SUM(M118:M125))/2,2) -> 0 | S126: =ROUND((SUM(S118:S125))/2,2) -> 0.27 | V126: =ROUND((SUM(V118:V125))/2,2) -> 0
D127: Celkom v EUR | I127: =ROUND((SUM(I81:I126))/3,2) -> 0 | K127: =ROUND((SUM(K81:K126))/3,2) -> 0 | L127: =ROUND((SUM(L81:L126))/3,2) -> 0 | M127: =ROUND((SUM(M81:M126))/3,2) -> 0 | S127: =ROUND((SUM(S81:S126))/3,2) -> 174.18 | V127: =ROUND((SUM(V81:V126))/3,2) -> 0 | Z127: =(SUM(Z81:Z126)) -> 0
