Workbook

Sheet Rekapitulácia
A2: Rekapitulácia rozpočtu | F2: Sadzby DPH
F3: A | G3: B
A4: Stavba Oprava miestnej komunikácie v obci Čičava | F4: 0.2 | G4: 0
A6: Názov objektu | B6: ZRN | C6: VRN | D6: HZS | E6: Kompl.čin. | F6: Ost. náklady | G6: Cena
A7: Vlastný | B7: ='SO 11106'!I55-Rekapitulácia!D7 -> 0 | C7: ='Kryci_list 11106'!J26 -> 0 | D7: 0 | E7: ='Kryci_list 11106'!J17 -> 0 | F7: 0 | G7: =B7+C7+D7+E7+F7 -> 0 | K7: ='SO 11106'!K55 -> 0 | Q7: 30.126
A8: Celkom bez DPH | B8: =SUM(B7:B7) -> 0 | C8: =SUM(C7:C7) -> 0 | D8: =SUM(D7:D7) -> 0 | E8: =SUM(E7:E7) -> 0 | F8: =SUM(F7:F7) -> 0 | G8: =SUM(G7:G7)-SUM(Z7:Z7) -> 0
A9: DPH 20% z | B9: =G8-SUM(Rekapitulácia!K7:'Rekapitulácia'!K7) -> 0 | G9: =ROUND(((ROUND(B9,2)*20)/100),2) -> 0
A10: DPH 0% z | B10: =(G8-B9) -> 0 | G10: =ROUND(((ROUND(B10,2)*0)/100),2) -> 0
A11: Celkom | G11: =SUM(G8:G10) -> 0

Sheet Krycí list stavby
F1: Krycí list stavby | W1: 30.126
B2: Stavba Oprava miestnej komunikácie v obci Čičava | G2: Miesto:
G3: Ks:
B5: Zákazka: | F5: Spracoval: | I5: Dňa | J5: 19.05.2016
B6: Odberateľ: Obec Čičava | G6: IČO:
G7: DIČ:
B8: Dodávateľ: | G8: IČO:
G9: DIČ:
B10: Projektant: | G10: IČO:
G11: DIČ:
B15: A | C15: ZRN | D15: Montáž | E15: Materiál | F15: ZRN spolu | G15: B | H15: Ďalšie náklady
B16: 1 | C16: HSV | D16: ='Kryci_list 11106'!D16 -> 0 | E16: ='Kryci_list 11106'!E16 -> 0 | F16: ='Kryci_list 11106'!F16 -> 0 | G16: 6 | H16: Ostatné náklady | J16: =Rekapitulácia!F8 -> 0
B17: 2 | C17: PSV | D17: ='Kryci_list 11106'!D17 -> 0 | E17: ='Kryci_list 11106'!E17 -> 0 | F17: ='Kryci_list 11106'!F17 -> 0 | G17: 7 | H17: Kompletačná činnosť | J17: =Rekapitulácia!E8 -> 0
B18: 3 | C18: MONT | D18: ='Kryci_list 11106'!D18 -> 0 | E18: ='Kryci_list 11106'!E18 -> 0 | F18: ='Kryci_list 11106'!F18 -> 0 | G18: 8 | H18: HZS | J18: =Rekapitulácia!D8 -> 0
B19: 4 | G19: 9
B20: 5 | C20: Spolu | F20: =SUM(F16:F19) -> 0 | G20: 10 | H20: Spolu | J20: =SUM(J16:J19) -> 0
B21: C | C21: VRN | G21: D | H21: VRN
B22: 11 | C22: Zariadenie staveniska | F22: ='Kryci_list 11106'!F22 -> 0 | G22: 16 | H22: Mimoriadne sťaž.podmienky | J22: ='Kryci_list 11106'!J22 -> 0
B23: 12 | C23: Územie so sťaž. podmienk. | F23: ='Kryci_list 11106'!F23 -> 0 | G23: 17 | H23: Horské oblasti | J23: ='Kryci_list 11106'!J23 -> 0
B24: 13 | C24: Prevádzkové vplyvy | F24: ='Kryci_list 11106'!F24 -> 0 | G24: 18 | H24: Mimostavenisková doprava | J24: ='Kryci_list 11106'!J24 -> 0
B25: 14 | G25: 19
B26: 15 | G26: 20 | H26: Spolu | J26: =SUM(J22:J25)+SUM(F22:F25) -> 0
C27: Projektant,rozpočtár | G27: E | H27: Celkové náklady
G28: 21 | H28: Súčet riadkov 5,10,15,20 | J28: =F20+J20+F26+J26 -> 0
G29: 22 | H29: DPH 20% z | I29: =Rekapitulácia!B9 -> 0 | J29: =ROUND(((ROUND(I29,2)*20)/100),2) -> 0
G30: 23 | H30: DPH 0% z | I30: =Rekapitulácia!B10 -> 0 | J30: =ROUND(((ROUND(I30,2)*0)/100),2) -> 0
G31: 24 | H31: Spolu | J31: =SUM(J28:J30) -> 0
G32: F
D33: Odberateľ | H33: Dodávateľ

Sheet Kryci_list 11106
F1: Krycí list rozpočtu | W1: 30.126
B2: Stavba Oprava miestnej komunikácie v obci Čičava | G2: Miesto:
B3: Objekt Vlastný
I4: Ks:
B5: Zákazka: | F5: Spracoval: | I5: Dňa | J5: 19.05.2016
B6: Odberateľ: Obec Čičava | G6: IČO:
G7: DIČ:
B8: Dodávateľ: | G8: IČO:
G9: DIČ:
B10: Projektant: | G10: IČO:
G11: DIČ:
B15: A | C15: ZRN | D15: Montáž | E15: Materiál | F15: ZRN spolu | G15: B | H15: Ďalšie náklady
B16: 1 | C16: HSV | D16: ='Rekap 11106'!B16 -> 0 | E16: ='Rekap 11106'!C16 -> 0 | F16: ='Rekap 11106'!D16 -> 0 | G16: 6 | H16: Ostatné náklady | J16: 0
B17: 2 | C17: PSV | G17: 7 | H17: Kompletačná činnosť | J17: ='SO 11106'!Z55 -> 0
B18: 3 | C18: MONT | G18: 8 | H18: HZS | J18: 0
B19: 4 | G19: 9
B20: 5 | C20: Spolu | F20: =SUM(F16:F19) -> 0 | G20: 10 | H20: Spolu | J20: =SUM(J16:J19) -> 0
B21: C | C21: VRN | G21: D | H21: VRN
B22: 11 | C22: Zariadenie staveniska | E22: 0% z [H+P+M] | F22: =((F16*U22*0)+(F17*V22*0)+(F18*W22*0))/100 -> 0 | G22: 16 | H22: Mimoriadne sťaž.podmienky | I22: 0% z [H+P+M] | J22: =((F16*X22*0)+(F17*Y22*0)+(F18*Z22*0))/100 -> 0 | U22: 1 | V22: 1 | W22: 1 | X22: 1 | Y22: 1 | Z22: 1
B23: 12 | C23: Územie so sťaž. podmienk. | E23: 0% z [H+P] | F23: =((F16*U23*0)+(F17*V23*0)+(F18*W23*0))/100 -> 0 | G23: 17 | H23: Horské oblasti | I23: 0% z [H+P+M] | J23: =((F16*X23*0)+(F17*Y23*0)+(F18*Z23*0))/100 -> 0 | U23: 1 | V23: 1 | W23: 0 | X23: 1 | Y23: 1 | Z23: 1
B24: 13 | C24: Prevádzkové vplyvy | E24: 0% z [H+P+M] | F24: =((F16*U24*0)+(F17*V24*0)+(F18*W24*0))/100 -> 0 | G24: 18 | H24: Mimostavenisková doprava | I24: 0% z [H+P] | J24: =((F16*X24*0)+(F17*Y24*0)+(F18*Z24*0))/100 -> 0 | U24: 1 | V24: 1 | W24: 1 | X24: 1 | Y24: 1 | Z24: 0
B25: 14 | G25: 19
B26: 15 | G26: 20 | H26: Spolu | J26: =SUM(J22:J25)+SUM(F22:F25) -> 0
C27: Projektant,rozpočtár | G27: E | H27: Celkové náklady
G28: 21 | H28: Súčet riadkov 5,10,15,20 | J28: =F20+J20+F26+J26 -> 0
G29: 22 | H29: DPH 20% z | I29: =J28-SUM('SO 11106'!K9:'SO 11106'!K54) -> 0 | J29: =ROUND(((ROUND(I29,2)*20)/100),2) -> 0
G30: 23 | H30: DPH 0% z | I30: =SUM('SO 11106'!K9:'SO 11106'!K54) -> 0 | J30: =ROUND(((ROUND(I30,2)*0)/100),2) -> 0
G31: 24 | H31: Spolu | J31: =SUM(J28:J30) -> 0
G32: F
D33: Odberateľ | G33: 26 | H33: Dodávateľ

Sheet Rekap 11106
A1: Odberateľ: Obec Čičava | D1: Spracoval: | W1: 30.126
A2: Projektant: | D2: Ks:
A3: Dodávateľ: | D3: Dátum: 19.05.2016
A4: Stavba Oprava miestnej komunikácie v obci Čičava
A5: Objekt Vlastný
A8: Prehľad rozpočtových nákladov
A9: Oddiel | B9: Montáž | C9: Materiál | D9: Spolu | E9: Hmotnosť (T) | F9: Suť (T)
A10: Práce HSV
A11: ZEMNÉ PRÁCE | B11: ='SO 11106'!L19 -> 0 | C11: ='SO 11106'!M19 -> 0 | D11: ='SO 11106'!I19 -> 0 | E11: ='SO 11106'!P19 -> 0 | F11: ='SO 11106'!S19 -> 91.79
A12: VODOROVNÉ KONŠTRUKCIE | B12: ='SO 11106'!L23 -> 0 | C12: ='SO 11106'!M23 -> 0 | D12: ='SO 11106'!I23 -> 0 | E12: ='SO 11106'!P23 -> 4.43 | F12: ='SO 11106'!S23 -> 0
A13: SPEVNENÉ PLOCHY | B13: ='SO 11106'!L33 -> 0 | C13: ='SO 11106'!M33 -> 0 | D13: ='SO 11106'!I33 -> 0 | E13: ='SO 11106'!P33 -> 312.42 | F13: ='SO 11106'!S33 -> 0
A14: OSTATNÉ PRÁCE | B14: ='SO 11106'!L47 -> 0 | C14: ='SO 11106'!M47 -> 0 | D14: ='SO 11106'!I47 -> 0 | E14: ='SO 11106'!P47 -> 24.69 | F14: ='SO 11106'!S47 -> 5.88
A15: PRESUNY HMÔT | B15: ='SO 11106'!L52 -> 0 | C15: ='SO 11106'!M52 -> 0 | D15: ='SO 11106'!I52 -> 0 | E15: ='SO 11106'!P52 -> 0 | F15: ='SO 11106'!S52 -> 0
A16: Práce HSV | B16: ='SO 11106'!L54 -> 0 | C16: ='SO 11106'!M54 -> 0 | D16: ='SO 11106'!I54 -> 0 | E16: ='SO 11106'!P54 -> 341.54 | F16: ='SO 11106'!S54 -> 97.67
A18: Celkom | B18: ='SO 11106'!L55 -> 0 | C18: ='SO 11106'!M55 -> 0 | D18: ='SO 11106'!I55 -> 0 | E18: ='SO 11106'!P55 -> 341.54 | F18: ='SO 11106'!S55 -> 97.67

Sheet SO 11106
B1: Odberateľ: Obec Čičava | E1: Spracoval: | W1: 30.126
B2: Projektant: | E2: Ks:
B3: Dodávateľ: | E3: Dátum: 19.05.2016
B4: Stavba Oprava miestnej komunikácie v obci Čičava
B5: Objekt Vlastný
B7: Prehľad rozpočtových nákladov
A8: Por.č. | B8: Cenník | C8: Kód položky | D8: Názov | E8: Mj | F8: Množstvo | G8: Montáž | H8: Materiál | I8: Cena celkom | P8: Hmotnosť | S8: Suť
D9: Práce HSV
D10: ZEMNÉ PRÁCE
B11: 1/A 1 | C11: 132201201 | D11: Výkop ryhy šírky 600-2000mm horn.3 do 100m3 | E11: m3 | F11: 48 | I11: =ROUND(F11*(G11+H11),2) -> 0 | J11: =ROUND(F11*(N11),2) -> 689.76 | K11: =ROUND(F11*(O11),2) -> 0 | L11: =ROUND(F11*(G11+H11),2) -> 0 | N11: 14.37 | P11: =ROUND(F11*(R11),3) -> 0 | R11: 0 | S11: =ROUND(F11*(X11),3) -> 0 | X11: 0 | Z11: 0
B12: 1/A 1 | C12: 132201209 | D12: Príplatok k cenám za lepivosť horniny 3 | E12: m3 | F12: 48 | I12: =ROUND(F12*(G12+H12),2) -> 0 | J12: =ROUND(F12*(N12),2) -> 38.88 | K12: =ROUND(F12*(O12),2) -> 0 | L12: =ROUND(F12*(G12+H12),2) -> 0 | N12: 0.81 | P12: =ROUND(F12*(R12),3) -> 0 | R12: 0 | S12: =ROUND(F12*(X12),3) -> 0 | X12: 0 | Z12: 0
B13: 1/A 1 | C13: 162501102 | D13: Vodorovné premiestnenie výkopku tr.1-4 do 3000 m | E13: m3 | F13: 102 | I13: =ROUND(F13*(G13+H13),2) -> 0 | J13: =ROUND(F13*(N13),2) -> 475.32 | K13: =ROUND(F13*(O13),2) -> 0 | L13: =ROUND(F13*(G13+H13),2) -> 0 | N13: 4.66 | P13: =ROUND(F13*(R13),3) -> 0 | R13: 0 | S13: =ROUND(F13*(X13),3) -> 0 | X13: 0 | Z13: 0
B14: 1/A 1 | C14: 171201101 | D14: Uloženie sypaniny do násypov s rozprestretím sypaniny vo vrstvách a s hrubým urovnaním nezhutnených | E14: m3 | F14: 102 | I14: =ROUND(F14*(G14+H14),2) -> 0 | J14: =ROUND(F14*(N14),2) -> 104.04 | K14: =ROUND(F14*(O14),2) -> 0 | L14: =ROUND(F14*(G14+H14),2) -> 0 | N14: 1.02 | P14: =ROUND(F14*(R14),3) -> 0 | R14: 0 | S14: =ROUND(F14*(X14),3) -> 0 | X14: 0 | Z14: 0
B15: 1/A 2 | C15: 122202201 | D15: Odkopávka a prekopávka nezapažená pre cesty, v hornine 3 do 100 m3 | E15: m3 | F15: 54 | I15: =ROUND(F15*(G15+H15),2) -> 0 | J15: =ROUND(F15*(N15),2) -> 252.18 | K15: =ROUND(F15*(O15),2) -> 0 | L15: =ROUND(F15*(G15+H15),2) -> 0 | N15: 4.67 | P15: =ROUND(F15*(R15),3) -> 0 | R15: 0 | S15: =ROUND(F15*(X15),3) -> 0 | X15: 0 | Z15: 0
B16: 1/A 2 | C16: 122202209 | D16: Odkopávky a prekopávky nezapažené pre cesty. Príplatok za lepivosť horniny 3 | E16: m3 | F16: 54 | I16: =ROUND(F16*(G16+H16),2) -> 0 | J16: =ROUND(F16*(N16),2) -> 45.9 | K16: =ROUND(F16*(O16),2) -> 0 | L16: =ROUND(F16*(G16+H16),2) -> 0 | N16: 0.85 | P16: =ROUND(F16*(R16),3) -> 0 | R16: 0 | S16: =ROUND(F16*(X16),3) -> 0 | X16: 0 | Z16: 0
B17: 221/B 1 | C17: 113107112 | D17: Odstránenie podkladu alebo krytu v ploche do 200m2 z kameniva ťaženého,hr.100-200mm, 0,240t | E17: m2 | F17: 7.2 | I17: =ROUND(F17*(G17+H17),2) -> 0 | J17: =ROUND(F17*(N17),2) -> 23.33 | K17: =ROUND(F17*(O17),2) -> 0 | L17: =ROUND(F17*(G17+H17),2) -> 0 | N17: 3.24 | P17: =ROUND(F17*(R17),3) -> 0 | R17: 0 | S17: =ROUND(F17*(X17),3) -> 1.728 | X17: 0.24 | Z17: 0
B18: 221/B 1 | C18: 113107243 | D18: Odstránenie podkladu alebo krytu asfaltového nad 200 m2,hr.nad 100 do 150 mm 0,316 t | E18: m2 | F18: 285 | I18: =ROUND(F18*(G18+H18),2) -> 0 | J18: =ROUND(F18*(N18),2) -> 624.15 | K18: =ROUND(F18*(O18),2) -> 0 | L18: =ROUND(F18*(G18+H18),2) -> 0 | N18: 2.19 | P18: =ROUND(F18*(R18),3) -> 0 | R18: 0 | S18: =ROUND(F18*(X18),3) -> 90.06 | X18: 0.316 | Z18: 0
D19: ZEMNÉ PRÁCE | I19: =ROUND((SUM(I10:I18))/1,2) -> 0 | L19: =ROUND((SUM(L10:L18))/1,2) -> 0 | M19: =ROUND((SUM(M10:M18))/1,2) -> 0 | P19: =ROUND((SUM(P10:P18))/1,2) -> 0 | S19: =ROUND((SUM(S10:S18))/1,2) -> 91.79
D21: VODOROVNÉ KONŠTRUKCIE
B22: 271/A 1 | C22: 451541111 | D22: Lôžko pod potrubie, stoky a drobné objekty, v otvorenom výkope zo štrkodrvy 0-63 mm | E22: m3 | F22: 2.6 | I22: =ROUND(F22*(G22+H22),2) -> 0 | J22: =ROUND(F22*(N22),2) -> 79.07 | K22: =ROUND(F22*(O22),2) -> 0 | L22: =ROUND(F22*(G22+H22),2) -> 0 | N22: 30.41 | P22: =ROUND(F22*(R22),3) -> 4.429 | R22: 1.7034 | S22: =ROUND(F22*(X22),3) -> 0 | X22: 0 | Z22: 0
D23: VODOROVNÉ KONŠTRUKCIE | I23: =ROUND((SUM(I21:I22))/1,2) -> 0 | L23: =ROUND((SUM(L21:L22))/1,2) -> 0 | M23: =ROUND((SUM(M21:M22))/1,2) -> 0 | P23: =ROUND((SUM(P21:P22))/1,2) -> 4.43 | S23: =ROUND((SUM(S21:S22))/1,2) -> 0
D25: SPEVNENÉ PLOCHY
B26: 221/A 1 | C26: 564752113 | D26: Podklad alebo kryt z kameniva hrubého drveného veľ. 32-63mm(vibr.štrk) po zhut.hr. 170 mm | E26: m2 | F26: 360 | I26: =ROUND(F26*(G26+H26),2) -> 0 | J26: =ROUND(F26*(N26),2) -> 2480.4 | K26: =ROUND(F26*(O26),2) -> 0 | L26: =ROUND(F26*(G26+H26),2) -> 0 | N26: 6.89 | P26: =ROUND(F26*(R26),3) -> 149.508 | R26: 0.4153 | S26: =ROUND(F26*(X26),3) -> 0 | X26: 0 | Z26: 0
B27: 221/A 1 | C27: 569711113 | D27: Spevnenie krajníc alebo komun. pre peších s rozpr. a zhutnením, kamenivom drveným hr. 70 mm | E27: m2 | F27: 420 | I27: =ROUND(F27*(G27+H27),2) -> 0 | J27: =ROUND(F27*(N27),2) -> 1104.6 | K27: =ROUND(F27*(O27),2) -> 0 | L27: =ROUND(F27*(G27+H27),2) -> 0 | N27: 2.63 | P27: =ROUND(F27*(R27),3) -> 58.867 | R27: 0.14016 | S27: =ROUND(F27*(X27),3) -> 0 | X27: 0 | Z27: 0
B28: 221/A 1 | C28: 573111111 | D28: Postrek asfaltový infiltračný s posypom kamenivom z asfaltu cestného v množstve 0,60 kg/m2 | E28: m2 | F28: 2520 | I28: =ROUND(F28*(G28+H28),2) -> 0 | J28: =ROUND(F28*(N28),2) -> 982.8 | K28: =ROUND(F28*(O28),2) -> 0 | L28: =ROUND(F28*(G28+H28),2) -> 0 | N28: 0.39 | P28: =ROUND(F28*(R28),3) -> 14.137 | R28: 0.00561 | S28: =ROUND(F28*(X28),3) -> 0 | X28: 0 | Z28: 0
B29: 221/C 1 | C29: 566901111 | D29: Upravenie podkladu po prekopoch pre inž. siete so zhutnením kamenivom ťaženým alebo štrkopieskom | E29: m3 | F29: 1.08 | I29: =ROUND(F29*(G29+H29),2) -> 0 | J29: =ROUND(F29*(N29),2) -> 18.09 | K29: =ROUND(F29*(O29),2) -> 0 | L29: =ROUND(F29*(G29+H29),2) -> 0 | N29: 16.75 | P29: =ROUND(F29*(R29),3) -> 1.822 | R29: 1.6867 | S29: =ROUND(F29*(X29),3) -> 0 | X29: 0 | Z29: 0
B30: 221/C 1 | C30: 566903111 | D30: Upravenie podkladu po prekopoch pre inžinierske siete so zhutnením kamenivom hrubým drveným | E30: t | F30: 1.836 | I30: =ROUND(F30*(G30+H30),2) -> 0 | J30: =ROUND(F30*(N30),2) -> 24.33 | K30: =ROUND(F30*(O30),2) -> 0 | L30: =ROUND(F30*(G30+H30),2) -> 0 | N30: 13.25 | P30: =ROUND(F30*(R30),3) -> 1.854 | R30: 1.01 | S30: =ROUND(F30*(X30),3) -> 0 | X30: 0 | Z30: 0
B31: 221/C 1 | C31: 572731111 | D31: Vyspravenie výtlkov krytu asfalt. zmesou zo štrkop. obal. asfaltom, pri spotrebe na 1km komun. do 10 t | E31: t | F31: 85 | I31: =ROUND(F31*(G31+H31),2) -> 0 | J31: =ROUND(F31*(N31),2) -> 13315.25 | K31: =ROUND(F31*(O31),2) -> 0 | L31: =ROUND(F31*(G31+H31),2) -> 0 | N31: 156.65 | P31: =ROUND(F31*(R31),3) -> 86.233 | R31: 1.0145 | S31: =ROUND(F31*(X31),3) -> 0 | X31: 0 | Z31: 0
B32: R/RE | C32: 577144271 | D32: Asfaltový betón vrstva obrusná AC 11 O v pruhu š. 3 m z modifik. asfaltu tr. II, po zhutnení hr. 50 mm | E32: m2 | F32: 2520 | I32: =ROUND(F32*(G32+H32),2) -> 0 | J32: =ROUND(F32*(N32),2) -> 29232 | K32: =ROUND(F32*(O32),2) -> 0 | L32: =ROUND(F32*(G32+H32),2) -> 0 | N32: 11.6 | P32: =ROUND(F32*(R32),3) -> 0 | R32: 0 | S32: =ROUND(F32*(X32),3) -> 0 | X32: 0 | Z32: 0
D33: SPEVNENÉ PLOCHY | I33: =ROUND((SUM(I25:I32))/1,2) -> 0 | L33: =ROUND((SUM(L25:L32))/1,2) -> 0 | M33: =ROUND((SUM(M25:M32))/1,2) -> 0 | P33: =ROUND((SUM(P25:P32))/1,2) -> 312.42 | S33: =ROUND((SUM(S25:S32))/1,2) -> 0
D35: OSTATNÉ PRÁCE
B36: 13/B 1 | C36: 979081111 | D36: Odvoz sutiny a vybúraných hmôt na skládku do 1 km | E36: t | F36: 97.668 | I36: =ROUND(F36*(G36+H36),2) -> 0 | J36: =ROUND(F36*(N36),2) -> 1240.38 | K36: =ROUND(F36*(O36),2) -> 0 | L36: =ROUND(F36*(G36+H36),2) -> 0 | N36: 12.7 | P36: =ROUND(F36*(R36),3) -> 0 | R36: 0 | S36: =ROUND(F36*(X36),3) -> 0 | X36: 0 | Z36: 0
B37: 13/B 1 | C37: 979081121 | D37: Odvoz sutiny a vybúraných hmôt na skládku za každý ďalší 1 km | E37: t | F37: 1367.352 | I37: =ROUND(F37*(G37+H37),2) -> 0 | J37: =ROUND(F37*(N37),2) -> 615.31 | K37: =ROUND(F37*(O37),2) -> 0 | L37: =ROUND(F37*(G37+H37),2) -> 0 | N37: 0.45 | P37: =ROUND(F37*(R37),3) -> 0 | R37: 0 | S37: =ROUND(F37*(X37),3) -> 0 | X37: 0 | Z37: 0
B38: 13/B 1 | C38: 979082111 | D38: Vnútrostavenisková doprava sutiny a vybúraných hmôt do 10 m | E38: t | F38: 97.668 | I38: =ROUND(F38*(G38+H38),2) -> 0 | J38: =ROUND(F38*(N38),2) -> 793.06 | K38: =ROUND(F38*(O38),2) -> 0 | L38: =ROUND(F38*(G38+H38),2) -> 0 | N38: 8.12 | P38: =ROUND(F38*(R38),3) -> 0 | R38: 0 | S38: =ROUND(F38*(X38),3) -> 0 | X38: 0 | Z38: 0
B39: 13/B 1 | C39: 979089011 | D39: Poplatok za skladovanie - betón, tehly, dlaždice, (17 01) nebezpečné | E39: t | F39: 97.668 | I39: =ROUND(F39*(G39+H39),2) -> 0 | J39: =ROUND(F39*(N39),2) -> 2051.03 | K39: =ROUND(F39*(O39),2) -> 0 | L39: =ROUND(F39*(G39+H39),2) -> 0 | N39: 21 | P39: =ROUND(F39*(R39),3) -> 0 | R39: 0 | S39: =ROUND(F39*(X39),3) -> 0 | X39: 0 | Z39: 0
B40: 221/A 1 | C40: 919411111 | D40: Čelo priepustu z betónu prostého z rúr DN 300 až DN 500 mm | E40: ks | F40: 2 | I40: =ROUND(F40*(G40+H40),2) -> 0 | J40: =ROUND(F40*(N40),2) -> 587.38 | K40: =ROUND(F40*(O40),2) -> 0 | L40: =ROUND(F40*(G40+H40),2) -> 0 | N40: 293.69 | P40: =ROUND(F40*(R40),3) -> 12.783 | R40: 6.3913268 | S40: =ROUND(F40*(X40),3) -> 0 | X40: 0 | Z40: 0
B41: 221/A 1 | C41: 919535558 | D41: Obetónovanie rúrového priepustu betónom jednoduchým tr.C 20/25 | E41: m3 | F41: 5.2 | I41: =ROUND(F41*(G41+H41),2) -> 0 | J41: =ROUND(F41*(N41),2) -> 748.02 | K41: =ROUND(F41*(O41),2) -> 0 | L41: =ROUND(F41*(G41+H41),2) -> 0 | N41: 143.85 | P41: =ROUND(F41*(R41),3) -> 11.792 | R41: 2.26775 | S41: =ROUND(F41*(X41),3) -> 0 | X41: 0 | Z41: 0
B42: 221/A 1 | C42: 919541112 | D42: Zhotovenie priepustu alebo zjazdu z rúr plastových PE ryhovaných hrdlových alebo spojkových DN 400 mm | E42: m | F42: 6 | I42: =ROUND(F42*(G42+H42),2) -> 0 | J42: =ROUND(F42*(N42),2) -> 32.46 | K42: =ROUND(F42*(O42),2) -> 0 | L42: =ROUND(F42*(G42+H42),2) -> 0 | N42: 5.41 | P42: =ROUND(F42*(R42),3) -> 0 | R42: 0 | S42: =ROUND(F42*(X42),3) -> 0 | X42: 0 | Z42: 0
B43: 221/B 1 | C43: 919735113 | D43: Rezanie existujúceho asfaltového krytu alebo podkladu hľbky nad 100 do 150 mm | E43: m | F43: 380 | I43: =ROUND(F43*(G43+H43),2) -> 0 | J43: =ROUND(F43*(N43),2) -> 4943.8 | K43: =ROUND(F43*(O43),2) -> 0 | L43: =ROUND(F43*(G43+H43),2) -> 0 | N43: 13.01 | P43: =ROUND(F43*(R43),3) -> 0.026 | R43: 6.72e-05 | S43: =ROUND(F43*(X43),3) -> 0 | X43: 0 | Z43: 0
B44: 221/B 1 | C44: 966008112 | D44: Búranie rúrového priepustu, z rúr DN 300 do 500 mm, -0,98000t | E44: m | F44: 6 | I44: =ROUND(F44*(G44+H44),2) -> 0 | J44: =ROUND(F44*(N44),2) -> 294.96 | K44: =ROUND(F44*(O44),2) -> 0 | L44: =ROUND(F44*(G44+H44),2) -> 0 | N44: 49.16 | P44: =ROUND(F44*(R44),3) -> 0 | R44: 0 | S44: =ROUND(F44*(X44),3) -> 5.88 | X44: 0.98 | Z44: 0
...
